BEGIN:VCALENDAR
VERSION:2.0
PRODID:-//Talon Range &amp; Training - ECPv6.15.20//NONSGML v1.0//EN
CALSCALE:GREGORIAN
METHOD:PUBLISH
X-WR-CALNAME:Talon Range &amp; Training
X-ORIGINAL-URL:https://www.talonrange.com
X-WR-CALDESC:Events for Talon Range &amp; Training
REFRESH-INTERVAL;VALUE=DURATION:PT1H
X-Robots-Tag:noindex
X-PUBLISHED-TTL:PT1H
BEGIN:VTIMEZONE
TZID:America/New_York
BEGIN:DAYLIGHT
TZOFFSETFROM:-0500
TZOFFSETTO:-0400
TZNAME:EDT
DTSTART:20250309T070000
END:DAYLIGHT
BEGIN:STANDARD
TZOFFSETFROM:-0400
TZOFFSETTO:-0500
TZNAME:EST
DTSTART:20251102T060000
END:STANDARD
BEGIN:DAYLIGHT
TZOFFSETFROM:-0500
TZOFFSETTO:-0400
TZNAME:EDT
DTSTART:20260308T070000
END:DAYLIGHT
BEGIN:STANDARD
TZOFFSETFROM:-0400
TZOFFSETTO:-0500
TZNAME:EST
DTSTART:20261101T060000
END:STANDARD
BEGIN:DAYLIGHT
TZOFFSETFROM:-0500
TZOFFSETTO:-0400
TZNAME:EDT
DTSTART:20270314T070000
END:DAYLIGHT
BEGIN:STANDARD
TZOFFSETFROM:-0400
TZOFFSETTO:-0500
TZNAME:EST
DTSTART:20271107T060000
END:STANDARD
END:VTIMEZONE
BEGIN:VEVENT
DTSTART;TZID=America/New_York:20260207T083000
DTEND;TZID=America/New_York:20260207T140000
DTSTAMP:20260419T123043
CREATED:20170629T222732Z
LAST-MODIFIED:20260102T182355Z
UID:2074-1770453000-1770472800@www.talonrange.com
SUMMARY:USPSA Match (Midway FL)
DESCRIPTION:United States Practical Shooting Association (USPSA) Match – Practical shooting is a sport that evolved from experimentation with handguns used for self-defense. The researchers were an international group of private individuals\, law enforcement officers\, and military people generally operating independently of each other\, challenging the then-accepted standards of technique\, training practices\, and equipment.
URL:https://www.talonrange.com/event/uspsa-2019-08-03/
LOCATION:Talon Range\, 550 Commerce Blvd\, Midway\, FL\, 32343\, United States
CATEGORIES:Competitions,Range Events
ATTACH;FMTTYPE=image/png:https://www.talonrange.com/wp-content/uploads/2017/06/USPSA.png
ORGANIZER;CN="Tallahassee Practical Shooters":MAILTO:bearden3006@gmail.com
END:VEVENT
END:VCALENDAR