BEGIN:VCALENDAR
VERSION:2.0
PRODID:-//Talon Range &amp; Training - ECPv6.15.20//NONSGML v1.0//EN
CALSCALE:GREGORIAN
METHOD:PUBLISH
X-WR-CALNAME:Talon Range &amp; Training
X-ORIGINAL-URL:https://www.talonrange.com
X-WR-CALDESC:Events for Talon Range &amp; Training
REFRESH-INTERVAL;VALUE=DURATION:PT1H
X-Robots-Tag:noindex
X-PUBLISHED-TTL:PT1H
BEGIN:VTIMEZONE
TZID:America/New_York
BEGIN:DAYLIGHT
TZOFFSETFROM:-0500
TZOFFSETTO:-0400
TZNAME:EDT
DTSTART:20220313T070000
END:DAYLIGHT
BEGIN:STANDARD
TZOFFSETFROM:-0400
TZOFFSETTO:-0500
TZNAME:EST
DTSTART:20221106T060000
END:STANDARD
BEGIN:DAYLIGHT
TZOFFSETFROM:-0500
TZOFFSETTO:-0400
TZNAME:EDT
DTSTART:20230312T070000
END:DAYLIGHT
BEGIN:STANDARD
TZOFFSETFROM:-0400
TZOFFSETTO:-0500
TZNAME:EST
DTSTART:20231105T060000
END:STANDARD
BEGIN:DAYLIGHT
TZOFFSETFROM:-0500
TZOFFSETTO:-0400
TZNAME:EDT
DTSTART:20240310T070000
END:DAYLIGHT
BEGIN:STANDARD
TZOFFSETFROM:-0400
TZOFFSETTO:-0500
TZNAME:EST
DTSTART:20241103T060000
END:STANDARD
END:VTIMEZONE
BEGIN:VEVENT
DTSTART;TZID=America/New_York:20230820T090000
DTEND;TZID=America/New_York:20230820T150000
DTSTAMP:20260423T165123
CREATED:20230628T185212Z
LAST-MODIFIED:20230628T185212Z
UID:3293-1692522000-1692543600@www.talonrange.com
SUMMARY:Steel Challenge (Dothan)
DESCRIPTION:The Steel Challenge is a speed shooting competition governed by the Steel Challenge Shooting Association (SCSA) that consists of eight standardized stages with steel targets in three sizes; small circular\, large circular and square targets.
URL:https://www.talonrange.com/event/steel-challenge-dothan-3/
LOCATION:Talon Range of Dothan\, 372 Co Rd 560\, Midland City\, AL\, 36350\, United States
CATEGORIES:Competitions
ATTACH;FMTTYPE=image/jpeg:https://www.talonrange.com/wp-content/uploads/2017/11/steellogo.jpg
END:VEVENT
END:VCALENDAR