BEGIN:VCALENDAR
VERSION:2.0
PRODID:-//Talon Range &amp; Training - ECPv6.15.20//NONSGML v1.0//EN
CALSCALE:GREGORIAN
METHOD:PUBLISH
X-ORIGINAL-URL:https://www.talonrange.com
X-WR-CALDESC:Events for Talon Range &amp; Training
REFRESH-INTERVAL;VALUE=DURATION:PT1H
X-Robots-Tag:noindex
X-PUBLISHED-TTL:PT1H
BEGIN:VTIMEZONE
TZID:America/New_York
BEGIN:DAYLIGHT
TZOFFSETFROM:-0500
TZOFFSETTO:-0400
TZNAME:EDT
DTSTART:20230312T070000
END:DAYLIGHT
BEGIN:STANDARD
TZOFFSETFROM:-0400
TZOFFSETTO:-0500
TZNAME:EST
DTSTART:20231105T060000
END:STANDARD
BEGIN:DAYLIGHT
TZOFFSETFROM:-0500
TZOFFSETTO:-0400
TZNAME:EDT
DTSTART:20240310T070000
END:DAYLIGHT
BEGIN:STANDARD
TZOFFSETFROM:-0400
TZOFFSETTO:-0500
TZNAME:EST
DTSTART:20241103T060000
END:STANDARD
BEGIN:DAYLIGHT
TZOFFSETFROM:-0500
TZOFFSETTO:-0400
TZNAME:EDT
DTSTART:20250309T070000
END:DAYLIGHT
BEGIN:STANDARD
TZOFFSETFROM:-0400
TZOFFSETTO:-0500
TZNAME:EST
DTSTART:20251102T060000
END:STANDARD
END:VTIMEZONE
BEGIN:VEVENT
DTSTART;TZID=America/New_York:20240413T080000
DTEND;TZID=America/New_York:20240413T170000
DTSTAMP:20260423T143243
CREATED:20201217T024255Z
LAST-MODIFIED:20240112T204036Z
UID:2851-1712995200-1713027600@www.talonrange.com
SUMMARY:Tactical Shotgun
DESCRIPTION:Students will learn proper grip and stance\, weapon manipulation\, administrative loading and unloading\, combat loading\, malfunction clearing\, load selection and associated gear selection. \nStudents will need: \n\nA safe\, functioning pump or semi auto shotgun\, preferably in 12ga\nSome way to carry extra ammo — a sidesaddle carrier\, belt carriers\, vest\, dump pouch\, etc.\nEye and hearing protection\n20 rounds of slug\n10 rounds of buckshot\n100 rounds of birdshot\nA sling would be helpful\, but is not essential\n\n\nTalon will have ammunition available for sale. Contact us to reserve a space in the next class. \nThis is an eight-hour course and is limited to 12 students. Lunch is provided\, but you are also welcome to bring your own.
URL:https://www.talonrange.com/event/tactical-shotgun-2/
LOCATION:Talon Range\, 550 Commerce Blvd\, Midway\, FL\, 32343\, United States
CATEGORIES:Class
END:VEVENT
END:VCALENDAR