BEGIN:VCALENDAR
VERSION:2.0
PRODID:-//Talon Range &amp; Training - ECPv6.15.20//NONSGML v1.0//EN
CALSCALE:GREGORIAN
METHOD:PUBLISH
X-WR-CALNAME:Talon Range &amp; Training
X-ORIGINAL-URL:https://www.talonrange.com
X-WR-CALDESC:Events for Talon Range &amp; Training
REFRESH-INTERVAL;VALUE=DURATION:PT1H
X-Robots-Tag:noindex
X-PUBLISHED-TTL:PT1H
BEGIN:VTIMEZONE
TZID:UTC
BEGIN:STANDARD
TZOFFSETFROM:+0000
TZOFFSETTO:+0000
TZNAME:UTC
DTSTART:20220101T000000
END:STANDARD
END:VTIMEZONE
BEGIN:VEVENT
DTSTART;TZID=UTC:20230610T080000
DTEND;TZID=UTC:20230610T120000
DTSTAMP:20260424T085414
CREATED:20200828T225734Z
LAST-MODIFIED:20221130T192432Z
UID:2731-1686384000-1686398400@www.talonrange.com
SUMMARY:Basic II
DESCRIPTION:Our Basic II course is an intermediate four hour course that is designed for people who have already taken a CCW class or just want to learn how to use their handgun. This class is taught from concealment and will require that the student brings their own weapon in their preferred method of carry. This course can be tailored to the needs of the student and due to the reduced class size can be done as a private function upon request. The course will cover- \n\nHandgun Shooting Fundamentals\nHandgun Draw Technique\nShooting From Retention\nHandgun Malfunctions\nEmergency and Tactical Reloads\nDiscussion on Gear Selection\n\nRequired Gear \n\nAt least 100 rounds of Handgun ammunition\nAt least one concealable handgun and method of carry\nAt least two spare magazines or speed loaders\nHearing and Eye Protection\n\nCost: $150.00
URL:https://www.talonrange.com/event/basic-ii-7/
LOCATION:Talon Range\, 550 Commerce Blvd\, Midway\, FL\, 32343\, United States
CATEGORIES:Class,Range Events
ATTACH;FMTTYPE=image/jpeg:https://www.talonrange.com/wp-content/uploads/2018/08/8211-Avery-firing.jpg
END:VEVENT
END:VCALENDAR