BEGIN:VCALENDAR
VERSION:2.0
PRODID:-//Talon Range &amp; Training - ECPv6.15.20//NONSGML v1.0//EN
CALSCALE:GREGORIAN
METHOD:PUBLISH
X-ORIGINAL-URL:https://www.talonrange.com
X-WR-CALDESC:Events for Talon Range &amp; Training
REFRESH-INTERVAL;VALUE=DURATION:PT1H
X-Robots-Tag:noindex
X-PUBLISHED-TTL:PT1H
BEGIN:VTIMEZONE
TZID:America/New_York
BEGIN:DAYLIGHT
TZOFFSETFROM:-0500
TZOFFSETTO:-0400
TZNAME:EDT
DTSTART:20210314T070000
END:DAYLIGHT
BEGIN:STANDARD
TZOFFSETFROM:-0400
TZOFFSETTO:-0500
TZNAME:EST
DTSTART:20211107T060000
END:STANDARD
BEGIN:DAYLIGHT
TZOFFSETFROM:-0500
TZOFFSETTO:-0400
TZNAME:EDT
DTSTART:20220313T070000
END:DAYLIGHT
BEGIN:STANDARD
TZOFFSETFROM:-0400
TZOFFSETTO:-0500
TZNAME:EST
DTSTART:20221106T060000
END:STANDARD
BEGIN:DAYLIGHT
TZOFFSETFROM:-0500
TZOFFSETTO:-0400
TZNAME:EDT
DTSTART:20230312T070000
END:DAYLIGHT
BEGIN:STANDARD
TZOFFSETFROM:-0400
TZOFFSETTO:-0500
TZNAME:EST
DTSTART:20231105T060000
END:STANDARD
END:VTIMEZONE
BEGIN:VEVENT
DTSTART;TZID=America/New_York:20221111T080000
DTEND;TZID=America/New_York:20221113T170000
DTSTAMP:20260424T214226
CREATED:20180829T003548Z
LAST-MODIFIED:20220616T171213Z
UID:1881-1668153600-1668358800@www.talonrange.com
SUMMARY:Talon Defender Enhanced Training
DESCRIPTION:The Talon Defender Series is the most comprehensive pistol specific course that Talon offers. Consisting of three separate three day courses that will give the student 72 hours of informative and challenging instruction. Each class will build on the class before it and will end with a proficiency test. \nTalon Defender – Enhanced – $500.00 \n\nUniversal Laws of Self Defense\nProtector Mindset and Situational Awareness\nExtensive Work On Handgun Malfunction\nExtensive Work On Transitions\nIntroduction to Movement\nConcealed Carry Threat Engagement\nDealing with Aftermath\nReality Based Training
URL:https://www.talonrange.com/event/talon-defender-enhanced-training-2018-12-14/
LOCATION:550 Commerce Blvd\, Midway\, FL\, 32343\, United States
CATEGORIES:Class,Range Events
END:VEVENT
END:VCALENDAR