BEGIN:VCALENDAR
VERSION:2.0
PRODID:-//Talon Range &amp; Training - ECPv6.15.20//NONSGML v1.0//EN
CALSCALE:GREGORIAN
METHOD:PUBLISH
X-ORIGINAL-URL:https://www.talonrange.com
X-WR-CALDESC:Events for Talon Range &amp; Training
REFRESH-INTERVAL;VALUE=DURATION:PT1H
X-Robots-Tag:noindex
X-PUBLISHED-TTL:PT1H
BEGIN:VTIMEZONE
TZID:America/New_York
BEGIN:DAYLIGHT
TZOFFSETFROM:-0500
TZOFFSETTO:-0400
TZNAME:EDT
DTSTART:20220313T070000
END:DAYLIGHT
BEGIN:STANDARD
TZOFFSETFROM:-0400
TZOFFSETTO:-0500
TZNAME:EST
DTSTART:20221106T060000
END:STANDARD
BEGIN:DAYLIGHT
TZOFFSETFROM:-0500
TZOFFSETTO:-0400
TZNAME:EDT
DTSTART:20230312T070000
END:DAYLIGHT
BEGIN:STANDARD
TZOFFSETFROM:-0400
TZOFFSETTO:-0500
TZNAME:EST
DTSTART:20231105T060000
END:STANDARD
BEGIN:DAYLIGHT
TZOFFSETFROM:-0500
TZOFFSETTO:-0400
TZNAME:EDT
DTSTART:20240310T070000
END:DAYLIGHT
BEGIN:STANDARD
TZOFFSETFROM:-0400
TZOFFSETTO:-0500
TZNAME:EST
DTSTART:20241103T060000
END:STANDARD
END:VTIMEZONE
BEGIN:VEVENT
DTSTART;TZID=America/New_York:20230513T080000
DTEND;TZID=America/New_York:20230513T120000
DTSTAMP:20260424T085233
CREATED:20200828T224455Z
LAST-MODIFIED:20221129T210835Z
UID:2729-1683964800-1683979200@www.talonrange.com
SUMMARY:Basic II
DESCRIPTION:Our Basic II course is an intermediate four hour course that is designed for people who have already taken a CCW class or just want to learn how to use their handgun. This class is taught from concealment and will require that the student brings their own weapon in their preferred method of carry. This course can be tailored to the needs of the student and due to the reduced class size can be done as a private function upon request. The course will cover- \n\nHandgun Shooting Fundamentals\nHandgun Draw Technique\nShooting From Retention\nHandgun Malfunctions\nEmergency and Tactical Reloads\nDiscussion on Gear Selection\n\nRequired Gear \n\nAt least 100 rounds of Handgun ammunition\nAt least one concealable handgun and method of carry\nAt least two spare magazines or speed loaders\nHearing and Eye Protection\n\nCost: $150.00
URL:https://www.talonrange.com/event/basic-ii-6/
LOCATION:Talon Range\, 550 Commerce Blvd\, Midway\, FL\, 32343\, United States
CATEGORIES:Class,Range Events
ATTACH;FMTTYPE=image/jpeg:https://www.talonrange.com/wp-content/uploads/2017/08/basic2.jpg
END:VEVENT
BEGIN:VEVENT
DTSTART;TZID=America/New_York:20230519T080000
DTEND;TZID=America/New_York:20230521T170000
DTSTAMP:20260424T085233
CREATED:20220510T221643Z
LAST-MODIFIED:20221206T185559Z
UID:3074-1684483200-1684688400@www.talonrange.com
SUMMARY:Talon Protector -Enhanced-
DESCRIPTION:The Talon Protector Series is the most comprehensive Tactical Carbine specific course that Talon offers. Consisting of three separate 3-day courses that will give the student 72 hours of informative and challenging instruction. Each class will build on the class before it and will end with a proficiency test. \nTalon Protector – Enhanced – $500.00 \n\nBasic Shooting Fundamentals\nRifle Zero / Different Types\nDisassembly / Assembly / Trouble Shooting Common Issues\nLegal Presentation\nTarget Anatomy\nEngagement Consideration\nState of Awareness / Situational Awareness\nMalfunctions\nStudents will shoot a wide variety of drills from various positions and distances.\n\nRequired Gear: \n\n800 rounds Rifle Ammo / 200 rounds Handgun Ammo.\nSemi Auto Rifle with detachable Box Magazine\nx4 Spare Magazines\nRifle Sling\nMethod of carrying spare magazines\nPistol and Holster\nSpare magazines for pistol\nBlack permanent Marker\nHearing and Eye Protection
URL:https://www.talonrange.com/event/talon-protector-enhanced-2/
LOCATION:Talon Range\, 550 Commerce Blvd\, Midway\, FL\, 32343\, United States
CATEGORIES:Class
END:VEVENT
END:VCALENDAR