BEGIN:VCALENDAR
VERSION:2.0
PRODID:-//Talon Range &amp; Training - ECPv6.15.20//NONSGML v1.0//EN
CALSCALE:GREGORIAN
METHOD:PUBLISH
X-ORIGINAL-URL:https://www.talonrange.com
X-WR-CALDESC:Events for Talon Range &amp; Training
REFRESH-INTERVAL;VALUE=DURATION:PT1H
X-Robots-Tag:noindex
X-PUBLISHED-TTL:PT1H
BEGIN:VTIMEZONE
TZID:America/New_York
BEGIN:DAYLIGHT
TZOFFSETFROM:-0500
TZOFFSETTO:-0400
TZNAME:EDT
DTSTART:20220313T070000
END:DAYLIGHT
BEGIN:STANDARD
TZOFFSETFROM:-0400
TZOFFSETTO:-0500
TZNAME:EST
DTSTART:20221106T060000
END:STANDARD
BEGIN:DAYLIGHT
TZOFFSETFROM:-0500
TZOFFSETTO:-0400
TZNAME:EDT
DTSTART:20230312T070000
END:DAYLIGHT
BEGIN:STANDARD
TZOFFSETFROM:-0400
TZOFFSETTO:-0500
TZNAME:EST
DTSTART:20231105T060000
END:STANDARD
BEGIN:DAYLIGHT
TZOFFSETFROM:-0500
TZOFFSETTO:-0400
TZNAME:EDT
DTSTART:20240310T070000
END:DAYLIGHT
BEGIN:STANDARD
TZOFFSETFROM:-0400
TZOFFSETTO:-0500
TZNAME:EST
DTSTART:20241103T060000
END:STANDARD
END:VTIMEZONE
BEGIN:VEVENT
DTSTART;TZID=America/New_York:20230210T080000
DTEND;TZID=America/New_York:20230212T170000
DTSTAMP:20260424T141506
CREATED:20190205T230044Z
LAST-MODIFIED:20221206T185103Z
UID:2333-1676016000-1676221200@www.talonrange.com
SUMMARY:Talon Defender Professional (450)
DESCRIPTION:The Talon Defender Professional (450) course is the third and final culmination of the series. It like the previous two courses will be a three day class that is shot from concealment and ending in a pass or fail qualification. This course will build off of the foundations from the previous two classes and introduce new material. \nTopics covered will be: \n-Refresher on handgun malfunctions and transitions \n-Self aid and buddy aid trauma care \n-Additional work on movement with stealth and team work concepts \n-Low light engagement techniques \n-Family protection techniques \n-Reality based training \n-As always\, legal and mindset discussions throughout the course \nThe student will need to provide a current certificate for the 350 course in order to participate in the 450. The student will need to bring a conceal carry pistol with at least three magazines or speed loaders. We recommend that you bring more. A concealable method of carrying the pistol. A pocket Flashlight and 1000 rounds of ammunition is recommended. The course is currently designed to use 850 rounds.
URL:https://www.talonrange.com/event/talon-defender-professional-450/
LOCATION:Talon Range\, 550 Commerce Blvd\, Midway\, FL\, 32343\, United States
CATEGORIES:Class
ATTACH;FMTTYPE=image/jpeg:https://www.talonrange.com/wp-content/uploads/2018/08/9420-TalonTraining.jpg
END:VEVENT
END:VCALENDAR