BEGIN:VCALENDAR
VERSION:2.0
PRODID:-//Talon Range &amp; Training - ECPv6.15.20//NONSGML v1.0//EN
CALSCALE:GREGORIAN
METHOD:PUBLISH
X-ORIGINAL-URL:https://www.talonrange.com
X-WR-CALDESC:Events for Talon Range &amp; Training
REFRESH-INTERVAL;VALUE=DURATION:PT1H
X-Robots-Tag:noindex
X-PUBLISHED-TTL:PT1H
BEGIN:VTIMEZONE
TZID:America/New_York
BEGIN:DAYLIGHT
TZOFFSETFROM:-0500
TZOFFSETTO:-0400
TZNAME:EDT
DTSTART:20250309T070000
END:DAYLIGHT
BEGIN:STANDARD
TZOFFSETFROM:-0400
TZOFFSETTO:-0500
TZNAME:EST
DTSTART:20251102T060000
END:STANDARD
BEGIN:DAYLIGHT
TZOFFSETFROM:-0500
TZOFFSETTO:-0400
TZNAME:EDT
DTSTART:20260308T070000
END:DAYLIGHT
BEGIN:STANDARD
TZOFFSETFROM:-0400
TZOFFSETTO:-0500
TZNAME:EST
DTSTART:20261101T060000
END:STANDARD
BEGIN:DAYLIGHT
TZOFFSETFROM:-0500
TZOFFSETTO:-0400
TZNAME:EDT
DTSTART:20270314T070000
END:DAYLIGHT
BEGIN:STANDARD
TZOFFSETFROM:-0400
TZOFFSETTO:-0500
TZNAME:EST
DTSTART:20271107T060000
END:STANDARD
END:VTIMEZONE
BEGIN:VTIMEZONE
TZID:UTC
BEGIN:STANDARD
TZOFFSETFROM:+0000
TZOFFSETTO:+0000
TZNAME:UTC
DTSTART:20250101T000000
END:STANDARD
END:VTIMEZONE
BEGIN:VEVENT
DTSTART;TZID=America/New_York:20260905T083000
DTEND;TZID=America/New_York:20260905T140000
DTSTAMP:20260421T202646
CREATED:20170629T222732Z
LAST-MODIFIED:20260127T172409Z
UID:2075-1788597000-1788616800@www.talonrange.com
SUMMARY:USPSA Match (Midway\, FL)
DESCRIPTION:United States Practical Shooting Association (USPSA) Match – Practical shooting is a sport that evolved from experimentation with handguns used for self-defense. The researchers were an international group of private individuals\, law enforcement officers\, and military people generally operating independently of each other\, challenging the then-accepted standards of technique\, training practices\, and equipment. \n  \nEvent registration can be found at Practiscore.
URL:https://www.talonrange.com/event/uspsa-2019-09-07/
LOCATION:Talon Range\, 550 Commerce Blvd\, Midway\, FL\, 32343\, United States
CATEGORIES:Competitions,Range Events
ATTACH;FMTTYPE=image/png:https://www.talonrange.com/wp-content/uploads/2017/06/USPSA.png
ORGANIZER;CN="Tallahassee Practical Shooters":MAILTO:bearden3006@gmail.com
END:VEVENT
BEGIN:VEVENT
DTSTART;TZID=UTC:20260905T083000
DTEND;TZID=UTC:20260905T173000
DTSTAMP:20260421T202646
CREATED:20200822T233954Z
LAST-MODIFIED:20260102T161723Z
UID:2727-1788597000-1788629400@www.talonrange.com
SUMMARY:Basic 1/CCW
DESCRIPTION:Basic I is an introduction to handgun shooting in a defensive context. This course exceeds Florida requirements for firearms safety class and a certificate obtained during this course can be used to apply for a CCW License. \nDuring this class students will enjoy: \n\n4 hours of classroom material going over gun safety\, tactics\, Florida’s Laws and Statutes governing use of force.\n2 hours of live fire on the range.\n2 hours of scenario based training using a laser simulator.\nOptional 1 hour to test fire weapons from our selection of over 30 pistols.Required Gear:\nPants that can accommodate a belt and a sturdy belt (we will be putting a holster on you)\nClosed toed shoes and a closed collar shirt.\nAppropriate clothing for seasonal conditions (this is an outdoor range)\n\nTalon will be furnishing the firearms\, ammunition\, take home hearing/eye protection\, swag and lunch for this class. \nCost: $200.00
URL:https://www.talonrange.com/event/basic-1-ccw-17/
LOCATION:Talon Range\, 550 Commerce Blvd\, Midway\, FL\, 32343\, United States
CATEGORIES:Class,Range Events
ATTACH;FMTTYPE=image/jpeg:https://www.talonrange.com/wp-content/uploads/2017/06/Basic-1.jpg
END:VEVENT
BEGIN:VEVENT
DTSTART;TZID=America/New_York:20260912T083000
DTEND;TZID=America/New_York:20260912T140000
DTSTAMP:20260421T202646
CREATED:20170629T222900Z
LAST-MODIFIED:20260303T153248Z
UID:1570-1789201800-1789221600@www.talonrange.com
SUMMARY:Cowboy Action Match
DESCRIPTION:The Single Action Shooting Society (SASS) is an international organization created to preserve and promote the sport of Cowboy Action Shooting™. \nCowboy Action Shooting is a multi-faceted shooting sport in which contestants compete with firearms typical of those used in the taming of the Old West: single action revolvers\, pistol caliber lever action rifles\, and old time shotguns.
URL:https://www.talonrange.com/event/cowboy-action-match-2018-05-19-2018-08-18/
LOCATION:Talon Range\, 550 Commerce Blvd\, Midway\, FL\, 32343\, United States
CATEGORIES:Competitions,Range Events
ATTACH;FMTTYPE=image/jpeg:https://www.talonrange.com/wp-content/uploads/2017/06/rhr-logo-3-jpg.jpg
END:VEVENT
BEGIN:VEVENT
DTSTART;TZID=America/New_York:20260919T083000
DTEND;TZID=America/New_York:20260919T143000
DTSTAMP:20260421T202646
CREATED:20171121T005828Z
LAST-MODIFIED:20260303T152349Z
UID:2437-1789806600-1789828200@www.talonrange.com
SUMMARY:Steel Challenge (Midway\, FL)
DESCRIPTION:The Steel Challenge is a speed shooting competition governed by the Steel Challenge Shooting Association (SCSA) that consists of eight standardized stages with steel targets in three sizes; small circular\, large circular and square targets
URL:https://www.talonrange.com/event/scholastic-steel-challenge-2-2019-06-15/
LOCATION:FL
CATEGORIES:Competitions,Range Events
ATTACH;FMTTYPE=image/jpeg:https://www.talonrange.com/wp-content/uploads/2017/11/steellogo.jpg
ORGANIZER;CN="Tallahassee Practical Shooters":MAILTO:bearden3006@gmail.com
END:VEVENT
BEGIN:VEVENT
DTSTART;TZID=America/New_York:20260919T083000
DTEND;TZID=America/New_York:20260919T173000
DTSTAMP:20260421T202646
CREATED:20200822T230204Z
LAST-MODIFIED:20260102T163722Z
UID:2723-1789806600-1789839000@www.talonrange.com
SUMMARY:Basic 1/CCW
DESCRIPTION:Basic I is an introduction to handgun shooting in a defensive context. This course exceeds Florida requirements for firearms safety class and a certificate obtained during this course can be used to apply for a CCW License. \nDuring this class students will enjoy: \n\n4 hours of classroom material going over gun safety\, tactics\, Florida’s Laws and Statutes governing use of force.\n2 hours of live fire on the range.\n2 hours of scenario based training using a laser simulator.\nOptional 1 hour to test fire weapons from our selection of over 30 pistols.Required Gear:\nPants that can accommodate a belt and a sturdy belt (we will be putting a holster on you)\nClosed toed shoes and a closed collar shirt.\nAppropriate clothing for seasonal conditions (this is an outdoor range)\n\nTalon will be furnishing the firearms\, ammunition\, take home hearing/eye protection\, swag and lunch for this class. \nCost: $200.00
URL:https://www.talonrange.com/event/basic-1-ccw-15/
LOCATION:Talon Range\, 550 Commerce Blvd\, Midway\, FL\, 32343\, United States
CATEGORIES:Class,Range Events
ATTACH;FMTTYPE=image/jpeg:https://www.talonrange.com/wp-content/uploads/2017/08/basic2.jpg
END:VEVENT
END:VCALENDAR