BEGIN:VCALENDAR
VERSION:2.0
PRODID:-//Talon Range &amp; Training - ECPv6.15.20//NONSGML v1.0//EN
CALSCALE:GREGORIAN
METHOD:PUBLISH
X-WR-CALNAME:Talon Range &amp; Training
X-ORIGINAL-URL:https://www.talonrange.com
X-WR-CALDESC:Events for Talon Range &amp; Training
REFRESH-INTERVAL;VALUE=DURATION:PT1H
X-Robots-Tag:noindex
X-PUBLISHED-TTL:PT1H
BEGIN:VTIMEZONE
TZID:UTC
BEGIN:STANDARD
TZOFFSETFROM:+0000
TZOFFSETTO:+0000
TZNAME:UTC
DTSTART:20190101T000000
END:STANDARD
END:VTIMEZONE
BEGIN:VEVENT
DTSTART;TZID=UTC:20210123T083000
DTEND;TZID=UTC:20210123T173000
DTSTAMP:20260422T182227
CREATED:20170605T004637Z
LAST-MODIFIED:20201203T024234Z
UID:1952-1611390600-1611423000@www.talonrange.com
SUMMARY:Basic I - CCW
DESCRIPTION:This comprehensive class will give you a certificate that will allow you to apply for your concealed carry permit and much\, much more. To register: Call and leave us a message at 850-597-7550. \nWe offer scenario-based virtual reality training with simulated weapons as well as live fire exercises on the range – the most informative instruction in the region. Our instructors explain the statutes that govern use of force and concealed carry in detail and in laymen’s terms. We also talk about and demonstrate concealed carry techniques and holsters. \nWe provide\, hearing protection\, eye protection\, ammunition and firearms\, although you are also welcome to bring your own firearm. Please wear a belt to facilitate wearing a holster\, as well as close-toed shoes and shirts with sleeves. Classroom registration starts at 8:30 a.m. and runs until approximately 5 p.m. with lunch provided.
URL:https://www.talonrange.com/event/basic-i-ccw-4-2019-02-02/
LOCATION:Talon Range\, 550 Commerce Blvd\, Midway\, FL\, 32343\, United States
CATEGORIES:Class,Range Events
ATTACH;FMTTYPE=image/jpeg:https://www.talonrange.com/wp-content/uploads/2017/06/Basic-1.jpg
END:VEVENT
BEGIN:VEVENT
DTSTART;TZID=UTC:20210116T083000
DTEND;TZID=UTC:20210116T173000
DTSTAMP:20260422T182227
CREATED:20170605T004637Z
LAST-MODIFIED:20201203T002242Z
UID:1951-1610785800-1610818200@www.talonrange.com
SUMMARY:Basic I - CCW
DESCRIPTION:This comprehensive class will give you a certificate that will allow you to apply for your concealed carry permit and much\, much more. To register: Call and leave us a message at 850-597-7550. \nWe offer scenario-based virtual reality training with simulated weapons as well as live fire exercises on the range – the most informative instruction in the region. Our instructors explain the statutes that govern use of force and concealed carry in detail and in laymen’s terms. We also talk about and demonstrate concealed carry techniques and holsters. \nWe provide\, hearing protection\, eye protection\, ammunition and firearms\, although you are also welcome to bring your own firearm. Please wear a belt to facilitate wearing a holster\, as well as close-toed shoes and shirts with sleeves. Classroom registration starts at 8:30 a.m. and runs until approximately 5 p.m. with lunch provided.
URL:https://www.talonrange.com/event/basic-i-ccw-4-2019-01-26/
LOCATION:Talon Range\, 550 Commerce Blvd\, Midway\, FL\, 32343\, United States
CATEGORIES:Class,Range Events
ATTACH;FMTTYPE=image/jpeg:https://www.talonrange.com/wp-content/uploads/2017/06/Basic-1.jpg
END:VEVENT
BEGIN:VEVENT
DTSTART;TZID=UTC:20210109T083000
DTEND;TZID=UTC:20210109T173000
DTSTAMP:20260422T182227
CREATED:20170605T004637Z
LAST-MODIFIED:20201203T002028Z
UID:1950-1610181000-1610213400@www.talonrange.com
SUMMARY:Basic I - CCW
DESCRIPTION:This comprehensive class will give you a certificate that will allow you to apply for your concealed carry permit and much\, much more. To register: Call and leave us a message at 850-597-7550. \nWe offer scenario-based virtual reality training with simulated weapons as well as live fire exercises on the range – the most informative instruction in the region. Our instructors explain the statutes that govern use of force and concealed carry in detail and in laymen’s terms. We also talk about and demonstrate concealed carry techniques and holsters. \nWe provide\, hearing protection\, eye protection\, ammunition and firearms\, although you are also welcome to bring your own firearm. Please wear a belt to facilitate wearing a holster\, as well as close-toed shoes and shirts with sleeves. Classroom registration starts at 8:30 a.m. and runs until approximately 5 p.m. with lunch provided.
URL:https://www.talonrange.com/event/basic-i-ccw-4-2019-01-12/
LOCATION:Talon Range\, 550 Commerce Blvd\, Midway\, FL\, 32343\, United States
CATEGORIES:Class,Range Events
ATTACH;FMTTYPE=image/jpeg:https://www.talonrange.com/wp-content/uploads/2017/06/Basic-1.jpg
END:VEVENT
BEGIN:VEVENT
DTSTART;TZID=UTC:20210102T083000
DTEND;TZID=UTC:20210102T173000
DTSTAMP:20260422T182227
CREATED:20170605T003942Z
LAST-MODIFIED:20201203T001807Z
UID:437-1609576200-1609608600@www.talonrange.com
SUMMARY:Basic I - CCW
DESCRIPTION:This comprehensive class will give you a certificate that will allow you to apply for your concealed carry permit and much\, much more. To register: Call and leave us a message at 850-597-7550.\n\nWe offer scenario-based virtual reality training with simulated weapons as well as live fire exercises on the range – the most informative instruction in the region. Our instructors explain the statutes that govern use of force and concealed carry in detail and in laymen’s terms. We also talk about and demonstrate concealed carry techniques and holsters.\n\nWe provide\, hearing protection\, eye protection\, ammunition and firearms\, although you are also welcome to bring your own firearm. Please wear a belt to facilitate wearing a holster\, as well as close-toed shoes and shirts with sleeves. Classroom registration starts at 8:30 a.m. and runs until approximately 5 p.m. with lunch provided.
URL:https://www.talonrange.com/event/basic-i-ccw-6/
LOCATION:Talon Range\, 550 Commerce Blvd\, Midway\, FL\, 32343\, United States
CATEGORIES:Class,Range Events
END:VEVENT
BEGIN:VEVENT
DTSTART;TZID=UTC:20201212T083000
DTEND;TZID=UTC:20201212T140000
DTSTAMP:20260422T182227
CREATED:20170629T222900Z
LAST-MODIFIED:20201006T021701Z
UID:2515-1607761800-1607781600@www.talonrange.com
SUMMARY:Cowboy Action Match
DESCRIPTION:The Single Action Shooting Society (SASS) is an international organization created to preserve and promote the sport of Cowboy Action Shooting™. \nCowboy Action Shooting is a multi-faceted shooting sport in which contestants compete with firearms typical of those used in the taming of the Old West: single action revolvers\, pistol caliber lever action rifles\, and old time shotguns. \nFor questions of any kind\, please contact Cassalong Hopidy (Cass Vickers) at 850.459.5472 or by email at cdv1875@comcast.net
URL:https://www.talonrange.com/event/cowboy-action-match-2018-05-19-2019-12-14/
LOCATION:Talon Range\, 550 Commerce Blvd\, Midway\, FL\, 32343\, United States
CATEGORIES:Competitions
ATTACH;FMTTYPE=image/jpeg:https://www.talonrange.com/wp-content/uploads/2017/06/rhr-logo-3-jpg.jpg
END:VEVENT
BEGIN:VEVENT
DTSTART;TZID=UTC:20201205T080000
DTEND;TZID=UTC:20201205T170000
DTSTAMP:20260422T182227
CREATED:20200107T050053Z
LAST-MODIFIED:20200828T235935Z
UID:2659-1607155200-1607187600@www.talonrange.com
SUMMARY:COMPETITIVE SHOOTING
DESCRIPTION:Talon Training Group Advanced Class: Introduction to USPSA Competitive Shooting \nThis course is designed to prepare competitors for a USPSA / IPSC match and is available to shooters who want to improve gun handling capabilities. \nOver the course of an entire day\, Master Class USPSA competitor and Talon instructor John Rasmussen will cover the basics of combat shooting. Topics include drawing techniques\, basic shooting skills\, shooting on the move\, strong-hand weak-hand shooting\, stage props and reloading. We will also look at the game itself and discuss stage breakdown\, rules\, match preparation\, training\, practicing and equipment selection.
URL:https://www.talonrange.com/event/competitive-shooting/
LOCATION:FL
CATEGORIES:Class,Range Events
ATTACH;FMTTYPE=image/jpeg:https://www.talonrange.com/wp-content/uploads/2018/08/7653-JOHN-AIMING.jpg
END:VEVENT
BEGIN:VEVENT
DTSTART;TZID=UTC:20201128T100000
DTEND;TZID=UTC:20201128T110000
DTSTAMP:20260422T182227
CREATED:20170629T182541Z
LAST-MODIFIED:20191214T031104Z
UID:1386-1606557600-1606561200@www.talonrange.com
SUMMARY:Talon Outdoors Show
DESCRIPTION:Talon Range presents the Talon Outdoors Show on WFLA 100.7 FM from 10 a.m. till 11 a.m. Listen on your radio or listen on our podcast channel anytime.
URL:https://www.talonrange.com/event/talon-outdoors-show-2018-04-14-2018-05-19/
LOCATION:FL
ATTACH;FMTTYPE=image/jpeg:https://www.talonrange.com/wp-content/uploads/2017/07/TALON-OUTDOORS-LOGO-FINAL-FULL-COLOR.jpg
END:VEVENT
BEGIN:VEVENT
DTSTART;TZID=UTC:20201121T100000
DTEND;TZID=UTC:20201121T110000
DTSTAMP:20260422T182227
CREATED:20170629T182541Z
LAST-MODIFIED:20191214T030420Z
UID:1383-1605952800-1605956400@www.talonrange.com
SUMMARY:Talon Outdoors Show
DESCRIPTION:Talon Range presents the Talon Outdoors Show on WFLA 100.7 FM from 10 a.m. till 11 a.m. Listen on your radio or listen on our podcast channel anytime.
URL:https://www.talonrange.com/event/talon-outdoors-show-2018-04-14-2018-04-28/
LOCATION:FL
ATTACH;FMTTYPE=image/jpeg:https://www.talonrange.com/wp-content/uploads/2017/07/TALON-OUTDOORS-LOGO-FINAL-FULL-COLOR.jpg
END:VEVENT
BEGIN:VEVENT
DTSTART;TZID=UTC:20201114T100000
DTEND;TZID=UTC:20201114T110000
DTSTAMP:20260422T182227
CREATED:20170629T182541Z
LAST-MODIFIED:20191214T030232Z
UID:1385-1605348000-1605351600@www.talonrange.com
SUMMARY:Talon Outdoors Show
DESCRIPTION:Talon Range presents the Talon Outdoors Show on WFLA 100.7 FM from 10 a.m. till 11 a.m. Listen on your radio or listen on our podcast channel anytime.
URL:https://www.talonrange.com/event/talon-outdoors-show-2018-04-14-2018-05-12/
LOCATION:FL
ATTACH;FMTTYPE=image/jpeg:https://www.talonrange.com/wp-content/uploads/2017/07/TALON-OUTDOORS-LOGO-FINAL-FULL-COLOR.jpg
END:VEVENT
BEGIN:VEVENT
DTSTART;TZID=UTC:20201114T083000
DTEND;TZID=UTC:20201114T140000
DTSTAMP:20260422T182227
CREATED:20170629T222900Z
LAST-MODIFIED:20200107T014046Z
UID:2514-1605342600-1605362400@www.talonrange.com
SUMMARY:Cowboy Action Match
DESCRIPTION:The Single Action Shooting Society (SASS) is an international organization created to preserve and promote the sport of Cowboy Action Shooting™. \nCowboy Action Shooting is a multi-faceted shooting sport in which contestants compete with firearms typical of those used in the taming of the Old West: single action revolvers\, pistol caliber lever action rifles\, and old time shotguns. \nFor questions of any kind\, please contact Cassalong Hopidy (Cass Vickers) at 850.459.5472 or by email at cdv1875@comcast.net
URL:https://www.talonrange.com/event/cowboy-action-match-2018-05-19-2019-11-09/
LOCATION:Talon Range\, 550 Commerce Blvd\, Midway\, FL\, 32343\, United States
CATEGORIES:Competitions,Range Events
ATTACH;FMTTYPE=image/jpeg:https://www.talonrange.com/wp-content/uploads/2017/06/rhr-logo-3-jpg.jpg
END:VEVENT
BEGIN:VEVENT
DTSTART;TZID=UTC:20201107T100000
DTEND;TZID=UTC:20201107T110000
DTSTAMP:20260422T182227
CREATED:20170629T182541Z
LAST-MODIFIED:20191214T024617Z
UID:1384-1604743200-1604746800@www.talonrange.com
SUMMARY:Talon Outdoors Show
DESCRIPTION:Talon Range presents the Talon Outdoors Show on WFLA 100.7 FM from 10 a.m. till 11 a.m. Listen on your radio or listen on our podcast channel anytime.
URL:https://www.talonrange.com/event/talon-outdoors-show-2018-04-14-2018-05-05/
LOCATION:FL
ATTACH;FMTTYPE=image/jpeg:https://www.talonrange.com/wp-content/uploads/2017/07/TALON-OUTDOORS-LOGO-FINAL-FULL-COLOR.jpg
END:VEVENT
BEGIN:VEVENT
DTSTART;TZID=UTC:20201031T100000
DTEND;TZID=UTC:20201031T110000
DTSTAMP:20260422T182227
CREATED:20170629T182541Z
LAST-MODIFIED:20191214T021906Z
UID:1382-1604138400-1604142000@www.talonrange.com
SUMMARY:Talon Outdoors Show
DESCRIPTION:Talon Range presents the Talon Outdoors Show on WFLA 100.7 FM from 10 a.m. till 11 a.m. Listen on your radio or listen on our podcast channel anytime.
URL:https://www.talonrange.com/event/talon-outdoors-show-2018-04-14-2018-04-21/
LOCATION:FL
ATTACH;FMTTYPE=image/jpeg:https://www.talonrange.com/wp-content/uploads/2017/07/TALON-OUTDOORS-LOGO-FINAL-FULL-COLOR.jpg
END:VEVENT
BEGIN:VEVENT
DTSTART;TZID=UTC:20201024T100000
DTEND;TZID=UTC:20201024T110000
DTSTAMP:20260422T182227
CREATED:20170629T182541Z
LAST-MODIFIED:20191214T021738Z
UID:1419-1603533600-1603537200@www.talonrange.com
SUMMARY:Talon Outdoors Show
DESCRIPTION:Talon Range presents the Talon Outdoors Show on WFLA 100.7 FM from 10 a.m. till 11 a.m. Listen on your radio or listen on our podcast channel anytime.
URL:https://www.talonrange.com/event/talon-outdoors-show-2018-04-14/
LOCATION:FL
ATTACH;FMTTYPE=image/jpeg:https://www.talonrange.com/wp-content/uploads/2017/07/TALON-OUTDOORS-LOGO-FINAL-FULL-COLOR.jpg
END:VEVENT
BEGIN:VEVENT
DTSTART;TZID=UTC:20201017T100000
DTEND;TZID=UTC:20201017T110000
DTSTAMP:20260422T182227
CREATED:20170629T182541Z
LAST-MODIFIED:20191214T021655Z
UID:443-1602928800-1602932400@www.talonrange.com
SUMMARY:Talon Outdoors Show
DESCRIPTION:Talon Range presents the Talon Outdoors Show on WFLA 100.7 FM from 10 a.m. till 11 a.m. Listen on your radio or listen on our podcast channel anytime.
URL:https://www.talonrange.com/event/talon-outdoors-show/
LOCATION:FL
ATTACH;FMTTYPE=image/jpeg:https://www.talonrange.com/wp-content/uploads/2017/07/TALON-OUTDOORS-LOGO-FINAL-FULL-COLOR.jpg
END:VEVENT
BEGIN:VEVENT
DTSTART;TZID=UTC:20201010T100000
DTEND;TZID=UTC:20201010T110000
DTSTAMP:20260422T182227
CREATED:20170625T015147Z
LAST-MODIFIED:20191214T021620Z
UID:456-1602324000-1602327600@www.talonrange.com
SUMMARY:Talon Outdoors Show
DESCRIPTION:Talon Range presents the Talon Outdoors Show on WFLA 100.7 FM from 10 a.m. till 11 a.m. Listen on your radio or listen on our podcast channel anytime .
URL:https://www.talonrange.com/event/talon-outdoors-show-6/
LOCATION:Talon Range\, 550 Commerce Blvd\, Midway\, FL\, 32343\, United States
ATTACH;FMTTYPE=image/jpeg:https://www.talonrange.com/wp-content/uploads/2017/07/TALON-OUTDOORS-LOGO-FINAL-FULL-COLOR.jpg
END:VEVENT
BEGIN:VEVENT
DTSTART;TZID=UTC:20201010T083000
DTEND;TZID=UTC:20201010T140000
DTSTAMP:20260422T182227
CREATED:20170629T222900Z
LAST-MODIFIED:20200107T014137Z
UID:2513-1602318600-1602338400@www.talonrange.com
SUMMARY:Cowboy Action Match
DESCRIPTION:The Single Action Shooting Society (SASS) is an international organization created to preserve and promote the sport of Cowboy Action Shooting™. \nCowboy Action Shooting is a multi-faceted shooting sport in which contestants compete with firearms typical of those used in the taming of the Old West: single action revolvers\, pistol caliber lever action rifles\, and old time shotguns. \nFor questions of any kind\, please contact Cassalong Hopidy (Cass Vickers) at 850.459.5472 or by email at cdv1875@comcast.net
URL:https://www.talonrange.com/event/cowboy-action-match-2018-05-19-2019-10-12/
LOCATION:Talon Range\, 550 Commerce Blvd\, Midway\, FL\, 32343\, United States
CATEGORIES:Competitions,Range Events
ATTACH;FMTTYPE=image/jpeg:https://www.talonrange.com/wp-content/uploads/2017/06/rhr-logo-3-jpg.jpg
END:VEVENT
BEGIN:VEVENT
DTSTART;TZID=UTC:20201003T100000
DTEND;TZID=UTC:20201003T110000
DTSTAMP:20260422T182227
CREATED:20170625T015017Z
LAST-MODIFIED:20191214T021441Z
UID:452-1601719200-1601722800@www.talonrange.com
SUMMARY:Talon Outdoors Show
DESCRIPTION:Talon Range presents the Talon Outdoors Show on WFLA 100.7 FM from 10 a.m. till 11 a.m. Listen on your radio or listen on our podcast channel anytime .
URL:https://www.talonrange.com/event/talon-outdoors-show-4/
LOCATION:FL
ATTACH;FMTTYPE=image/jpeg:https://www.talonrange.com/wp-content/uploads/2017/07/TALON-OUTDOORS-LOGO-FINAL-FULL-COLOR.jpg
END:VEVENT
BEGIN:VEVENT
DTSTART;TZID=UTC:20200926T100000
DTEND;TZID=UTC:20200926T110000
DTSTAMP:20260422T182227
CREATED:20170629T182541Z
LAST-MODIFIED:20191214T021153Z
UID:1532-1601114400-1601118000@www.talonrange.com
SUMMARY:Talon Outdoors Show
DESCRIPTION:Talon Range presents the Talon Outdoors Show on WFLA 100.7 FM from 10 a.m. till 11 a.m. Listen on your radio or listen on our podcast channel anytime.
URL:https://www.talonrange.com/event/talon-outdoors-show-2018-04-14-2018-08-11/
LOCATION:FL
ATTACH;FMTTYPE=image/jpeg:https://www.talonrange.com/wp-content/uploads/2017/07/TALON-OUTDOORS-LOGO-FINAL-FULL-COLOR.jpg
END:VEVENT
BEGIN:VEVENT
DTSTART;TZID=UTC:20200919T100000
DTEND;TZID=UTC:20200919T110000
DTSTAMP:20260422T182227
CREATED:20170629T182541Z
LAST-MODIFIED:20191214T021125Z
UID:1535-1600509600-1600513200@www.talonrange.com
SUMMARY:Talon Outdoors Show
DESCRIPTION:Talon Range presents the Talon Outdoors Show on WFLA 100.7 FM from 10 a.m. till 11 a.m. Listen on your radio or listen on our podcast channel anytime.
URL:https://www.talonrange.com/event/talon-outdoors-show-2018-04-14-2018-09-01/
LOCATION:FL
ATTACH;FMTTYPE=image/jpeg:https://www.talonrange.com/wp-content/uploads/2017/07/TALON-OUTDOORS-LOGO-FINAL-FULL-COLOR.jpg
END:VEVENT
BEGIN:VEVENT
DTSTART;TZID=UTC:20200912T100000
DTEND;TZID=UTC:20200912T110000
DTSTAMP:20260422T182227
CREATED:20170629T182541Z
LAST-MODIFIED:20191214T020959Z
UID:1534-1599904800-1599908400@www.talonrange.com
SUMMARY:Talon Outdoors Show
DESCRIPTION:Talon Range presents the Talon Outdoors Show on WFLA 100.7 FM from 10 a.m. till 11 a.m. Listen on your radio or listen on our podcast channel anytime.
URL:https://www.talonrange.com/event/talon-outdoors-show-2018-04-14-2018-08-25/
LOCATION:FL
ATTACH;FMTTYPE=image/jpeg:https://www.talonrange.com/wp-content/uploads/2017/07/TALON-OUTDOORS-LOGO-FINAL-FULL-COLOR.jpg
END:VEVENT
BEGIN:VEVENT
DTSTART;TZID=UTC:20200905T100000
DTEND;TZID=UTC:20200905T110000
DTSTAMP:20260422T182227
CREATED:20170629T182541Z
LAST-MODIFIED:20191214T020929Z
UID:1533-1599300000-1599303600@www.talonrange.com
SUMMARY:Talon Outdoors Show
DESCRIPTION:Talon Range presents the Talon Outdoors Show on WFLA 100.7 FM from 10 a.m. till 11 a.m. Listen on your radio or listen on our podcast channel anytime.
URL:https://www.talonrange.com/event/talon-outdoors-show-2018-04-14-2018-08-18/
LOCATION:FL
ATTACH;FMTTYPE=image/jpeg:https://www.talonrange.com/wp-content/uploads/2017/07/TALON-OUTDOORS-LOGO-FINAL-FULL-COLOR.jpg
END:VEVENT
BEGIN:VEVENT
DTSTART;TZID=UTC:20200829T100000
DTEND;TZID=UTC:20200829T110000
DTSTAMP:20260422T182227
CREATED:20170629T182541Z
LAST-MODIFIED:20191214T020638Z
UID:1531-1598695200-1598698800@www.talonrange.com
SUMMARY:Talon Outdoors Show
DESCRIPTION:Talon Range presents the Talon Outdoors Show on WFLA 100.7 FM from 10 a.m. till 11 a.m. Listen on your radio or listen on our podcast channel anytime.
URL:https://www.talonrange.com/event/talon-outdoors-show-2018-04-14-2018-08-04/
LOCATION:FL
ATTACH;FMTTYPE=image/jpeg:https://www.talonrange.com/wp-content/uploads/2017/07/TALON-OUTDOORS-LOGO-FINAL-FULL-COLOR.jpg
END:VEVENT
BEGIN:VEVENT
DTSTART;TZID=UTC:20200822T100000
DTEND;TZID=UTC:20200822T110000
DTSTAMP:20260422T182227
CREATED:20170629T182541Z
LAST-MODIFIED:20191214T020609Z
UID:1396-1598090400-1598094000@www.talonrange.com
SUMMARY:Talon Outdoors Show
DESCRIPTION:Talon Range presents the Talon Outdoors Show on WFLA 100.7 FM from 10 a.m. till 11 a.m. Listen on your radio or listen on our podcast channel anytime.
URL:https://www.talonrange.com/event/talon-outdoors-show-2018-04-14-2018-07-28/
LOCATION:FL
ATTACH;FMTTYPE=image/jpeg:https://www.talonrange.com/wp-content/uploads/2017/07/TALON-OUTDOORS-LOGO-FINAL-FULL-COLOR.jpg
END:VEVENT
BEGIN:VEVENT
DTSTART;TZID=UTC:20200815T100000
DTEND;TZID=UTC:20200815T110000
DTSTAMP:20260422T182227
CREATED:20170629T182541Z
LAST-MODIFIED:20191214T020543Z
UID:1507-1597485600-1597489200@www.talonrange.com
SUMMARY:Talon Outdoors Show
DESCRIPTION:Talon Range presents the Talon Outdoors Show on WFLA 100.7 FM from 10 a.m. till 11 a.m. Listen on your radio or listen on our podcast channel anytime.
URL:https://www.talonrange.com/event/talon-outdoors-show-2018-04-14-2018-07-28-2/
LOCATION:FL
ATTACH;FMTTYPE=image/jpeg:https://www.talonrange.com/wp-content/uploads/2017/07/TALON-OUTDOORS-LOGO-FINAL-FULL-COLOR.jpg
END:VEVENT
BEGIN:VEVENT
DTSTART;TZID=UTC:20200808T100000
DTEND;TZID=UTC:20200808T110000
DTSTAMP:20260422T182227
CREATED:20170629T182541Z
LAST-MODIFIED:20191214T020510Z
UID:1395-1596880800-1596884400@www.talonrange.com
SUMMARY:Talon Outdoors Show
DESCRIPTION:Talon Range presents the Talon Outdoors Show on WFLA 100.7 FM from 10 a.m. till 11 a.m. Listen on your radio or listen on our podcast channel anytime.
URL:https://www.talonrange.com/event/talon-outdoors-show-2018-04-14-2018-07-21/
LOCATION:FL
ATTACH;FMTTYPE=image/jpeg:https://www.talonrange.com/wp-content/uploads/2017/07/TALON-OUTDOORS-LOGO-FINAL-FULL-COLOR.jpg
END:VEVENT
BEGIN:VEVENT
DTSTART;TZID=UTC:20200801T100000
DTEND;TZID=UTC:20200801T110000
DTSTAMP:20260422T182227
CREATED:20170629T182541Z
LAST-MODIFIED:20191214T020446Z
UID:1394-1596276000-1596279600@www.talonrange.com
SUMMARY:Talon Outdoors Show
DESCRIPTION:Talon Range presents the Talon Outdoors Show on WFLA 100.7 FM from 10 a.m. till 11 a.m. Listen on your radio or listen on our podcast channel anytime.
URL:https://www.talonrange.com/event/talon-outdoors-show-2018-04-14-2018-07-14/
LOCATION:FL
ATTACH;FMTTYPE=image/jpeg:https://www.talonrange.com/wp-content/uploads/2017/07/TALON-OUTDOORS-LOGO-FINAL-FULL-COLOR.jpg
END:VEVENT
BEGIN:VEVENT
DTSTART;TZID=UTC:20200725T100000
DTEND;TZID=UTC:20200725T110000
DTSTAMP:20260422T182227
CREATED:20170629T182541Z
LAST-MODIFIED:20191214T020319Z
UID:1393-1595671200-1595674800@www.talonrange.com
SUMMARY:Talon Outdoors Show
DESCRIPTION:Talon Range presents the Talon Outdoors Show on WFLA 100.7 FM from 10 a.m. till 11 a.m. Listen on your radio or listen on our podcast channel anytime.
URL:https://www.talonrange.com/event/talon-outdoors-show-2018-04-14-2018-07-07/
LOCATION:FL
ATTACH;FMTTYPE=image/jpeg:https://www.talonrange.com/wp-content/uploads/2017/07/TALON-OUTDOORS-LOGO-FINAL-FULL-COLOR.jpg
END:VEVENT
BEGIN:VEVENT
DTSTART;TZID=UTC:20200718T100000
DTEND;TZID=UTC:20200718T110000
DTSTAMP:20260422T182227
CREATED:20170629T182541Z
LAST-MODIFIED:20191214T020253Z
UID:1392-1595066400-1595070000@www.talonrange.com
SUMMARY:Talon Outdoors Show
DESCRIPTION:Talon Range presents the Talon Outdoors Show on WFLA 100.7 FM from 10 a.m. till 11 a.m. Listen on your radio or listen on our podcast channel anytime.
URL:https://www.talonrange.com/event/talon-outdoors-show-2018-04-14-2018-06-30/
LOCATION:FL
ATTACH;FMTTYPE=image/jpeg:https://www.talonrange.com/wp-content/uploads/2017/07/TALON-OUTDOORS-LOGO-FINAL-FULL-COLOR.jpg
END:VEVENT
BEGIN:VEVENT
DTSTART;TZID=UTC:20200711T100000
DTEND;TZID=UTC:20200711T110000
DTSTAMP:20260422T182227
CREATED:20170629T182541Z
LAST-MODIFIED:20191214T020224Z
UID:1391-1594461600-1594465200@www.talonrange.com
SUMMARY:Talon Outdoors Show
DESCRIPTION:Talon Range presents the Talon Outdoors Show on WFLA 100.7 FM from 10 a.m. till 11 a.m. Listen on your radio or listen on our podcast channel anytime.
URL:https://www.talonrange.com/event/talon-outdoors-show-2018-04-14-2018-06-23/
LOCATION:FL
ATTACH;FMTTYPE=image/jpeg:https://www.talonrange.com/wp-content/uploads/2017/07/TALON-OUTDOORS-LOGO-FINAL-FULL-COLOR.jpg
END:VEVENT
BEGIN:VEVENT
DTSTART;TZID=UTC:20200704T100000
DTEND;TZID=UTC:20200704T110000
DTSTAMP:20260422T182227
CREATED:20170629T182541Z
LAST-MODIFIED:20191214T020150Z
UID:1390-1593856800-1593860400@www.talonrange.com
SUMMARY:Talon Outdoors Show
DESCRIPTION:Talon Range presents the Talon Outdoors Show on WFLA 100.7 FM from 10 a.m. till 11 a.m. Listen on your radio or listen on our podcast channel anytime.
URL:https://www.talonrange.com/event/talon-outdoors-show-2018-04-14-2018-06-16/
LOCATION:FL
ATTACH;FMTTYPE=image/jpeg:https://www.talonrange.com/wp-content/uploads/2017/07/TALON-OUTDOORS-LOGO-FINAL-FULL-COLOR.jpg
END:VEVENT
END:VCALENDAR