BEGIN:VCALENDAR
VERSION:2.0
PRODID:-//Talon Range &amp; Training - ECPv6.15.20//NONSGML v1.0//EN
CALSCALE:GREGORIAN
METHOD:PUBLISH
X-WR-CALNAME:Talon Range &amp; Training
X-ORIGINAL-URL:https://www.talonrange.com
X-WR-CALDESC:Events for Talon Range &amp; Training
REFRESH-INTERVAL;VALUE=DURATION:PT1H
X-Robots-Tag:noindex
X-PUBLISHED-TTL:PT1H
BEGIN:VTIMEZONE
TZID:UTC
BEGIN:STANDARD
TZOFFSETFROM:+0000
TZOFFSETTO:+0000
TZNAME:UTC
DTSTART:20170101T000000
END:STANDARD
END:VTIMEZONE
BEGIN:VEVENT
DTSTART;TZID=UTC:20180922T080000
DTEND;TZID=UTC:20180922T143000
DTSTAMP:20260424T121819
CREATED:20171121T005553Z
LAST-MODIFIED:20181124T224747Z
UID:1627-1537603200-1537626600@www.talonrange.com
SUMMARY:IDPA Match
DESCRIPTION:The International Defensive Pistol Association (IDPA) is the governing body of a shooting sport that simulates self-defense scenarios and real life encounters.  One of the unique facets of this sport is that it is geared toward the new or average shooter\, yet is fun\, challenging and rewarding for the experienced shooter.
URL:https://www.talonrange.com/event/idpa-match-3-2018-09-22/
CATEGORIES:Competitions
ATTACH;FMTTYPE=image/png:https://www.talonrange.com/wp-content/uploads/2017/11/IDPA.png
END:VEVENT
BEGIN:VEVENT
DTSTART;TZID=UTC:20180920T190000
DTEND;TZID=UTC:20180920T203000
DTSTAMP:20260424T121819
CREATED:20180407T220633Z
LAST-MODIFIED:20181124T214118Z
UID:1515-1537470000-1537475400@www.talonrange.com
SUMMARY:Bowling Pin Match
DESCRIPTION:Every Thursday night at 7:00 P.M.\, weather and attendance permitting\, we host a Bowling Pin Shoot for our members and guests. \nOur weekly match consists of shooting five bowling pins off of one of our steel tables in each heat against another shooter. It is a double elimination bracket and most shooters tend to favor 45ACP or 10mm handguns to have the energy necessary to remove the pins quickly from the table. \nFeel free to call us before you plan to attend at 850-597-7550 and we will make sure to answer any questions or concerns you may have. \n 
URL:https://www.talonrange.com/event/bowling-pin-match-14-2018-09-20/
LOCATION:Talon Range\, 550 Commerce Blvd\, Midway\, FL\, 32343\, United States
CATEGORIES:Competitions
END:VEVENT
BEGIN:VEVENT
DTSTART;TZID=UTC:20180915T100000
DTEND;TZID=UTC:20180915T110000
DTSTAMP:20260424T121819
CREATED:20170629T182541Z
LAST-MODIFIED:20170629T182541Z
UID:1537-1537005600-1537009200@www.talonrange.com
SUMMARY:Talon Outdoors Show
DESCRIPTION:Talon Range presents the Talon Outdoors Show on WFLA 100.7 FM from 10 a.m. till 11 a.m. Listen on your radio or listen on our podcast channel anytime.
URL:https://www.talonrange.com/event/talon-outdoors-show-2018-04-14-2018-09-15/
ATTACH;FMTTYPE=image/jpeg:https://www.talonrange.com/wp-content/uploads/2017/07/TALON-OUTDOORS-LOGO-FINAL-FULL-COLOR.jpg
END:VEVENT
BEGIN:VEVENT
DTSTART;TZID=UTC:20180915T083000
DTEND;TZID=UTC:20180915T140000
DTSTAMP:20260424T121819
CREATED:20170629T222900Z
LAST-MODIFIED:20190715T204610Z
UID:1571-1537000200-1537020000@www.talonrange.com
SUMMARY:Cowboy Action Match
DESCRIPTION:The Single Action Shooting Society (SASS) is an international organization created to preserve and promote the sport of Cowboy Action Shooting™. \nCowboy Action Shooting is a multi-faceted shooting sport in which contestants compete with firearms typical of those used in the taming of the Old West: single action revolvers\, pistol caliber lever action rifles\, and old time shotguns. \nFor questions of any kind\, please contact Cassalong Hopidy (Cass Vickers) at 850.459.5472 or by email at cdv1875@comcast.net
URL:https://www.talonrange.com/event/cowboy-action-match-2018-05-19-2018-09-15/
LOCATION:Talon Range\, 550 Commerce Blvd\, Midway\, FL\, 32343\, United States
CATEGORIES:Competitions
ATTACH;FMTTYPE=image/jpeg:https://www.talonrange.com/wp-content/uploads/2017/06/rhr-logo-3-jpg.jpg
END:VEVENT
BEGIN:VEVENT
DTSTART;TZID=UTC:20180913T190000
DTEND;TZID=UTC:20180913T203000
DTSTAMP:20260424T121819
CREATED:20180407T220633Z
LAST-MODIFIED:20181124T214117Z
UID:1514-1536865200-1536870600@www.talonrange.com
SUMMARY:Bowling Pin Match
DESCRIPTION:Every Thursday night at 7:00 P.M.\, weather and attendance permitting\, we host a Bowling Pin Shoot for our members and guests. \nOur weekly match consists of shooting five bowling pins off of one of our steel tables in each heat against another shooter. It is a double elimination bracket and most shooters tend to favor 45ACP or 10mm handguns to have the energy necessary to remove the pins quickly from the table. \nFeel free to call us before you plan to attend at 850-597-7550 and we will make sure to answer any questions or concerns you may have. \n 
URL:https://www.talonrange.com/event/bowling-pin-match-14-2018-09-13/
LOCATION:Talon Range\, 550 Commerce Blvd\, Midway\, FL\, 32343\, United States
CATEGORIES:Competitions
END:VEVENT
BEGIN:VEVENT
DTSTART;TZID=UTC:20180908T100000
DTEND;TZID=UTC:20180908T110000
DTSTAMP:20260424T121819
CREATED:20170629T182541Z
LAST-MODIFIED:20170629T182541Z
UID:1536-1536400800-1536404400@www.talonrange.com
SUMMARY:Talon Outdoors Show
DESCRIPTION:Talon Range presents the Talon Outdoors Show on WFLA 100.7 FM from 10 a.m. till 11 a.m. Listen on your radio or listen on our podcast channel anytime.
URL:https://www.talonrange.com/event/talon-outdoors-show-2018-04-14-2018-09-08/
ATTACH;FMTTYPE=image/jpeg:https://www.talonrange.com/wp-content/uploads/2017/07/TALON-OUTDOORS-LOGO-FINAL-FULL-COLOR.jpg
END:VEVENT
BEGIN:VEVENT
DTSTART;TZID=UTC:20180906T190000
DTEND;TZID=UTC:20180906T203000
DTSTAMP:20260424T121819
CREATED:20180407T220633Z
LAST-MODIFIED:20181124T214117Z
UID:1513-1536260400-1536265800@www.talonrange.com
SUMMARY:Bowling Pin Match
DESCRIPTION:Every Thursday night at 7:00 P.M.\, weather and attendance permitting\, we host a Bowling Pin Shoot for our members and guests. \nOur weekly match consists of shooting five bowling pins off of one of our steel tables in each heat against another shooter. It is a double elimination bracket and most shooters tend to favor 45ACP or 10mm handguns to have the energy necessary to remove the pins quickly from the table. \nFeel free to call us before you plan to attend at 850-597-7550 and we will make sure to answer any questions or concerns you may have. \n 
URL:https://www.talonrange.com/event/bowling-pin-match-14-2018-09-06/
LOCATION:Talon Range\, 550 Commerce Blvd\, Midway\, FL\, 32343\, United States
CATEGORIES:Competitions
END:VEVENT
BEGIN:VEVENT
DTSTART;TZID=UTC:20180830T190000
DTEND;TZID=UTC:20180830T203000
DTSTAMP:20260424T121819
CREATED:20180407T220633Z
LAST-MODIFIED:20181124T214116Z
UID:1512-1535655600-1535661000@www.talonrange.com
SUMMARY:Bowling Pin Match
DESCRIPTION:Every Thursday night at 7:00 P.M.\, weather and attendance permitting\, we host a Bowling Pin Shoot for our members and guests. \nOur weekly match consists of shooting five bowling pins off of one of our steel tables in each heat against another shooter. It is a double elimination bracket and most shooters tend to favor 45ACP or 10mm handguns to have the energy necessary to remove the pins quickly from the table. \nFeel free to call us before you plan to attend at 850-597-7550 and we will make sure to answer any questions or concerns you may have. \n 
URL:https://www.talonrange.com/event/bowling-pin-match-14-2018-08-30/
LOCATION:Talon Range\, 550 Commerce Blvd\, Midway\, FL\, 32343\, United States
CATEGORIES:Competitions
END:VEVENT
BEGIN:VEVENT
DTSTART;TZID=UTC:20180825T083000
DTEND;TZID=UTC:20180825T123000
DTSTAMP:20260424T121819
CREATED:20171121T005553Z
LAST-MODIFIED:20181124T224747Z
UID:2168-1535185800-1535200200@www.talonrange.com
SUMMARY:IDPA Match
DESCRIPTION:The International Defensive Pistol Association (IDPA) is the governing body of a shooting sport that simulates self-defense scenarios and real life encounters.  One of the unique facets of this sport is that it is geared toward the new or average shooter\, yet is fun\, challenging and rewarding for the experienced shooter.
URL:https://www.talonrange.com/event/idpa-match-3-2018-08-25-2/
CATEGORIES:Competitions
ATTACH;FMTTYPE=image/png:https://www.talonrange.com/wp-content/uploads/2017/11/IDPA.png
END:VEVENT
BEGIN:VEVENT
DTSTART;TZID=UTC:20180825T080000
DTEND;TZID=UTC:20180825T143000
DTSTAMP:20260424T121819
CREATED:20171121T005553Z
LAST-MODIFIED:20181124T224735Z
UID:1626-1535184000-1535207400@www.talonrange.com
SUMMARY:IDPA Match
DESCRIPTION:The International Defensive Pistol Association (IDPA) is the governing body of a shooting sport that simulates self-defense scenarios and real life encounters.  One of the unique facets of this sport is that it is geared toward the new or average shooter\, yet is fun\, challenging and rewarding for the experienced shooter.
URL:https://www.talonrange.com/event/idpa-match-3-2018-08-25/
CATEGORIES:Competitions
ATTACH;FMTTYPE=image/png:https://www.talonrange.com/wp-content/uploads/2017/11/IDPA.png
END:VEVENT
BEGIN:VEVENT
DTSTART;TZID=UTC:20180823T190000
DTEND;TZID=UTC:20180823T203000
DTSTAMP:20260424T121819
CREATED:20180407T220633Z
LAST-MODIFIED:20181124T214116Z
UID:1511-1535050800-1535056200@www.talonrange.com
SUMMARY:Bowling Pin Match
DESCRIPTION:Every Thursday night at 7:00 P.M.\, weather and attendance permitting\, we host a Bowling Pin Shoot for our members and guests. \nOur weekly match consists of shooting five bowling pins off of one of our steel tables in each heat against another shooter. It is a double elimination bracket and most shooters tend to favor 45ACP or 10mm handguns to have the energy necessary to remove the pins quickly from the table. \nFeel free to call us before you plan to attend at 850-597-7550 and we will make sure to answer any questions or concerns you may have. \n 
URL:https://www.talonrange.com/event/bowling-pin-match-14-2018-08-23/
LOCATION:Talon Range\, 550 Commerce Blvd\, Midway\, FL\, 32343\, United States
CATEGORIES:Competitions
END:VEVENT
BEGIN:VEVENT
DTSTART;TZID=UTC:20180818T083000
DTEND;TZID=UTC:20180818T143000
DTSTAMP:20260424T121819
CREATED:20171121T005828Z
LAST-MODIFIED:20171121T005828Z
UID:2427-1534581000-1534602600@www.talonrange.com
SUMMARY:Scholastic Steel Challenge
DESCRIPTION:Scholastic Shooting Sports Foundation (SSSF) is the national governing body for the Scholastic Action Shooting Program (SASP)\, offering youth from grade school through college the opportunity to safely participate in our exciting team-based action shooting sports!
URL:https://www.talonrange.com/event/scholastic-steel-challenge-2-2018-08-18/
ATTACH;FMTTYPE=image/png:https://www.talonrange.com/wp-content/uploads/2017/11/SSTP_SASP.png
END:VEVENT
BEGIN:VEVENT
DTSTART;TZID=UTC:20180816T190000
DTEND;TZID=UTC:20180816T203000
DTSTAMP:20260424T121819
CREATED:20180407T220633Z
LAST-MODIFIED:20181124T214116Z
UID:1510-1534446000-1534451400@www.talonrange.com
SUMMARY:Bowling Pin Match
DESCRIPTION:Every Thursday night at 7:00 P.M.\, weather and attendance permitting\, we host a Bowling Pin Shoot for our members and guests. \nOur weekly match consists of shooting five bowling pins off of one of our steel tables in each heat against another shooter. It is a double elimination bracket and most shooters tend to favor 45ACP or 10mm handguns to have the energy necessary to remove the pins quickly from the table. \nFeel free to call us before you plan to attend at 850-597-7550 and we will make sure to answer any questions or concerns you may have. \n 
URL:https://www.talonrange.com/event/bowling-pin-match-14-2018-08-16/
LOCATION:Talon Range\, 550 Commerce Blvd\, Midway\, FL\, 32343\, United States
CATEGORIES:Competitions
END:VEVENT
BEGIN:VEVENT
DTSTART;TZID=UTC:20180809T190000
DTEND;TZID=UTC:20180809T203000
DTSTAMP:20260424T121819
CREATED:20180407T220633Z
LAST-MODIFIED:20181124T214116Z
UID:1509-1533841200-1533846600@www.talonrange.com
SUMMARY:Bowling Pin Match
DESCRIPTION:Every Thursday night at 7:00 P.M.\, weather and attendance permitting\, we host a Bowling Pin Shoot for our members and guests. \nOur weekly match consists of shooting five bowling pins off of one of our steel tables in each heat against another shooter. It is a double elimination bracket and most shooters tend to favor 45ACP or 10mm handguns to have the energy necessary to remove the pins quickly from the table. \nFeel free to call us before you plan to attend at 850-597-7550 and we will make sure to answer any questions or concerns you may have. \n 
URL:https://www.talonrange.com/event/bowling-pin-match-14-2018-08-09/
LOCATION:Talon Range\, 550 Commerce Blvd\, Midway\, FL\, 32343\, United States
CATEGORIES:Competitions
END:VEVENT
BEGIN:VEVENT
DTSTART;TZID=UTC:20180802T190000
DTEND;TZID=UTC:20180802T203000
DTSTAMP:20260424T121819
CREATED:20180407T220633Z
LAST-MODIFIED:20181124T214116Z
UID:1508-1533236400-1533241800@www.talonrange.com
SUMMARY:Bowling Pin Match
DESCRIPTION:Every Thursday night at 7:00 P.M.\, weather and attendance permitting\, we host a Bowling Pin Shoot for our members and guests. \nOur weekly match consists of shooting five bowling pins off of one of our steel tables in each heat against another shooter. It is a double elimination bracket and most shooters tend to favor 45ACP or 10mm handguns to have the energy necessary to remove the pins quickly from the table. \nFeel free to call us before you plan to attend at 850-597-7550 and we will make sure to answer any questions or concerns you may have. \n 
URL:https://www.talonrange.com/event/bowling-pin-match-14-2018-08-02/
LOCATION:Talon Range\, 550 Commerce Blvd\, Midway\, FL\, 32343\, United States
CATEGORIES:Competitions
END:VEVENT
BEGIN:VEVENT
DTSTART;TZID=UTC:20180728T083000
DTEND;TZID=UTC:20180728T123000
DTSTAMP:20260424T121819
CREATED:20171121T005553Z
LAST-MODIFIED:20181124T224735Z
UID:2167-1532766600-1532781000@www.talonrange.com
SUMMARY:IDPA Match
DESCRIPTION:The International Defensive Pistol Association (IDPA) is the governing body of a shooting sport that simulates self-defense scenarios and real life encounters.  One of the unique facets of this sport is that it is geared toward the new or average shooter\, yet is fun\, challenging and rewarding for the experienced shooter.
URL:https://www.talonrange.com/event/idpa-match-3-2018-07-28-2/
CATEGORIES:Competitions
ATTACH;FMTTYPE=image/png:https://www.talonrange.com/wp-content/uploads/2017/11/IDPA.png
END:VEVENT
BEGIN:VEVENT
DTSTART;TZID=UTC:20180728T080000
DTEND;TZID=UTC:20180728T143000
DTSTAMP:20260424T121819
CREATED:20171121T005553Z
LAST-MODIFIED:20181124T224735Z
UID:1625-1532764800-1532788200@www.talonrange.com
SUMMARY:IDPA Match
DESCRIPTION:The International Defensive Pistol Association (IDPA) is the governing body of a shooting sport that simulates self-defense scenarios and real life encounters.  One of the unique facets of this sport is that it is geared toward the new or average shooter\, yet is fun\, challenging and rewarding for the experienced shooter.
URL:https://www.talonrange.com/event/idpa-match-3-2018-07-28/
CATEGORIES:Competitions
ATTACH;FMTTYPE=image/png:https://www.talonrange.com/wp-content/uploads/2017/11/IDPA.png
END:VEVENT
BEGIN:VEVENT
DTSTART;TZID=UTC:20180726T190000
DTEND;TZID=UTC:20180726T203000
DTSTAMP:20260424T121819
CREATED:20180407T220633Z
LAST-MODIFIED:20181124T214116Z
UID:1357-1532631600-1532637000@www.talonrange.com
SUMMARY:Bowling Pin Match
DESCRIPTION:Every Thursday night at 7:00 P.M.\, weather and attendance permitting\, we host a Bowling Pin Shoot for our members and guests. \nOur weekly match consists of shooting five bowling pins off of one of our steel tables in each heat against another shooter. It is a double elimination bracket and most shooters tend to favor 45ACP or 10mm handguns to have the energy necessary to remove the pins quickly from the table. \nFeel free to call us before you plan to attend at 850-597-7550 and we will make sure to answer any questions or concerns you may have. \n 
URL:https://www.talonrange.com/event/bowling-pin-match-14-2018-07-26/
LOCATION:Talon Range\, 550 Commerce Blvd\, Midway\, FL\, 32343\, United States
CATEGORIES:Competitions
END:VEVENT
BEGIN:VEVENT
DTSTART;TZID=UTC:20180721T083000
DTEND;TZID=UTC:20180721T173000
DTSTAMP:20260424T121819
CREATED:20171118T215030Z
LAST-MODIFIED:20181001T201555Z
UID:1743-1532161800-1532194200@www.talonrange.com
SUMMARY:TACTICAL CARBINE I
DESCRIPTION:The civilian tactical carbine class involves basic operation of the tactical carbine\, primarily the AR platform but Mini-14s and others are included. We will cover reloading\, moving and shooting\, positional shooting\, sight in\, sling techniques and the use of cover; time permitting\, we will also include two-man drills. \nThis is an eight-hour course.  Students must bring 300 rounds of ammunition or purchase ammunition at the Pro Shop.
URL:https://www.talonrange.com/event/surviving-a-critical-incident-2018-07-21/
LOCATION:Talon Range\, 550 Commerce Blvd\, Midway\, FL\, 32343\, United States
CATEGORIES:Class
END:VEVENT
BEGIN:VEVENT
DTSTART;TZID=UTC:20180623T083000
DTEND;TZID=UTC:20180623T123000
DTSTAMP:20260424T121819
CREATED:20171121T005553Z
LAST-MODIFIED:20181124T224735Z
UID:2166-1529742600-1529757000@www.talonrange.com
SUMMARY:IDPA Match
DESCRIPTION:The International Defensive Pistol Association (IDPA) is the governing body of a shooting sport that simulates self-defense scenarios and real life encounters.  One of the unique facets of this sport is that it is geared toward the new or average shooter\, yet is fun\, challenging and rewarding for the experienced shooter.
URL:https://www.talonrange.com/event/idpa-match-3-2018-06-23-2/
CATEGORIES:Competitions
ATTACH;FMTTYPE=image/png:https://www.talonrange.com/wp-content/uploads/2017/11/IDPA.png
END:VEVENT
BEGIN:VEVENT
DTSTART;TZID=UTC:20180623T080000
DTEND;TZID=UTC:20180623T143000
DTSTAMP:20260424T121819
CREATED:20171121T005553Z
LAST-MODIFIED:20181124T224734Z
UID:1624-1529740800-1529764200@www.talonrange.com
SUMMARY:IDPA Match
DESCRIPTION:The International Defensive Pistol Association (IDPA) is the governing body of a shooting sport that simulates self-defense scenarios and real life encounters.  One of the unique facets of this sport is that it is geared toward the new or average shooter\, yet is fun\, challenging and rewarding for the experienced shooter.
URL:https://www.talonrange.com/event/idpa-match-3-2018-06-23/
CATEGORIES:Competitions
ATTACH;FMTTYPE=image/png:https://www.talonrange.com/wp-content/uploads/2017/11/IDPA.png
END:VEVENT
BEGIN:VEVENT
DTSTART;TZID=UTC:20180621T190000
DTEND;TZID=UTC:20180621T203000
DTSTAMP:20260424T121819
CREATED:20180407T220633Z
LAST-MODIFIED:20181124T214113Z
UID:1352-1529607600-1529613000@www.talonrange.com
SUMMARY:Bowling Pin Match
DESCRIPTION:Every Thursday night at 7:00 P.M.\, weather and attendance permitting\, we host a Bowling Pin Shoot for our members and guests. \nOur weekly match consists of shooting five bowling pins off of one of our steel tables in each heat against another shooter. It is a double elimination bracket and most shooters tend to favor 45ACP or 10mm handguns to have the energy necessary to remove the pins quickly from the table. \nFeel free to call us before you plan to attend at 850-597-7550 and we will make sure to answer any questions or concerns you may have. \n 
URL:https://www.talonrange.com/event/bowling-pin-match-14-2018-06-21/
LOCATION:Talon Range\, 550 Commerce Blvd\, Midway\, FL\, 32343\, United States
CATEGORIES:Competitions
END:VEVENT
BEGIN:VEVENT
DTSTART;TZID=UTC:20180614T190000
DTEND;TZID=UTC:20180614T203000
DTSTAMP:20260424T121819
CREATED:20180407T220633Z
LAST-MODIFIED:20181124T214113Z
UID:1351-1529002800-1529008200@www.talonrange.com
SUMMARY:Bowling Pin Match
DESCRIPTION:Every Thursday night at 7:00 P.M.\, weather and attendance permitting\, we host a Bowling Pin Shoot for our members and guests. \nOur weekly match consists of shooting five bowling pins off of one of our steel tables in each heat against another shooter. It is a double elimination bracket and most shooters tend to favor 45ACP or 10mm handguns to have the energy necessary to remove the pins quickly from the table. \nFeel free to call us before you plan to attend at 850-597-7550 and we will make sure to answer any questions or concerns you may have. \n 
URL:https://www.talonrange.com/event/bowling-pin-match-14-2018-06-14/
LOCATION:Talon Range\, 550 Commerce Blvd\, Midway\, FL\, 32343\, United States
CATEGORIES:Competitions
END:VEVENT
BEGIN:VEVENT
DTSTART;TZID=UTC:20180609T100000
DTEND;TZID=UTC:20180609T110000
DTSTAMP:20260424T121819
CREATED:20170629T182541Z
LAST-MODIFIED:20180407T234029Z
UID:1389-1528538400-1528542000@www.talonrange.com
SUMMARY:Talon Outdoors Show
DESCRIPTION:Talon Range presents the Talon Outdoors Show on WFLA 100.7 FM from 10 a.m. till 11 a.m. Listen on your radio or listen on our podcast channel anytime.
URL:https://www.talonrange.com/event/talon-outdoors-show-2018-04-14-2018-06-09/
ATTACH;FMTTYPE=image/jpeg:https://www.talonrange.com/wp-content/uploads/2017/07/TALON-OUTDOORS-LOGO-FINAL-FULL-COLOR.jpg
END:VEVENT
BEGIN:VEVENT
DTSTART;TZID=UTC:20180607T190000
DTEND;TZID=UTC:20180607T203000
DTSTAMP:20260424T121819
CREATED:20180407T220633Z
LAST-MODIFIED:20181124T214113Z
UID:1350-1528398000-1528403400@www.talonrange.com
SUMMARY:Bowling Pin Match
DESCRIPTION:Every Thursday night at 7:00 P.M.\, weather and attendance permitting\, we host a Bowling Pin Shoot for our members and guests. \nOur weekly match consists of shooting five bowling pins off of one of our steel tables in each heat against another shooter. It is a double elimination bracket and most shooters tend to favor 45ACP or 10mm handguns to have the energy necessary to remove the pins quickly from the table. \nFeel free to call us before you plan to attend at 850-597-7550 and we will make sure to answer any questions or concerns you may have. \n 
URL:https://www.talonrange.com/event/bowling-pin-match-14-2018-06-07/
LOCATION:Talon Range\, 550 Commerce Blvd\, Midway\, FL\, 32343\, United States
CATEGORIES:Competitions
END:VEVENT
BEGIN:VEVENT
DTSTART;TZID=UTC:20180602T100000
DTEND;TZID=UTC:20180602T110000
DTSTAMP:20260424T121819
CREATED:20170629T182541Z
LAST-MODIFIED:20180407T234029Z
UID:1388-1527933600-1527937200@www.talonrange.com
SUMMARY:Talon Outdoors Show
DESCRIPTION:Talon Range presents the Talon Outdoors Show on WFLA 100.7 FM from 10 a.m. till 11 a.m. Listen on your radio or listen on our podcast channel anytime.
URL:https://www.talonrange.com/event/talon-outdoors-show-2018-04-14-2018-06-02/
ATTACH;FMTTYPE=image/jpeg:https://www.talonrange.com/wp-content/uploads/2017/07/TALON-OUTDOORS-LOGO-FINAL-FULL-COLOR.jpg
END:VEVENT
BEGIN:VEVENT
DTSTART;TZID=UTC:20180531T190000
DTEND;TZID=UTC:20180531T203000
DTSTAMP:20260424T121819
CREATED:20180407T220633Z
LAST-MODIFIED:20181124T214113Z
UID:1349-1527793200-1527798600@www.talonrange.com
SUMMARY:Bowling Pin Match
DESCRIPTION:Every Thursday night at 7:00 P.M.\, weather and attendance permitting\, we host a Bowling Pin Shoot for our members and guests. \nOur weekly match consists of shooting five bowling pins off of one of our steel tables in each heat against another shooter. It is a double elimination bracket and most shooters tend to favor 45ACP or 10mm handguns to have the energy necessary to remove the pins quickly from the table. \nFeel free to call us before you plan to attend at 850-597-7550 and we will make sure to answer any questions or concerns you may have. \n 
URL:https://www.talonrange.com/event/bowling-pin-match-14-2018-05-31/
LOCATION:Talon Range\, 550 Commerce Blvd\, Midway\, FL\, 32343\, United States
CATEGORIES:Competitions
END:VEVENT
BEGIN:VEVENT
DTSTART;TZID=UTC:20180526T100000
DTEND;TZID=UTC:20180526T110000
DTSTAMP:20260424T121819
CREATED:20170629T182541Z
LAST-MODIFIED:20180407T234029Z
UID:1387-1527328800-1527332400@www.talonrange.com
SUMMARY:Talon Outdoors Show
DESCRIPTION:Talon Range presents the Talon Outdoors Show on WFLA 100.7 FM from 10 a.m. till 11 a.m. Listen on your radio or listen on our podcast channel anytime.
URL:https://www.talonrange.com/event/talon-outdoors-show-2018-04-14-2018-05-26/
ATTACH;FMTTYPE=image/jpeg:https://www.talonrange.com/wp-content/uploads/2017/07/TALON-OUTDOORS-LOGO-FINAL-FULL-COLOR.jpg
END:VEVENT
BEGIN:VEVENT
DTSTART;TZID=UTC:20180526T083000
DTEND;TZID=UTC:20180526T123000
DTSTAMP:20260424T121819
CREATED:20171121T005553Z
LAST-MODIFIED:20181124T224734Z
UID:2165-1527323400-1527337800@www.talonrange.com
SUMMARY:IDPA Match
DESCRIPTION:The International Defensive Pistol Association (IDPA) is the governing body of a shooting sport that simulates self-defense scenarios and real life encounters.  One of the unique facets of this sport is that it is geared toward the new or average shooter\, yet is fun\, challenging and rewarding for the experienced shooter.
URL:https://www.talonrange.com/event/idpa-match-3-2018-05-26-2/
CATEGORIES:Competitions
ATTACH;FMTTYPE=image/png:https://www.talonrange.com/wp-content/uploads/2017/11/IDPA.png
END:VEVENT
BEGIN:VEVENT
DTSTART;TZID=UTC:20180526T080000
DTEND;TZID=UTC:20180526T170000
DTSTAMP:20260424T121819
CREATED:20170814T224300Z
LAST-MODIFIED:20181005T184139Z
UID:1649-1527321600-1527354000@www.talonrange.com
SUMMARY:Basic II
DESCRIPTION:This class covers more advanced subjects such as combat reloads\, drawing and shooting and positional shooting. This is a good second course for a shooter at any skill level. \nThese classes tend to be smaller and offer plenty of instruction from one of our lead trainers. We do not provide ammunition for this class but you can purchase it from the Pro Shop at cost. This is a four-hour course.
URL:https://www.talonrange.com/event/basic-ii-2-2018-05-26/
CATEGORIES:Class
ATTACH;FMTTYPE=image/jpeg:https://www.talonrange.com/wp-content/uploads/2017/08/basic2.jpg
END:VEVENT
END:VCALENDAR