BEGIN:VCALENDAR
VERSION:2.0
PRODID:-//Talon Range &amp; Training - ECPv6.15.20//NONSGML v1.0//EN
CALSCALE:GREGORIAN
METHOD:PUBLISH
X-WR-CALNAME:Talon Range &amp; Training
X-ORIGINAL-URL:https://www.talonrange.com
X-WR-CALDESC:Events for Talon Range &amp; Training
REFRESH-INTERVAL;VALUE=DURATION:PT1H
X-Robots-Tag:noindex
X-PUBLISHED-TTL:PT1H
BEGIN:VTIMEZONE
TZID:UTC
BEGIN:STANDARD
TZOFFSETFROM:+0000
TZOFFSETTO:+0000
TZNAME:UTC
DTSTART:20170101T000000
END:STANDARD
END:VTIMEZONE
BEGIN:VEVENT
DTSTART;TZID=UTC:20181215T083000
DTEND;TZID=UTC:20181215T140000
DTSTAMP:20260424T043909
CREATED:20170629T222900Z
LAST-MODIFIED:20190715T204611Z
UID:1574-1544862600-1544882400@www.talonrange.com
SUMMARY:Cowboy Action Match
DESCRIPTION:The Single Action Shooting Society (SASS) is an international organization created to preserve and promote the sport of Cowboy Action Shooting™. \nCowboy Action Shooting is a multi-faceted shooting sport in which contestants compete with firearms typical of those used in the taming of the Old West: single action revolvers\, pistol caliber lever action rifles\, and old time shotguns. \nFor questions of any kind\, please contact Cassalong Hopidy (Cass Vickers) at 850.459.5472 or by email at cdv1875@comcast.net
URL:https://www.talonrange.com/event/cowboy-action-match-2018-05-19-2018-12-15/
LOCATION:Talon Range\, 550 Commerce Blvd\, Midway\, FL\, 32343\, United States
CATEGORIES:Competitions
ATTACH;FMTTYPE=image/jpeg:https://www.talonrange.com/wp-content/uploads/2017/06/rhr-logo-3-jpg.jpg
END:VEVENT
BEGIN:VEVENT
DTSTART;TZID=UTC:20181215T080000
DTEND;TZID=UTC:20181215T170000
DTSTAMP:20260424T043909
CREATED:20170814T224300Z
LAST-MODIFIED:20181005T184139Z
UID:1901-1544860800-1544893200@www.talonrange.com
SUMMARY:Basic II
DESCRIPTION:This class covers more advanced subjects such as combat reloads\, drawing and shooting and positional shooting. This is a good second course for a shooter at any skill level. \nThese classes tend to be smaller and offer plenty of instruction from one of our lead trainers. We do not provide ammunition for this class but you can purchase it from the Pro Shop at cost. This is a four-hour course.
URL:https://www.talonrange.com/event/basic-ii-2-2018-12-15/
LOCATION:FL
CATEGORIES:Class
ATTACH;FMTTYPE=image/jpeg:https://www.talonrange.com/wp-content/uploads/2017/08/basic2.jpg
END:VEVENT
BEGIN:VEVENT
DTSTART;TZID=UTC:20181213T190000
DTEND;TZID=UTC:20181213T203000
DTSTAMP:20260424T043909
CREATED:20180407T220633Z
LAST-MODIFIED:20181124T214122Z
UID:1527-1544727600-1544733000@www.talonrange.com
SUMMARY:Bowling Pin Match
DESCRIPTION:Every Thursday night at 7:00 P.M.\, weather and attendance permitting\, we host a Bowling Pin Shoot for our members and guests. \nOur weekly match consists of shooting five bowling pins off of one of our steel tables in each heat against another shooter. It is a double elimination bracket and most shooters tend to favor 45ACP or 10mm handguns to have the energy necessary to remove the pins quickly from the table. \nFeel free to call us before you plan to attend at 850-597-7550 and we will make sure to answer any questions or concerns you may have. \n 
URL:https://www.talonrange.com/event/bowling-pin-match-14-2018-12-13/
LOCATION:Talon Range\, 550 Commerce Blvd\, Midway\, FL\, 32343\, United States
CATEGORIES:Competitions
END:VEVENT
BEGIN:VEVENT
DTSTART;TZID=UTC:20181208T100000
DTEND;TZID=UTC:20181208T110000
DTSTAMP:20260424T043909
CREATED:20170629T182541Z
LAST-MODIFIED:20170629T182541Z
UID:1549-1544263200-1544266800@www.talonrange.com
SUMMARY:Talon Outdoors Show
DESCRIPTION:Talon Range presents the Talon Outdoors Show on WFLA 100.7 FM from 10 a.m. till 11 a.m. Listen on your radio or listen on our podcast channel anytime.
URL:https://www.talonrange.com/event/talon-outdoors-show-2018-04-14-2018-12-08/
LOCATION:FL
ATTACH;FMTTYPE=image/jpeg:https://www.talonrange.com/wp-content/uploads/2017/07/TALON-OUTDOORS-LOGO-FINAL-FULL-COLOR.jpg
END:VEVENT
BEGIN:VEVENT
DTSTART;TZID=UTC:20181208T083000
DTEND;TZID=UTC:20181208T140000
DTSTAMP:20260424T043909
CREATED:20170629T222900Z
LAST-MODIFIED:20170629T222900Z
UID:2503-1544257800-1544277600@www.talonrange.com
SUMMARY:Cowboy Action Match
DESCRIPTION:The Single Action Shooting Society (SASS) is an international organization created to preserve and promote the sport of Cowboy Action Shooting™. \nCowboy Action Shooting is a multi-faceted shooting sport in which contestants compete with firearms typical of those used in the taming of the Old West: single action revolvers\, pistol caliber lever action rifles\, and old time shotguns. \nFor questions of any kind\, please contact Cassalong Hopidy (Cass Vickers) at 850.459.5472 or by email at cdv1875@comcast.net
URL:https://www.talonrange.com/event/cowboy-action-match-2018-05-19-2018-12-08/
LOCATION:Talon Range\, 550 Commerce Blvd\, Midway\, FL\, 32343\, United States
CATEGORIES:Competitions
ATTACH;FMTTYPE=image/jpeg:https://www.talonrange.com/wp-content/uploads/2017/06/rhr-logo-3-jpg.jpg
END:VEVENT
BEGIN:VEVENT
DTSTART;TZID=UTC:20181206T190000
DTEND;TZID=UTC:20181206T203000
DTSTAMP:20260424T043909
CREATED:20180407T220633Z
LAST-MODIFIED:20181124T214121Z
UID:1526-1544122800-1544128200@www.talonrange.com
SUMMARY:Bowling Pin Match
DESCRIPTION:Every Thursday night at 7:00 P.M.\, weather and attendance permitting\, we host a Bowling Pin Shoot for our members and guests. \nOur weekly match consists of shooting five bowling pins off of one of our steel tables in each heat against another shooter. It is a double elimination bracket and most shooters tend to favor 45ACP or 10mm handguns to have the energy necessary to remove the pins quickly from the table. \nFeel free to call us before you plan to attend at 850-597-7550 and we will make sure to answer any questions or concerns you may have. \n 
URL:https://www.talonrange.com/event/bowling-pin-match-14-2018-12-06/
LOCATION:Talon Range\, 550 Commerce Blvd\, Midway\, FL\, 32343\, United States
CATEGORIES:Competitions
END:VEVENT
BEGIN:VEVENT
DTSTART;TZID=UTC:20181201T100000
DTEND;TZID=UTC:20181201T110000
DTSTAMP:20260424T043909
CREATED:20170629T182541Z
LAST-MODIFIED:20170629T182541Z
UID:1548-1543658400-1543662000@www.talonrange.com
SUMMARY:Talon Outdoors Show
DESCRIPTION:Talon Range presents the Talon Outdoors Show on WFLA 100.7 FM from 10 a.m. till 11 a.m. Listen on your radio or listen on our podcast channel anytime.
URL:https://www.talonrange.com/event/talon-outdoors-show-2018-04-14-2018-12-01/
LOCATION:FL
ATTACH;FMTTYPE=image/jpeg:https://www.talonrange.com/wp-content/uploads/2017/07/TALON-OUTDOORS-LOGO-FINAL-FULL-COLOR.jpg
END:VEVENT
BEGIN:VEVENT
DTSTART;TZID=UTC:20181129T190000
DTEND;TZID=UTC:20181129T203000
DTSTAMP:20260424T043909
CREATED:20180407T220633Z
LAST-MODIFIED:20181124T214121Z
UID:1525-1543518000-1543523400@www.talonrange.com
SUMMARY:Bowling Pin Match
DESCRIPTION:Every Thursday night at 7:00 P.M.\, weather and attendance permitting\, we host a Bowling Pin Shoot for our members and guests. \nOur weekly match consists of shooting five bowling pins off of one of our steel tables in each heat against another shooter. It is a double elimination bracket and most shooters tend to favor 45ACP or 10mm handguns to have the energy necessary to remove the pins quickly from the table. \nFeel free to call us before you plan to attend at 850-597-7550 and we will make sure to answer any questions or concerns you may have. \n 
URL:https://www.talonrange.com/event/bowling-pin-match-14-2018-11-29/
LOCATION:Talon Range\, 550 Commerce Blvd\, Midway\, FL\, 32343\, United States
CATEGORIES:Competitions
END:VEVENT
BEGIN:VEVENT
DTSTART;TZID=UTC:20181124T100000
DTEND;TZID=UTC:20181124T110000
DTSTAMP:20260424T043909
CREATED:20170629T182541Z
LAST-MODIFIED:20170629T182541Z
UID:1547-1543053600-1543057200@www.talonrange.com
SUMMARY:Talon Outdoors Show
DESCRIPTION:Talon Range presents the Talon Outdoors Show on WFLA 100.7 FM from 10 a.m. till 11 a.m. Listen on your radio or listen on our podcast channel anytime.
URL:https://www.talonrange.com/event/talon-outdoors-show-2018-04-14-2018-11-24/
LOCATION:FL
ATTACH;FMTTYPE=image/jpeg:https://www.talonrange.com/wp-content/uploads/2017/07/TALON-OUTDOORS-LOGO-FINAL-FULL-COLOR.jpg
END:VEVENT
BEGIN:VEVENT
DTSTART;TZID=UTC:20181124T083000
DTEND;TZID=UTC:20181124T123000
DTSTAMP:20260424T043909
CREATED:20171121T005553Z
LAST-MODIFIED:20181124T224748Z
UID:2171-1543048200-1543062600@www.talonrange.com
SUMMARY:IDPA Match
DESCRIPTION:The International Defensive Pistol Association (IDPA) is the governing body of a shooting sport that simulates self-defense scenarios and real life encounters.  One of the unique facets of this sport is that it is geared toward the new or average shooter\, yet is fun\, challenging and rewarding for the experienced shooter.
URL:https://www.talonrange.com/event/idpa-match-3-2018-11-24-2/
LOCATION:FL
CATEGORIES:Competitions
ATTACH;FMTTYPE=image/png:https://www.talonrange.com/wp-content/uploads/2017/11/IDPA.png
END:VEVENT
BEGIN:VEVENT
DTSTART;TZID=UTC:20181124T080000
DTEND;TZID=UTC:20181124T143000
DTSTAMP:20260424T043909
CREATED:20171121T005553Z
LAST-MODIFIED:20181124T224748Z
UID:1629-1543046400-1543069800@www.talonrange.com
SUMMARY:IDPA Match
DESCRIPTION:The International Defensive Pistol Association (IDPA) is the governing body of a shooting sport that simulates self-defense scenarios and real life encounters.  One of the unique facets of this sport is that it is geared toward the new or average shooter\, yet is fun\, challenging and rewarding for the experienced shooter.
URL:https://www.talonrange.com/event/idpa-match-3-2018-11-24/
LOCATION:FL
CATEGORIES:Competitions
ATTACH;FMTTYPE=image/png:https://www.talonrange.com/wp-content/uploads/2017/11/IDPA.png
END:VEVENT
BEGIN:VEVENT
DTSTART;TZID=UTC:20181122T190000
DTEND;TZID=UTC:20181122T203000
DTSTAMP:20260424T043909
CREATED:20180407T220633Z
LAST-MODIFIED:20181124T214120Z
UID:1524-1542913200-1542918600@www.talonrange.com
SUMMARY:Bowling Pin Match
DESCRIPTION:Every Thursday night at 7:00 P.M.\, weather and attendance permitting\, we host a Bowling Pin Shoot for our members and guests. \nOur weekly match consists of shooting five bowling pins off of one of our steel tables in each heat against another shooter. It is a double elimination bracket and most shooters tend to favor 45ACP or 10mm handguns to have the energy necessary to remove the pins quickly from the table. \nFeel free to call us before you plan to attend at 850-597-7550 and we will make sure to answer any questions or concerns you may have. \n 
URL:https://www.talonrange.com/event/bowling-pin-match-14-2018-11-22/
LOCATION:Talon Range\, 550 Commerce Blvd\, Midway\, FL\, 32343\, United States
CATEGORIES:Competitions
END:VEVENT
BEGIN:VEVENT
DTSTART;TZID=UTC:20181117T100000
DTEND;TZID=UTC:20181117T110000
DTSTAMP:20260424T043909
CREATED:20170629T182541Z
LAST-MODIFIED:20170629T182541Z
UID:1546-1542448800-1542452400@www.talonrange.com
SUMMARY:Talon Outdoors Show
DESCRIPTION:Talon Range presents the Talon Outdoors Show on WFLA 100.7 FM from 10 a.m. till 11 a.m. Listen on your radio or listen on our podcast channel anytime.
URL:https://www.talonrange.com/event/talon-outdoors-show-2018-04-14-2018-11-17/
LOCATION:FL
ATTACH;FMTTYPE=image/jpeg:https://www.talonrange.com/wp-content/uploads/2017/07/TALON-OUTDOORS-LOGO-FINAL-FULL-COLOR.jpg
END:VEVENT
BEGIN:VEVENT
DTSTART;TZID=UTC:20181115T190000
DTEND;TZID=UTC:20181115T203000
DTSTAMP:20260424T043909
CREATED:20180407T220633Z
LAST-MODIFIED:20181124T214120Z
UID:1523-1542308400-1542313800@www.talonrange.com
SUMMARY:Bowling Pin Match
DESCRIPTION:Every Thursday night at 7:00 P.M.\, weather and attendance permitting\, we host a Bowling Pin Shoot for our members and guests. \nOur weekly match consists of shooting five bowling pins off of one of our steel tables in each heat against another shooter. It is a double elimination bracket and most shooters tend to favor 45ACP or 10mm handguns to have the energy necessary to remove the pins quickly from the table. \nFeel free to call us before you plan to attend at 850-597-7550 and we will make sure to answer any questions or concerns you may have. \n 
URL:https://www.talonrange.com/event/bowling-pin-match-14-2018-11-15/
LOCATION:Talon Range\, 550 Commerce Blvd\, Midway\, FL\, 32343\, United States
CATEGORIES:Competitions
END:VEVENT
BEGIN:VEVENT
DTSTART;TZID=UTC:20181110T100000
DTEND;TZID=UTC:20181110T110000
DTSTAMP:20260424T043910
CREATED:20170629T182541Z
LAST-MODIFIED:20170629T182541Z
UID:1545-1541844000-1541847600@www.talonrange.com
SUMMARY:Talon Outdoors Show
DESCRIPTION:Talon Range presents the Talon Outdoors Show on WFLA 100.7 FM from 10 a.m. till 11 a.m. Listen on your radio or listen on our podcast channel anytime.
URL:https://www.talonrange.com/event/talon-outdoors-show-2018-04-14-2018-11-10/
LOCATION:FL
ATTACH;FMTTYPE=image/jpeg:https://www.talonrange.com/wp-content/uploads/2017/07/TALON-OUTDOORS-LOGO-FINAL-FULL-COLOR.jpg
END:VEVENT
BEGIN:VEVENT
DTSTART;TZID=UTC:20181110T083000
DTEND;TZID=UTC:20181110T140000
DTSTAMP:20260424T043910
CREATED:20170629T222900Z
LAST-MODIFIED:20170629T222900Z
UID:2502-1541838600-1541858400@www.talonrange.com
SUMMARY:Cowboy Action Match
DESCRIPTION:The Single Action Shooting Society (SASS) is an international organization created to preserve and promote the sport of Cowboy Action Shooting™. \nCowboy Action Shooting is a multi-faceted shooting sport in which contestants compete with firearms typical of those used in the taming of the Old West: single action revolvers\, pistol caliber lever action rifles\, and old time shotguns. \nFor questions of any kind\, please contact Cassalong Hopidy (Cass Vickers) at 850.459.5472 or by email at cdv1875@comcast.net
URL:https://www.talonrange.com/event/cowboy-action-match-2018-05-19-2018-11-10/
LOCATION:Talon Range\, 550 Commerce Blvd\, Midway\, FL\, 32343\, United States
CATEGORIES:Competitions
ATTACH;FMTTYPE=image/jpeg:https://www.talonrange.com/wp-content/uploads/2017/06/rhr-logo-3-jpg.jpg
END:VEVENT
BEGIN:VEVENT
DTSTART;TZID=UTC:20181110T080000
DTEND;TZID=UTC:20181110T170000
DTSTAMP:20260424T043910
CREATED:20170814T224300Z
LAST-MODIFIED:20181005T184139Z
UID:1900-1541836800-1541869200@www.talonrange.com
SUMMARY:Basic II
DESCRIPTION:This class covers more advanced subjects such as combat reloads\, drawing and shooting and positional shooting. This is a good second course for a shooter at any skill level. \nThese classes tend to be smaller and offer plenty of instruction from one of our lead trainers. We do not provide ammunition for this class but you can purchase it from the Pro Shop at cost. This is a four-hour course.
URL:https://www.talonrange.com/event/basic-ii-2-2018-11-10/
LOCATION:FL
CATEGORIES:Class
ATTACH;FMTTYPE=image/jpeg:https://www.talonrange.com/wp-content/uploads/2017/08/basic2.jpg
END:VEVENT
BEGIN:VEVENT
DTSTART;TZID=UTC:20181108T190000
DTEND;TZID=UTC:20181108T203000
DTSTAMP:20260424T043910
CREATED:20180407T220633Z
LAST-MODIFIED:20181124T214120Z
UID:1522-1541703600-1541709000@www.talonrange.com
SUMMARY:Bowling Pin Match
DESCRIPTION:Every Thursday night at 7:00 P.M.\, weather and attendance permitting\, we host a Bowling Pin Shoot for our members and guests. \nOur weekly match consists of shooting five bowling pins off of one of our steel tables in each heat against another shooter. It is a double elimination bracket and most shooters tend to favor 45ACP or 10mm handguns to have the energy necessary to remove the pins quickly from the table. \nFeel free to call us before you plan to attend at 850-597-7550 and we will make sure to answer any questions or concerns you may have. \n 
URL:https://www.talonrange.com/event/bowling-pin-match-14-2018-11-08/
LOCATION:Talon Range\, 550 Commerce Blvd\, Midway\, FL\, 32343\, United States
CATEGORIES:Competitions
END:VEVENT
BEGIN:VEVENT
DTSTART;TZID=UTC:20181103T083000
DTEND;TZID=UTC:20181103T173000
DTSTAMP:20260424T043910
CREATED:20171118T215030Z
LAST-MODIFIED:20181124T231055Z
UID:1968-1541233800-1541266200@www.talonrange.com
SUMMARY:TACTICAL CARBINE I
DESCRIPTION:This civilian tactical carbine class involves basic operation of the tactical carbine\, primarily the AR platform but Mini-14s and others are included. We will cover reloading\, moving and shooting\, positional shooting\, sight in\, sling techniques and the use of cover; time permitting\, we will also include two-man drills. \nThis is an eight-hour course.  Students must bring 300 rounds of ammunition or purchase ammunition at the Pro Shop.
URL:https://www.talonrange.com/event/surviving-a-critical-incident-2018-11-03-2018-11-03/
LOCATION:Talon Range\, 550 Commerce Blvd\, Midway\, FL\, 32343\, United States
CATEGORIES:Class
END:VEVENT
BEGIN:VEVENT
DTSTART;TZID=UTC:20181101T190000
DTEND;TZID=UTC:20181101T203000
DTSTAMP:20260424T043910
CREATED:20180407T220633Z
LAST-MODIFIED:20181124T214119Z
UID:1521-1541098800-1541104200@www.talonrange.com
SUMMARY:Bowling Pin Match
DESCRIPTION:Every Thursday night at 7:00 P.M.\, weather and attendance permitting\, we host a Bowling Pin Shoot for our members and guests. \nOur weekly match consists of shooting five bowling pins off of one of our steel tables in each heat against another shooter. It is a double elimination bracket and most shooters tend to favor 45ACP or 10mm handguns to have the energy necessary to remove the pins quickly from the table. \nFeel free to call us before you plan to attend at 850-597-7550 and we will make sure to answer any questions or concerns you may have. \n 
URL:https://www.talonrange.com/event/bowling-pin-match-14-2018-11-01/
LOCATION:Talon Range\, 550 Commerce Blvd\, Midway\, FL\, 32343\, United States
CATEGORIES:Competitions
END:VEVENT
BEGIN:VEVENT
DTSTART;TZID=UTC:20181027T100000
DTEND;TZID=UTC:20181027T110000
DTSTAMP:20260424T043910
CREATED:20170629T182541Z
LAST-MODIFIED:20170629T182541Z
UID:1543-1540634400-1540638000@www.talonrange.com
SUMMARY:Talon Outdoors Show
DESCRIPTION:Talon Range presents the Talon Outdoors Show on WFLA 100.7 FM from 10 a.m. till 11 a.m. Listen on your radio or listen on our podcast channel anytime.
URL:https://www.talonrange.com/event/talon-outdoors-show-2018-04-14-2018-10-27/
LOCATION:FL
ATTACH;FMTTYPE=image/jpeg:https://www.talonrange.com/wp-content/uploads/2017/07/TALON-OUTDOORS-LOGO-FINAL-FULL-COLOR.jpg
END:VEVENT
BEGIN:VEVENT
DTSTART;TZID=UTC:20181027T083000
DTEND;TZID=UTC:20181027T123000
DTSTAMP:20260424T043910
CREATED:20171121T005553Z
LAST-MODIFIED:20181124T224748Z
UID:2170-1540629000-1540643400@www.talonrange.com
SUMMARY:IDPA Match
DESCRIPTION:The International Defensive Pistol Association (IDPA) is the governing body of a shooting sport that simulates self-defense scenarios and real life encounters.  One of the unique facets of this sport is that it is geared toward the new or average shooter\, yet is fun\, challenging and rewarding for the experienced shooter.
URL:https://www.talonrange.com/event/idpa-match-3-2018-10-27-2/
LOCATION:FL
CATEGORIES:Competitions
ATTACH;FMTTYPE=image/png:https://www.talonrange.com/wp-content/uploads/2017/11/IDPA.png
END:VEVENT
BEGIN:VEVENT
DTSTART;TZID=UTC:20181027T080000
DTEND;TZID=UTC:20181027T143000
DTSTAMP:20260424T043910
CREATED:20171121T005553Z
LAST-MODIFIED:20181124T224748Z
UID:1628-1540627200-1540650600@www.talonrange.com
SUMMARY:IDPA Match
DESCRIPTION:The International Defensive Pistol Association (IDPA) is the governing body of a shooting sport that simulates self-defense scenarios and real life encounters.  One of the unique facets of this sport is that it is geared toward the new or average shooter\, yet is fun\, challenging and rewarding for the experienced shooter.
URL:https://www.talonrange.com/event/idpa-match-3-2018-10-27/
LOCATION:FL
CATEGORIES:Competitions
ATTACH;FMTTYPE=image/png:https://www.talonrange.com/wp-content/uploads/2017/11/IDPA.png
END:VEVENT
BEGIN:VEVENT
DTSTART;TZID=UTC:20181025T190000
DTEND;TZID=UTC:20181025T203000
DTSTAMP:20260424T043910
CREATED:20180407T220633Z
LAST-MODIFIED:20181124T214119Z
UID:1520-1540494000-1540499400@www.talonrange.com
SUMMARY:Bowling Pin Match
DESCRIPTION:Every Thursday night at 7:00 P.M.\, weather and attendance permitting\, we host a Bowling Pin Shoot for our members and guests. \nOur weekly match consists of shooting five bowling pins off of one of our steel tables in each heat against another shooter. It is a double elimination bracket and most shooters tend to favor 45ACP or 10mm handguns to have the energy necessary to remove the pins quickly from the table. \nFeel free to call us before you plan to attend at 850-597-7550 and we will make sure to answer any questions or concerns you may have. \n 
URL:https://www.talonrange.com/event/bowling-pin-match-14-2018-10-25/
LOCATION:Talon Range\, 550 Commerce Blvd\, Midway\, FL\, 32343\, United States
CATEGORIES:Competitions
END:VEVENT
BEGIN:VEVENT
DTSTART;TZID=UTC:20181020T100000
DTEND;TZID=UTC:20181020T110000
DTSTAMP:20260424T043910
CREATED:20170629T182541Z
LAST-MODIFIED:20170629T182541Z
UID:1542-1540029600-1540033200@www.talonrange.com
SUMMARY:Talon Outdoors Show
DESCRIPTION:Talon Range presents the Talon Outdoors Show on WFLA 100.7 FM from 10 a.m. till 11 a.m. Listen on your radio or listen on our podcast channel anytime.
URL:https://www.talonrange.com/event/talon-outdoors-show-2018-04-14-2018-10-20/
LOCATION:FL
ATTACH;FMTTYPE=image/jpeg:https://www.talonrange.com/wp-content/uploads/2017/07/TALON-OUTDOORS-LOGO-FINAL-FULL-COLOR.jpg
END:VEVENT
BEGIN:VEVENT
DTSTART;TZID=UTC:20181020T083000
DTEND;TZID=UTC:20181020T143000
DTSTAMP:20260424T043910
CREATED:20171121T005828Z
LAST-MODIFIED:20171121T005828Z
UID:2429-1540024200-1540045800@www.talonrange.com
SUMMARY:Scholastic Steel Challenge
DESCRIPTION:Scholastic Shooting Sports Foundation (SSSF) is the national governing body for the Scholastic Action Shooting Program (SASP)\, offering youth from grade school through college the opportunity to safely participate in our exciting team-based action shooting sports!
URL:https://www.talonrange.com/event/scholastic-steel-challenge-2-2018-10-20/
LOCATION:FL
ATTACH;FMTTYPE=image/png:https://www.talonrange.com/wp-content/uploads/2017/11/SSTP_SASP.png
END:VEVENT
BEGIN:VEVENT
DTSTART;TZID=UTC:20181020T083000
DTEND;TZID=UTC:20181020T140000
DTSTAMP:20260424T043910
CREATED:20170629T222900Z
LAST-MODIFIED:20190715T204611Z
UID:1572-1540024200-1540044000@www.talonrange.com
SUMMARY:Cowboy Action Match
DESCRIPTION:The Single Action Shooting Society (SASS) is an international organization created to preserve and promote the sport of Cowboy Action Shooting™. \nCowboy Action Shooting is a multi-faceted shooting sport in which contestants compete with firearms typical of those used in the taming of the Old West: single action revolvers\, pistol caliber lever action rifles\, and old time shotguns. \nFor questions of any kind\, please contact Cassalong Hopidy (Cass Vickers) at 850.459.5472 or by email at cdv1875@comcast.net
URL:https://www.talonrange.com/event/cowboy-action-match-2018-05-19-2018-10-20/
LOCATION:Talon Range\, 550 Commerce Blvd\, Midway\, FL\, 32343\, United States
CATEGORIES:Competitions
ATTACH;FMTTYPE=image/jpeg:https://www.talonrange.com/wp-content/uploads/2017/06/rhr-logo-3-jpg.jpg
END:VEVENT
BEGIN:VEVENT
DTSTART;TZID=UTC:20181020T080000
DTEND;TZID=UTC:20181020T170000
DTSTAMP:20260424T043910
CREATED:20170814T224300Z
LAST-MODIFIED:20170814T224300Z
UID:1908-1540022400-1540054800@www.talonrange.com
SUMMARY:Basic II
DESCRIPTION:This class covers more advanced subjects such as combat reloads\, drawing and shooting and positional shooting. This is a good second course for a shooter at any skill level. \nThese classes tend to be smaller and offer plenty of instruction from one of our lead trainers. We do not provide ammunition for this class but you can purchase it from the Pro Shop at cost. This is a four-hour course.
URL:https://www.talonrange.com/event/basic-ii-2-2018-10-20/
LOCATION:FL
CATEGORIES:Class
ATTACH;FMTTYPE=image/jpeg:https://www.talonrange.com/wp-content/uploads/2017/08/basic2.jpg
END:VEVENT
BEGIN:VEVENT
DTSTART;TZID=UTC:20181018T190000
DTEND;TZID=UTC:20181018T203000
DTSTAMP:20260424T043910
CREATED:20180407T220633Z
LAST-MODIFIED:20181124T214119Z
UID:1519-1539889200-1539894600@www.talonrange.com
SUMMARY:Bowling Pin Match
DESCRIPTION:Every Thursday night at 7:00 P.M.\, weather and attendance permitting\, we host a Bowling Pin Shoot for our members and guests. \nOur weekly match consists of shooting five bowling pins off of one of our steel tables in each heat against another shooter. It is a double elimination bracket and most shooters tend to favor 45ACP or 10mm handguns to have the energy necessary to remove the pins quickly from the table. \nFeel free to call us before you plan to attend at 850-597-7550 and we will make sure to answer any questions or concerns you may have. \n 
URL:https://www.talonrange.com/event/bowling-pin-match-14-2018-10-18/
LOCATION:Talon Range\, 550 Commerce Blvd\, Midway\, FL\, 32343\, United States
CATEGORIES:Competitions
END:VEVENT
BEGIN:VEVENT
DTSTART;TZID=UTC:20181013T100000
DTEND;TZID=UTC:20181013T110000
DTSTAMP:20260424T043910
CREATED:20170629T182541Z
LAST-MODIFIED:20170629T182541Z
UID:1541-1539424800-1539428400@www.talonrange.com
SUMMARY:Talon Outdoors Show
DESCRIPTION:Talon Range presents the Talon Outdoors Show on WFLA 100.7 FM from 10 a.m. till 11 a.m. Listen on your radio or listen on our podcast channel anytime.
URL:https://www.talonrange.com/event/talon-outdoors-show-2018-04-14-2018-10-13/
LOCATION:FL
ATTACH;FMTTYPE=image/jpeg:https://www.talonrange.com/wp-content/uploads/2017/07/TALON-OUTDOORS-LOGO-FINAL-FULL-COLOR.jpg
END:VEVENT
END:VCALENDAR