BEGIN:VCALENDAR
VERSION:2.0
PRODID:-//Talon Range &amp; Training - ECPv6.15.20//NONSGML v1.0//EN
CALSCALE:GREGORIAN
METHOD:PUBLISH
X-WR-CALNAME:Talon Range &amp; Training
X-ORIGINAL-URL:https://www.talonrange.com
X-WR-CALDESC:Events for Talon Range &amp; Training
REFRESH-INTERVAL;VALUE=DURATION:PT1H
X-Robots-Tag:noindex
X-PUBLISHED-TTL:PT1H
BEGIN:VTIMEZONE
TZID:UTC
BEGIN:STANDARD
TZOFFSETFROM:+0000
TZOFFSETTO:+0000
TZNAME:UTC
DTSTART:20170101T000000
END:STANDARD
END:VTIMEZONE
BEGIN:VEVENT
DTSTART;TZID=UTC:20190221T190000
DTEND;TZID=UTC:20190221T203000
DTSTAMP:20260424T004154
CREATED:20180407T220633Z
LAST-MODIFIED:20180407T220633Z
UID:2027-1550775600-1550781000@www.talonrange.com
SUMMARY:Bowling Pin Match
DESCRIPTION:Every Thursday night at 7:00 P.M.\, weather and attendance permitting\, we host a Bowling Pin Shoot for our members and guests. \nOur weekly match consists of shooting five bowling pins off of one of our steel tables in each heat against another shooter. It is a double elimination bracket and most shooters tend to favor 45ACP or 10mm handguns to have the energy necessary to remove the pins quickly from the table. \nFeel free to call us before you plan to attend at 850-597-7550 and we will make sure to answer any questions or concerns you may have. \n 
URL:https://www.talonrange.com/event/bowling-pin-match-14-2019-02-21/
LOCATION:Talon Range\, 550 Commerce Blvd\, Midway\, FL\, 32343\, United States
CATEGORIES:Competitions
END:VEVENT
BEGIN:VEVENT
DTSTART;TZID=UTC:20190216T100000
DTEND;TZID=UTC:20190216T110000
DTSTAMP:20260424T004154
CREATED:20170629T182541Z
LAST-MODIFIED:20170629T182541Z
UID:1978-1550311200-1550314800@www.talonrange.com
SUMMARY:Talon Outdoors Show
DESCRIPTION:Talon Range presents the Talon Outdoors Show on WFLA 100.7 FM from 10 a.m. till 11 a.m. Listen on your radio or listen on our podcast channel anytime.
URL:https://www.talonrange.com/event/talon-outdoors-show-2018-04-14-2018-12-29-2019-02-16/
ATTACH;FMTTYPE=image/jpeg:https://www.talonrange.com/wp-content/uploads/2017/07/TALON-OUTDOORS-LOGO-FINAL-FULL-COLOR.jpg
END:VEVENT
BEGIN:VEVENT
DTSTART;TZID=UTC:20190214T190000
DTEND;TZID=UTC:20190214T203000
DTSTAMP:20260424T004154
CREATED:20180407T220633Z
LAST-MODIFIED:20180407T220633Z
UID:2026-1550170800-1550176200@www.talonrange.com
SUMMARY:Bowling Pin Match
DESCRIPTION:Every Thursday night at 7:00 P.M.\, weather and attendance permitting\, we host a Bowling Pin Shoot for our members and guests. \nOur weekly match consists of shooting five bowling pins off of one of our steel tables in each heat against another shooter. It is a double elimination bracket and most shooters tend to favor 45ACP or 10mm handguns to have the energy necessary to remove the pins quickly from the table. \nFeel free to call us before you plan to attend at 850-597-7550 and we will make sure to answer any questions or concerns you may have. \n 
URL:https://www.talonrange.com/event/bowling-pin-match-14-2019-02-14/
LOCATION:Talon Range\, 550 Commerce Blvd\, Midway\, FL\, 32343\, United States
CATEGORIES:Competitions
END:VEVENT
BEGIN:VEVENT
DTSTART;TZID=UTC:20190209T100000
DTEND;TZID=UTC:20190209T110000
DTSTAMP:20260424T004154
CREATED:20170629T182541Z
LAST-MODIFIED:20170629T182541Z
UID:1977-1549706400-1549710000@www.talonrange.com
SUMMARY:Talon Outdoors Show
DESCRIPTION:Talon Range presents the Talon Outdoors Show on WFLA 100.7 FM from 10 a.m. till 11 a.m. Listen on your radio or listen on our podcast channel anytime.
URL:https://www.talonrange.com/event/talon-outdoors-show-2018-04-14-2018-12-29-2019-02-09/
ATTACH;FMTTYPE=image/jpeg:https://www.talonrange.com/wp-content/uploads/2017/07/TALON-OUTDOORS-LOGO-FINAL-FULL-COLOR.jpg
END:VEVENT
BEGIN:VEVENT
DTSTART;TZID=UTC:20190209T083000
DTEND;TZID=UTC:20190209T140000
DTSTAMP:20260424T004154
CREATED:20170629T222900Z
LAST-MODIFIED:20170629T222900Z
UID:2505-1549701000-1549720800@www.talonrange.com
SUMMARY:Cowboy Action Match
DESCRIPTION:The Single Action Shooting Society (SASS) is an international organization created to preserve and promote the sport of Cowboy Action Shooting™. \nCowboy Action Shooting is a multi-faceted shooting sport in which contestants compete with firearms typical of those used in the taming of the Old West: single action revolvers\, pistol caliber lever action rifles\, and old time shotguns. \nFor questions of any kind\, please contact Cassalong Hopidy (Cass Vickers) at 850.459.5472 or by email at cdv1875@comcast.net
URL:https://www.talonrange.com/event/cowboy-action-match-2018-05-19-2019-02-09/
LOCATION:Talon Range\, 550 Commerce Blvd\, Midway\, FL\, 32343\, United States
CATEGORIES:Competitions
ATTACH;FMTTYPE=image/jpeg:https://www.talonrange.com/wp-content/uploads/2017/06/rhr-logo-3-jpg.jpg
END:VEVENT
BEGIN:VEVENT
DTSTART;TZID=UTC:20190207T190000
DTEND;TZID=UTC:20190207T203000
DTSTAMP:20260424T004154
CREATED:20180407T220633Z
LAST-MODIFIED:20180407T220633Z
UID:2025-1549566000-1549571400@www.talonrange.com
SUMMARY:Bowling Pin Match
DESCRIPTION:Every Thursday night at 7:00 P.M.\, weather and attendance permitting\, we host a Bowling Pin Shoot for our members and guests. \nOur weekly match consists of shooting five bowling pins off of one of our steel tables in each heat against another shooter. It is a double elimination bracket and most shooters tend to favor 45ACP or 10mm handguns to have the energy necessary to remove the pins quickly from the table. \nFeel free to call us before you plan to attend at 850-597-7550 and we will make sure to answer any questions or concerns you may have. \n 
URL:https://www.talonrange.com/event/bowling-pin-match-14-2019-02-07/
LOCATION:Talon Range\, 550 Commerce Blvd\, Midway\, FL\, 32343\, United States
CATEGORIES:Competitions
END:VEVENT
BEGIN:VEVENT
DTSTART;TZID=UTC:20190202T100000
DTEND;TZID=UTC:20190202T110000
DTSTAMP:20260424T004154
CREATED:20170629T182541Z
LAST-MODIFIED:20170629T182541Z
UID:1976-1549101600-1549105200@www.talonrange.com
SUMMARY:Talon Outdoors Show
DESCRIPTION:Talon Range presents the Talon Outdoors Show on WFLA 100.7 FM from 10 a.m. till 11 a.m. Listen on your radio or listen on our podcast channel anytime.
URL:https://www.talonrange.com/event/talon-outdoors-show-2018-04-14-2018-12-29-2019-02-02/
ATTACH;FMTTYPE=image/jpeg:https://www.talonrange.com/wp-content/uploads/2017/07/TALON-OUTDOORS-LOGO-FINAL-FULL-COLOR.jpg
END:VEVENT
BEGIN:VEVENT
DTSTART;TZID=UTC:20190131T190000
DTEND;TZID=UTC:20190131T203000
DTSTAMP:20260424T004154
CREATED:20180407T220633Z
LAST-MODIFIED:20180407T220633Z
UID:2024-1548961200-1548966600@www.talonrange.com
SUMMARY:Bowling Pin Match
DESCRIPTION:Every Thursday night at 7:00 P.M.\, weather and attendance permitting\, we host a Bowling Pin Shoot for our members and guests. \nOur weekly match consists of shooting five bowling pins off of one of our steel tables in each heat against another shooter. It is a double elimination bracket and most shooters tend to favor 45ACP or 10mm handguns to have the energy necessary to remove the pins quickly from the table. \nFeel free to call us before you plan to attend at 850-597-7550 and we will make sure to answer any questions or concerns you may have. \n 
URL:https://www.talonrange.com/event/bowling-pin-match-14-2019-01-31/
LOCATION:Talon Range\, 550 Commerce Blvd\, Midway\, FL\, 32343\, United States
CATEGORIES:Competitions
END:VEVENT
BEGIN:VEVENT
DTSTART;TZID=UTC:20190126T100000
DTEND;TZID=UTC:20190126T110000
DTSTAMP:20260424T004154
CREATED:20170629T182541Z
LAST-MODIFIED:20170629T182541Z
UID:1975-1548496800-1548500400@www.talonrange.com
SUMMARY:Talon Outdoors Show
DESCRIPTION:Talon Range presents the Talon Outdoors Show on WFLA 100.7 FM from 10 a.m. till 11 a.m. Listen on your radio or listen on our podcast channel anytime.
URL:https://www.talonrange.com/event/talon-outdoors-show-2018-04-14-2018-12-29-2019-01-26/
ATTACH;FMTTYPE=image/jpeg:https://www.talonrange.com/wp-content/uploads/2017/07/TALON-OUTDOORS-LOGO-FINAL-FULL-COLOR.jpg
END:VEVENT
BEGIN:VEVENT
DTSTART;TZID=UTC:20190126T083000
DTEND;TZID=UTC:20190126T123000
DTSTAMP:20260424T004154
CREATED:20171121T005553Z
LAST-MODIFIED:20181124T224749Z
UID:2173-1548491400-1548505800@www.talonrange.com
SUMMARY:IDPA Match
DESCRIPTION:The International Defensive Pistol Association (IDPA) is the governing body of a shooting sport that simulates self-defense scenarios and real life encounters.  One of the unique facets of this sport is that it is geared toward the new or average shooter\, yet is fun\, challenging and rewarding for the experienced shooter.
URL:https://www.talonrange.com/event/idpa-match-3-2019-01-26/
CATEGORIES:Competitions
ATTACH;FMTTYPE=image/png:https://www.talonrange.com/wp-content/uploads/2017/11/IDPA.png
END:VEVENT
BEGIN:VEVENT
DTSTART;TZID=UTC:20190124T190000
DTEND;TZID=UTC:20190124T203000
DTSTAMP:20260424T004154
CREATED:20180407T220633Z
LAST-MODIFIED:20180407T220633Z
UID:2023-1548356400-1548361800@www.talonrange.com
SUMMARY:Bowling Pin Match
DESCRIPTION:Every Thursday night at 7:00 P.M.\, weather and attendance permitting\, we host a Bowling Pin Shoot for our members and guests. \nOur weekly match consists of shooting five bowling pins off of one of our steel tables in each heat against another shooter. It is a double elimination bracket and most shooters tend to favor 45ACP or 10mm handguns to have the energy necessary to remove the pins quickly from the table. \nFeel free to call us before you plan to attend at 850-597-7550 and we will make sure to answer any questions or concerns you may have. \n 
URL:https://www.talonrange.com/event/bowling-pin-match-14-2019-01-24/
LOCATION:Talon Range\, 550 Commerce Blvd\, Midway\, FL\, 32343\, United States
CATEGORIES:Competitions
END:VEVENT
BEGIN:VEVENT
DTSTART;TZID=UTC:20190119T100000
DTEND;TZID=UTC:20190119T110000
DTSTAMP:20260424T004154
CREATED:20170629T182541Z
LAST-MODIFIED:20170629T182541Z
UID:1974-1547892000-1547895600@www.talonrange.com
SUMMARY:Talon Outdoors Show
DESCRIPTION:Talon Range presents the Talon Outdoors Show on WFLA 100.7 FM from 10 a.m. till 11 a.m. Listen on your radio or listen on our podcast channel anytime.
URL:https://www.talonrange.com/event/talon-outdoors-show-2018-04-14-2018-12-29-2019-01-19/
ATTACH;FMTTYPE=image/jpeg:https://www.talonrange.com/wp-content/uploads/2017/07/TALON-OUTDOORS-LOGO-FINAL-FULL-COLOR.jpg
END:VEVENT
BEGIN:VEVENT
DTSTART;TZID=UTC:20190117T190000
DTEND;TZID=UTC:20190117T203000
DTSTAMP:20260424T004154
CREATED:20180407T220633Z
LAST-MODIFIED:20180407T220633Z
UID:2022-1547751600-1547757000@www.talonrange.com
SUMMARY:Bowling Pin Match
DESCRIPTION:Every Thursday night at 7:00 P.M.\, weather and attendance permitting\, we host a Bowling Pin Shoot for our members and guests. \nOur weekly match consists of shooting five bowling pins off of one of our steel tables in each heat against another shooter. It is a double elimination bracket and most shooters tend to favor 45ACP or 10mm handguns to have the energy necessary to remove the pins quickly from the table. \nFeel free to call us before you plan to attend at 850-597-7550 and we will make sure to answer any questions or concerns you may have. \n 
URL:https://www.talonrange.com/event/bowling-pin-match-14-2019-01-17/
LOCATION:Talon Range\, 550 Commerce Blvd\, Midway\, FL\, 32343\, United States
CATEGORIES:Competitions
END:VEVENT
BEGIN:VEVENT
DTSTART;TZID=UTC:20190112T100000
DTEND;TZID=UTC:20190112T110000
DTSTAMP:20260424T004154
CREATED:20170629T182541Z
LAST-MODIFIED:20170629T182541Z
UID:1973-1547287200-1547290800@www.talonrange.com
SUMMARY:Talon Outdoors Show
DESCRIPTION:Talon Range presents the Talon Outdoors Show on WFLA 100.7 FM from 10 a.m. till 11 a.m. Listen on your radio or listen on our podcast channel anytime.
URL:https://www.talonrange.com/event/talon-outdoors-show-2018-04-14-2018-12-29-2019-01-12/
ATTACH;FMTTYPE=image/jpeg:https://www.talonrange.com/wp-content/uploads/2017/07/TALON-OUTDOORS-LOGO-FINAL-FULL-COLOR.jpg
END:VEVENT
BEGIN:VEVENT
DTSTART;TZID=UTC:20190112T083000
DTEND;TZID=UTC:20190112T140000
DTSTAMP:20260424T004154
CREATED:20170629T222900Z
LAST-MODIFIED:20170629T222900Z
UID:2504-1547281800-1547301600@www.talonrange.com
SUMMARY:Cowboy Action Match
DESCRIPTION:The Single Action Shooting Society (SASS) is an international organization created to preserve and promote the sport of Cowboy Action Shooting™. \nCowboy Action Shooting is a multi-faceted shooting sport in which contestants compete with firearms typical of those used in the taming of the Old West: single action revolvers\, pistol caliber lever action rifles\, and old time shotguns. \nFor questions of any kind\, please contact Cassalong Hopidy (Cass Vickers) at 850.459.5472 or by email at cdv1875@comcast.net
URL:https://www.talonrange.com/event/cowboy-action-match-2018-05-19-2019-01-12/
LOCATION:Talon Range\, 550 Commerce Blvd\, Midway\, FL\, 32343\, United States
CATEGORIES:Competitions
ATTACH;FMTTYPE=image/jpeg:https://www.talonrange.com/wp-content/uploads/2017/06/rhr-logo-3-jpg.jpg
END:VEVENT
BEGIN:VEVENT
DTSTART;TZID=UTC:20190112T080000
DTEND;TZID=UTC:20190112T170000
DTSTAMP:20260424T004154
CREATED:20171120T234831Z
LAST-MODIFIED:20171120T234831Z
UID:2286-1547280000-1547312400@www.talonrange.com
SUMMARY:Civilian Response to Active Shooter
DESCRIPTION:Civilian Response to Active Shooter
URL:https://www.talonrange.com/event/civilian-response-to-active-shooter-2-2019-01-12/
END:VEVENT
BEGIN:VEVENT
DTSTART;TZID=UTC:20190111T180000
DTEND;TZID=UTC:20190111T210000
DTSTAMP:20260424T004154
CREATED:20171120T234831Z
LAST-MODIFIED:20190109T214408Z
UID:2285-1547229600-1547240400@www.talonrange.com
SUMMARY:Civilian Response to Active Shooter
DESCRIPTION:Civilian Response to Active Shooter
URL:https://www.talonrange.com/event/civilian-response-to-active-shooter-2-2019-01-11/
END:VEVENT
BEGIN:VEVENT
DTSTART;TZID=UTC:20190110T190000
DTEND;TZID=UTC:20190110T203000
DTSTAMP:20260424T004154
CREATED:20180407T220633Z
LAST-MODIFIED:20180407T220633Z
UID:2021-1547146800-1547152200@www.talonrange.com
SUMMARY:Bowling Pin Match
DESCRIPTION:Every Thursday night at 7:00 P.M.\, weather and attendance permitting\, we host a Bowling Pin Shoot for our members and guests. \nOur weekly match consists of shooting five bowling pins off of one of our steel tables in each heat against another shooter. It is a double elimination bracket and most shooters tend to favor 45ACP or 10mm handguns to have the energy necessary to remove the pins quickly from the table. \nFeel free to call us before you plan to attend at 850-597-7550 and we will make sure to answer any questions or concerns you may have. \n 
URL:https://www.talonrange.com/event/bowling-pin-match-14-2019-01-10/
LOCATION:Talon Range\, 550 Commerce Blvd\, Midway\, FL\, 32343\, United States
CATEGORIES:Competitions
END:VEVENT
BEGIN:VEVENT
DTSTART;TZID=UTC:20190105T100000
DTEND;TZID=UTC:20190105T110000
DTSTAMP:20260424T004154
CREATED:20170629T182541Z
LAST-MODIFIED:20170629T182541Z
UID:1972-1546682400-1546686000@www.talonrange.com
SUMMARY:Talon Outdoors Show
DESCRIPTION:Talon Range presents the Talon Outdoors Show on WFLA 100.7 FM from 10 a.m. till 11 a.m. Listen on your radio or listen on our podcast channel anytime.
URL:https://www.talonrange.com/event/talon-outdoors-show-2018-04-14-2018-12-29-2019-01-05/
ATTACH;FMTTYPE=image/jpeg:https://www.talonrange.com/wp-content/uploads/2017/07/TALON-OUTDOORS-LOGO-FINAL-FULL-COLOR.jpg
END:VEVENT
BEGIN:VEVENT
DTSTART;TZID=UTC:20190103T190000
DTEND;TZID=UTC:20190103T203000
DTSTAMP:20260424T004154
CREATED:20180407T220633Z
LAST-MODIFIED:20180407T220633Z
UID:2020-1546542000-1546547400@www.talonrange.com
SUMMARY:Bowling Pin Match
DESCRIPTION:Every Thursday night at 7:00 P.M.\, weather and attendance permitting\, we host a Bowling Pin Shoot for our members and guests. \nOur weekly match consists of shooting five bowling pins off of one of our steel tables in each heat against another shooter. It is a double elimination bracket and most shooters tend to favor 45ACP or 10mm handguns to have the energy necessary to remove the pins quickly from the table. \nFeel free to call us before you plan to attend at 850-597-7550 and we will make sure to answer any questions or concerns you may have. \n 
URL:https://www.talonrange.com/event/bowling-pin-match-14-2019-01-03/
LOCATION:Talon Range\, 550 Commerce Blvd\, Midway\, FL\, 32343\, United States
CATEGORIES:Competitions
END:VEVENT
BEGIN:VEVENT
DTSTART;TZID=UTC:20181229T100000
DTEND;TZID=UTC:20181229T110000
DTSTAMP:20260424T004154
CREATED:20170629T182541Z
LAST-MODIFIED:20181124T213553Z
UID:1552-1546077600-1546081200@www.talonrange.com
SUMMARY:Talon Outdoors Show
DESCRIPTION:Talon Range presents the Talon Outdoors Show on WFLA 100.7 FM from 10 a.m. till 11 a.m. Listen on your radio or listen on our podcast channel anytime.
URL:https://www.talonrange.com/event/talon-outdoors-show-2018-04-14-2018-12-29/
ATTACH;FMTTYPE=image/jpeg:https://www.talonrange.com/wp-content/uploads/2017/07/TALON-OUTDOORS-LOGO-FINAL-FULL-COLOR.jpg
END:VEVENT
BEGIN:VEVENT
DTSTART;TZID=UTC:20181229T100000
DTEND;TZID=UTC:20181229T110000
DTSTAMP:20260424T004154
CREATED:20170629T182541Z
LAST-MODIFIED:20170629T182541Z
UID:1971-1546077600-1546081200@www.talonrange.com
SUMMARY:Talon Outdoors Show
DESCRIPTION:Talon Range presents the Talon Outdoors Show on WFLA 100.7 FM from 10 a.m. till 11 a.m. Listen on your radio or listen on our podcast channel anytime.
URL:https://www.talonrange.com/event/talon-outdoors-show-2018-04-14-2018-12-29-2018-12-29/
ATTACH;FMTTYPE=image/jpeg:https://www.talonrange.com/wp-content/uploads/2017/07/TALON-OUTDOORS-LOGO-FINAL-FULL-COLOR.jpg
END:VEVENT
BEGIN:VEVENT
DTSTART;TZID=UTC:20181227T190000
DTEND;TZID=UTC:20181227T203000
DTSTAMP:20260424T004154
CREATED:20180407T220633Z
LAST-MODIFIED:20181124T214122Z
UID:1529-1545937200-1545942600@www.talonrange.com
SUMMARY:Bowling Pin Match
DESCRIPTION:Every Thursday night at 7:00 P.M.\, weather and attendance permitting\, we host a Bowling Pin Shoot for our members and guests. \nOur weekly match consists of shooting five bowling pins off of one of our steel tables in each heat against another shooter. It is a double elimination bracket and most shooters tend to favor 45ACP or 10mm handguns to have the energy necessary to remove the pins quickly from the table. \nFeel free to call us before you plan to attend at 850-597-7550 and we will make sure to answer any questions or concerns you may have. \n 
URL:https://www.talonrange.com/event/bowling-pin-match-14-2018-12-27/
LOCATION:Talon Range\, 550 Commerce Blvd\, Midway\, FL\, 32343\, United States
CATEGORIES:Competitions
END:VEVENT
BEGIN:VEVENT
DTSTART;TZID=UTC:20181222T100000
DTEND;TZID=UTC:20181222T110000
DTSTAMP:20260424T004154
CREATED:20170629T182541Z
LAST-MODIFIED:20170629T182541Z
UID:1551-1545472800-1545476400@www.talonrange.com
SUMMARY:Talon Outdoors Show
DESCRIPTION:Talon Range presents the Talon Outdoors Show on WFLA 100.7 FM from 10 a.m. till 11 a.m. Listen on your radio or listen on our podcast channel anytime.
URL:https://www.talonrange.com/event/talon-outdoors-show-2018-04-14-2018-12-22/
ATTACH;FMTTYPE=image/jpeg:https://www.talonrange.com/wp-content/uploads/2017/07/TALON-OUTDOORS-LOGO-FINAL-FULL-COLOR.jpg
END:VEVENT
BEGIN:VEVENT
DTSTART;TZID=UTC:20181222T083000
DTEND;TZID=UTC:20181222T123000
DTSTAMP:20260424T004154
CREATED:20171121T005553Z
LAST-MODIFIED:20181124T224749Z
UID:2172-1545467400-1545481800@www.talonrange.com
SUMMARY:IDPA Match
DESCRIPTION:The International Defensive Pistol Association (IDPA) is the governing body of a shooting sport that simulates self-defense scenarios and real life encounters.  One of the unique facets of this sport is that it is geared toward the new or average shooter\, yet is fun\, challenging and rewarding for the experienced shooter.
URL:https://www.talonrange.com/event/idpa-match-3-2018-12-22-2/
CATEGORIES:Competitions
ATTACH;FMTTYPE=image/png:https://www.talonrange.com/wp-content/uploads/2017/11/IDPA.png
END:VEVENT
BEGIN:VEVENT
DTSTART;TZID=UTC:20181222T080000
DTEND;TZID=UTC:20181222T143000
DTSTAMP:20260424T004154
CREATED:20171121T005553Z
LAST-MODIFIED:20181124T224749Z
UID:1630-1545465600-1545489000@www.talonrange.com
SUMMARY:IDPA Match
DESCRIPTION:The International Defensive Pistol Association (IDPA) is the governing body of a shooting sport that simulates self-defense scenarios and real life encounters.  One of the unique facets of this sport is that it is geared toward the new or average shooter\, yet is fun\, challenging and rewarding for the experienced shooter.
URL:https://www.talonrange.com/event/idpa-match-3-2018-12-22/
CATEGORIES:Competitions
ATTACH;FMTTYPE=image/png:https://www.talonrange.com/wp-content/uploads/2017/11/IDPA.png
END:VEVENT
BEGIN:VEVENT
DTSTART;TZID=UTC:20181220T190000
DTEND;TZID=UTC:20181220T203000
DTSTAMP:20260424T004154
CREATED:20180407T220633Z
LAST-MODIFIED:20181124T214122Z
UID:1528-1545332400-1545337800@www.talonrange.com
SUMMARY:Bowling Pin Match
DESCRIPTION:Every Thursday night at 7:00 P.M.\, weather and attendance permitting\, we host a Bowling Pin Shoot for our members and guests. \nOur weekly match consists of shooting five bowling pins off of one of our steel tables in each heat against another shooter. It is a double elimination bracket and most shooters tend to favor 45ACP or 10mm handguns to have the energy necessary to remove the pins quickly from the table. \nFeel free to call us before you plan to attend at 850-597-7550 and we will make sure to answer any questions or concerns you may have. \n 
URL:https://www.talonrange.com/event/bowling-pin-match-14-2018-12-20/
LOCATION:Talon Range\, 550 Commerce Blvd\, Midway\, FL\, 32343\, United States
CATEGORIES:Competitions
END:VEVENT
BEGIN:VEVENT
DTSTART;TZID=UTC:20181215T100000
DTEND;TZID=UTC:20181215T110000
DTSTAMP:20260424T004154
CREATED:20170629T182541Z
LAST-MODIFIED:20170629T182541Z
UID:1550-1544868000-1544871600@www.talonrange.com
SUMMARY:Talon Outdoors Show
DESCRIPTION:Talon Range presents the Talon Outdoors Show on WFLA 100.7 FM from 10 a.m. till 11 a.m. Listen on your radio or listen on our podcast channel anytime.
URL:https://www.talonrange.com/event/talon-outdoors-show-2018-04-14-2018-12-15/
ATTACH;FMTTYPE=image/jpeg:https://www.talonrange.com/wp-content/uploads/2017/07/TALON-OUTDOORS-LOGO-FINAL-FULL-COLOR.jpg
END:VEVENT
BEGIN:VEVENT
DTSTART;TZID=UTC:20181215T083000
DTEND;TZID=UTC:20181215T140000
DTSTAMP:20260424T004154
CREATED:20170629T222900Z
LAST-MODIFIED:20190715T204611Z
UID:1574-1544862600-1544882400@www.talonrange.com
SUMMARY:Cowboy Action Match
DESCRIPTION:The Single Action Shooting Society (SASS) is an international organization created to preserve and promote the sport of Cowboy Action Shooting™. \nCowboy Action Shooting is a multi-faceted shooting sport in which contestants compete with firearms typical of those used in the taming of the Old West: single action revolvers\, pistol caliber lever action rifles\, and old time shotguns. \nFor questions of any kind\, please contact Cassalong Hopidy (Cass Vickers) at 850.459.5472 or by email at cdv1875@comcast.net
URL:https://www.talonrange.com/event/cowboy-action-match-2018-05-19-2018-12-15/
LOCATION:Talon Range\, 550 Commerce Blvd\, Midway\, FL\, 32343\, United States
CATEGORIES:Competitions
ATTACH;FMTTYPE=image/jpeg:https://www.talonrange.com/wp-content/uploads/2017/06/rhr-logo-3-jpg.jpg
END:VEVENT
BEGIN:VEVENT
DTSTART;TZID=UTC:20181215T080000
DTEND;TZID=UTC:20181215T170000
DTSTAMP:20260424T004154
CREATED:20170814T224300Z
LAST-MODIFIED:20181005T184139Z
UID:1901-1544860800-1544893200@www.talonrange.com
SUMMARY:Basic II
DESCRIPTION:This class covers more advanced subjects such as combat reloads\, drawing and shooting and positional shooting. This is a good second course for a shooter at any skill level. \nThese classes tend to be smaller and offer plenty of instruction from one of our lead trainers. We do not provide ammunition for this class but you can purchase it from the Pro Shop at cost. This is a four-hour course.
URL:https://www.talonrange.com/event/basic-ii-2-2018-12-15/
CATEGORIES:Class
ATTACH;FMTTYPE=image/jpeg:https://www.talonrange.com/wp-content/uploads/2017/08/basic2.jpg
END:VEVENT
END:VCALENDAR