BEGIN:VCALENDAR
VERSION:2.0
PRODID:-//Talon Range &amp; Training - ECPv6.15.20//NONSGML v1.0//EN
CALSCALE:GREGORIAN
METHOD:PUBLISH
X-WR-CALNAME:Talon Range &amp; Training
X-ORIGINAL-URL:https://www.talonrange.com
X-WR-CALDESC:Events for Talon Range &amp; Training
REFRESH-INTERVAL;VALUE=DURATION:PT1H
X-Robots-Tag:noindex
X-PUBLISHED-TTL:PT1H
BEGIN:VTIMEZONE
TZID:UTC
BEGIN:STANDARD
TZOFFSETFROM:+0000
TZOFFSETTO:+0000
TZNAME:UTC
DTSTART:20180101T000000
END:STANDARD
END:VTIMEZONE
BEGIN:VEVENT
DTSTART;TZID=UTC:20190525T100000
DTEND;TZID=UTC:20190525T110000
DTSTAMP:20260423T063159
CREATED:20170629T182541Z
LAST-MODIFIED:20170629T182541Z
UID:1992-1558778400-1558782000@www.talonrange.com
SUMMARY:Talon Outdoors Show
DESCRIPTION:Talon Range presents the Talon Outdoors Show on WFLA 100.7 FM from 10 a.m. till 11 a.m. Listen on your radio or listen on our podcast channel anytime.
URL:https://www.talonrange.com/event/talon-outdoors-show-2018-04-14-2018-12-29-2019-05-25/
ATTACH;FMTTYPE=image/jpeg:https://www.talonrange.com/wp-content/uploads/2017/07/TALON-OUTDOORS-LOGO-FINAL-FULL-COLOR.jpg
END:VEVENT
BEGIN:VEVENT
DTSTART;TZID=UTC:20190525T083000
DTEND;TZID=UTC:20190525T123000
DTSTAMP:20260423T063159
CREATED:20171121T005553Z
LAST-MODIFIED:20181124T224751Z
UID:2177-1558773000-1558787400@www.talonrange.com
SUMMARY:IDPA Match
DESCRIPTION:The International Defensive Pistol Association (IDPA) is the governing body of a shooting sport that simulates self-defense scenarios and real life encounters.  One of the unique facets of this sport is that it is geared toward the new or average shooter\, yet is fun\, challenging and rewarding for the experienced shooter.
URL:https://www.talonrange.com/event/idpa-match-3-2019-05-25/
CATEGORIES:Competitions
ATTACH;FMTTYPE=image/png:https://www.talonrange.com/wp-content/uploads/2017/11/IDPA.png
END:VEVENT
BEGIN:VEVENT
DTSTART;TZID=UTC:20190523T190000
DTEND;TZID=UTC:20190523T203000
DTSTAMP:20260423T063159
CREATED:20180407T220633Z
LAST-MODIFIED:20180407T220633Z
UID:2040-1558638000-1558643400@www.talonrange.com
SUMMARY:Bowling Pin Match
DESCRIPTION:Every Thursday night at 7:00 P.M.\, weather and attendance permitting\, we host a Bowling Pin Shoot for our members and guests. \nOur weekly match consists of shooting five bowling pins off of one of our steel tables in each heat against another shooter. It is a double elimination bracket and most shooters tend to favor 45ACP or 10mm handguns to have the energy necessary to remove the pins quickly from the table. \nFeel free to call us before you plan to attend at 850-597-7550 and we will make sure to answer any questions or concerns you may have. \n 
URL:https://www.talonrange.com/event/bowling-pin-match-14-2019-05-23/
LOCATION:Talon Range\, 550 Commerce Blvd\, Midway\, FL\, 32343\, United States
CATEGORIES:Competitions
END:VEVENT
BEGIN:VEVENT
DTSTART;TZID=UTC:20190518T100000
DTEND;TZID=UTC:20190518T110000
DTSTAMP:20260423T063159
CREATED:20170629T182541Z
LAST-MODIFIED:20170629T182541Z
UID:1991-1558173600-1558177200@www.talonrange.com
SUMMARY:Talon Outdoors Show
DESCRIPTION:Talon Range presents the Talon Outdoors Show on WFLA 100.7 FM from 10 a.m. till 11 a.m. Listen on your radio or listen on our podcast channel anytime.
URL:https://www.talonrange.com/event/talon-outdoors-show-2018-04-14-2018-12-29-2019-05-18/
ATTACH;FMTTYPE=image/jpeg:https://www.talonrange.com/wp-content/uploads/2017/07/TALON-OUTDOORS-LOGO-FINAL-FULL-COLOR.jpg
END:VEVENT
BEGIN:VEVENT
DTSTART;TZID=UTC:20190516T190000
DTEND;TZID=UTC:20190516T203000
DTSTAMP:20260423T063159
CREATED:20180407T220633Z
LAST-MODIFIED:20180407T220633Z
UID:2039-1558033200-1558038600@www.talonrange.com
SUMMARY:Bowling Pin Match
DESCRIPTION:Every Thursday night at 7:00 P.M.\, weather and attendance permitting\, we host a Bowling Pin Shoot for our members and guests. \nOur weekly match consists of shooting five bowling pins off of one of our steel tables in each heat against another shooter. It is a double elimination bracket and most shooters tend to favor 45ACP or 10mm handguns to have the energy necessary to remove the pins quickly from the table. \nFeel free to call us before you plan to attend at 850-597-7550 and we will make sure to answer any questions or concerns you may have. \n 
URL:https://www.talonrange.com/event/bowling-pin-match-14-2019-05-16/
LOCATION:Talon Range\, 550 Commerce Blvd\, Midway\, FL\, 32343\, United States
CATEGORIES:Competitions
END:VEVENT
BEGIN:VEVENT
DTSTART;TZID=UTC:20190511T100000
DTEND;TZID=UTC:20190511T110000
DTSTAMP:20260423T063159
CREATED:20170629T182541Z
LAST-MODIFIED:20170629T182541Z
UID:1990-1557568800-1557572400@www.talonrange.com
SUMMARY:Talon Outdoors Show
DESCRIPTION:Talon Range presents the Talon Outdoors Show on WFLA 100.7 FM from 10 a.m. till 11 a.m. Listen on your radio or listen on our podcast channel anytime.
URL:https://www.talonrange.com/event/talon-outdoors-show-2018-04-14-2018-12-29-2019-05-11/
ATTACH;FMTTYPE=image/jpeg:https://www.talonrange.com/wp-content/uploads/2017/07/TALON-OUTDOORS-LOGO-FINAL-FULL-COLOR.jpg
END:VEVENT
BEGIN:VEVENT
DTSTART;TZID=UTC:20190509T190000
DTEND;TZID=UTC:20190509T203000
DTSTAMP:20260423T063159
CREATED:20180407T220633Z
LAST-MODIFIED:20180407T220633Z
UID:2038-1557428400-1557433800@www.talonrange.com
SUMMARY:Bowling Pin Match
DESCRIPTION:Every Thursday night at 7:00 P.M.\, weather and attendance permitting\, we host a Bowling Pin Shoot for our members and guests. \nOur weekly match consists of shooting five bowling pins off of one of our steel tables in each heat against another shooter. It is a double elimination bracket and most shooters tend to favor 45ACP or 10mm handguns to have the energy necessary to remove the pins quickly from the table. \nFeel free to call us before you plan to attend at 850-597-7550 and we will make sure to answer any questions or concerns you may have. \n 
URL:https://www.talonrange.com/event/bowling-pin-match-14-2019-05-09/
LOCATION:Talon Range\, 550 Commerce Blvd\, Midway\, FL\, 32343\, United States
CATEGORIES:Competitions
END:VEVENT
BEGIN:VEVENT
DTSTART;TZID=UTC:20190504T100000
DTEND;TZID=UTC:20190504T110000
DTSTAMP:20260423T063159
CREATED:20170629T182541Z
LAST-MODIFIED:20170629T182541Z
UID:1989-1556964000-1556967600@www.talonrange.com
SUMMARY:Talon Outdoors Show
DESCRIPTION:Talon Range presents the Talon Outdoors Show on WFLA 100.7 FM from 10 a.m. till 11 a.m. Listen on your radio or listen on our podcast channel anytime.
URL:https://www.talonrange.com/event/talon-outdoors-show-2018-04-14-2018-12-29-2019-05-04/
ATTACH;FMTTYPE=image/jpeg:https://www.talonrange.com/wp-content/uploads/2017/07/TALON-OUTDOORS-LOGO-FINAL-FULL-COLOR.jpg
END:VEVENT
BEGIN:VEVENT
DTSTART;TZID=UTC:20190504T083000
DTEND;TZID=UTC:20190504T140000
DTSTAMP:20260423T063159
CREATED:20170629T222732Z
LAST-MODIFIED:20170629T222732Z
UID:2071-1556958600-1556978400@www.talonrange.com
SUMMARY:USPSA Match
DESCRIPTION:United States Practical Shooting Association (USPSA) Match – Practical shooting is a sport that evolved from experimentation with handguns used for self-defense. The researchers were an international group of private individuals\, law enforcement officers\, and military people generally operating independently of each other\, challenging the then-accepted standards of technique\, training practices\, and equipment.
URL:https://www.talonrange.com/event/uspsa-2019-05-04/
LOCATION:Talon Range\, 550 Commerce Blvd\, Midway\, FL\, 32343\, United States
CATEGORIES:Competitions
ATTACH;FMTTYPE=image/png:https://www.talonrange.com/wp-content/uploads/2017/06/USPSA.png
END:VEVENT
BEGIN:VEVENT
DTSTART;TZID=UTC:20190502T190000
DTEND;TZID=UTC:20190502T203000
DTSTAMP:20260423T063159
CREATED:20180407T220633Z
LAST-MODIFIED:20180407T220633Z
UID:2037-1556823600-1556829000@www.talonrange.com
SUMMARY:Bowling Pin Match
DESCRIPTION:Every Thursday night at 7:00 P.M.\, weather and attendance permitting\, we host a Bowling Pin Shoot for our members and guests. \nOur weekly match consists of shooting five bowling pins off of one of our steel tables in each heat against another shooter. It is a double elimination bracket and most shooters tend to favor 45ACP or 10mm handguns to have the energy necessary to remove the pins quickly from the table. \nFeel free to call us before you plan to attend at 850-597-7550 and we will make sure to answer any questions or concerns you may have. \n 
URL:https://www.talonrange.com/event/bowling-pin-match-14-2019-05-02/
LOCATION:Talon Range\, 550 Commerce Blvd\, Midway\, FL\, 32343\, United States
CATEGORIES:Competitions
END:VEVENT
BEGIN:VEVENT
DTSTART;TZID=UTC:20190427T100000
DTEND;TZID=UTC:20190427T110000
DTSTAMP:20260423T063159
CREATED:20170629T182541Z
LAST-MODIFIED:20170629T182541Z
UID:1988-1556359200-1556362800@www.talonrange.com
SUMMARY:Talon Outdoors Show
DESCRIPTION:Talon Range presents the Talon Outdoors Show on WFLA 100.7 FM from 10 a.m. till 11 a.m. Listen on your radio or listen on our podcast channel anytime.
URL:https://www.talonrange.com/event/talon-outdoors-show-2018-04-14-2018-12-29-2019-04-27/
ATTACH;FMTTYPE=image/jpeg:https://www.talonrange.com/wp-content/uploads/2017/07/TALON-OUTDOORS-LOGO-FINAL-FULL-COLOR.jpg
END:VEVENT
BEGIN:VEVENT
DTSTART;TZID=UTC:20190427T083000
DTEND;TZID=UTC:20190427T123000
DTSTAMP:20260423T063159
CREATED:20171121T005553Z
LAST-MODIFIED:20181124T224751Z
UID:2176-1556353800-1556368200@www.talonrange.com
SUMMARY:IDPA Match
DESCRIPTION:The International Defensive Pistol Association (IDPA) is the governing body of a shooting sport that simulates self-defense scenarios and real life encounters.  One of the unique facets of this sport is that it is geared toward the new or average shooter\, yet is fun\, challenging and rewarding for the experienced shooter.
URL:https://www.talonrange.com/event/idpa-match-3-2019-04-27/
CATEGORIES:Competitions
ATTACH;FMTTYPE=image/png:https://www.talonrange.com/wp-content/uploads/2017/11/IDPA.png
END:VEVENT
BEGIN:VEVENT
DTSTART;TZID=UTC:20190425T190000
DTEND;TZID=UTC:20190425T203000
DTSTAMP:20260423T063159
CREATED:20180407T220633Z
LAST-MODIFIED:20180407T220633Z
UID:2036-1556218800-1556224200@www.talonrange.com
SUMMARY:Bowling Pin Match
DESCRIPTION:Every Thursday night at 7:00 P.M.\, weather and attendance permitting\, we host a Bowling Pin Shoot for our members and guests. \nOur weekly match consists of shooting five bowling pins off of one of our steel tables in each heat against another shooter. It is a double elimination bracket and most shooters tend to favor 45ACP or 10mm handguns to have the energy necessary to remove the pins quickly from the table. \nFeel free to call us before you plan to attend at 850-597-7550 and we will make sure to answer any questions or concerns you may have. \n 
URL:https://www.talonrange.com/event/bowling-pin-match-14-2019-04-25/
LOCATION:Talon Range\, 550 Commerce Blvd\, Midway\, FL\, 32343\, United States
CATEGORIES:Competitions
END:VEVENT
BEGIN:VEVENT
DTSTART;TZID=UTC:20190420T100000
DTEND;TZID=UTC:20190420T110000
DTSTAMP:20260423T063159
CREATED:20170629T182541Z
LAST-MODIFIED:20170629T182541Z
UID:1987-1555754400-1555758000@www.talonrange.com
SUMMARY:Talon Outdoors Show
DESCRIPTION:Talon Range presents the Talon Outdoors Show on WFLA 100.7 FM from 10 a.m. till 11 a.m. Listen on your radio or listen on our podcast channel anytime.
URL:https://www.talonrange.com/event/talon-outdoors-show-2018-04-14-2018-12-29-2019-04-20/
ATTACH;FMTTYPE=image/jpeg:https://www.talonrange.com/wp-content/uploads/2017/07/TALON-OUTDOORS-LOGO-FINAL-FULL-COLOR.jpg
END:VEVENT
BEGIN:VEVENT
DTSTART;TZID=UTC:20190418T190000
DTEND;TZID=UTC:20190418T203000
DTSTAMP:20260423T063159
CREATED:20180407T220633Z
LAST-MODIFIED:20180407T220633Z
UID:2035-1555614000-1555619400@www.talonrange.com
SUMMARY:Bowling Pin Match
DESCRIPTION:Every Thursday night at 7:00 P.M.\, weather and attendance permitting\, we host a Bowling Pin Shoot for our members and guests. \nOur weekly match consists of shooting five bowling pins off of one of our steel tables in each heat against another shooter. It is a double elimination bracket and most shooters tend to favor 45ACP or 10mm handguns to have the energy necessary to remove the pins quickly from the table. \nFeel free to call us before you plan to attend at 850-597-7550 and we will make sure to answer any questions or concerns you may have. \n 
URL:https://www.talonrange.com/event/bowling-pin-match-14-2019-04-18/
LOCATION:Talon Range\, 550 Commerce Blvd\, Midway\, FL\, 32343\, United States
CATEGORIES:Competitions
END:VEVENT
BEGIN:VEVENT
DTSTART;TZID=UTC:20190413T100000
DTEND;TZID=UTC:20190413T110000
DTSTAMP:20260423T063159
CREATED:20170629T182541Z
LAST-MODIFIED:20170629T182541Z
UID:1986-1555149600-1555153200@www.talonrange.com
SUMMARY:Talon Outdoors Show
DESCRIPTION:Talon Range presents the Talon Outdoors Show on WFLA 100.7 FM from 10 a.m. till 11 a.m. Listen on your radio or listen on our podcast channel anytime.
URL:https://www.talonrange.com/event/talon-outdoors-show-2018-04-14-2018-12-29-2019-04-13/
ATTACH;FMTTYPE=image/jpeg:https://www.talonrange.com/wp-content/uploads/2017/07/TALON-OUTDOORS-LOGO-FINAL-FULL-COLOR.jpg
END:VEVENT
BEGIN:VEVENT
DTSTART;TZID=UTC:20190411T190000
DTEND;TZID=UTC:20190411T203000
DTSTAMP:20260423T063159
CREATED:20180407T220633Z
LAST-MODIFIED:20180407T220633Z
UID:2034-1555009200-1555014600@www.talonrange.com
SUMMARY:Bowling Pin Match
DESCRIPTION:Every Thursday night at 7:00 P.M.\, weather and attendance permitting\, we host a Bowling Pin Shoot for our members and guests. \nOur weekly match consists of shooting five bowling pins off of one of our steel tables in each heat against another shooter. It is a double elimination bracket and most shooters tend to favor 45ACP or 10mm handguns to have the energy necessary to remove the pins quickly from the table. \nFeel free to call us before you plan to attend at 850-597-7550 and we will make sure to answer any questions or concerns you may have. \n 
URL:https://www.talonrange.com/event/bowling-pin-match-14-2019-04-11/
LOCATION:Talon Range\, 550 Commerce Blvd\, Midway\, FL\, 32343\, United States
CATEGORIES:Competitions
END:VEVENT
BEGIN:VEVENT
DTSTART;TZID=UTC:20190406T100000
DTEND;TZID=UTC:20190406T110000
DTSTAMP:20260423T063159
CREATED:20170629T182541Z
LAST-MODIFIED:20170629T182541Z
UID:1985-1554544800-1554548400@www.talonrange.com
SUMMARY:Talon Outdoors Show
DESCRIPTION:Talon Range presents the Talon Outdoors Show on WFLA 100.7 FM from 10 a.m. till 11 a.m. Listen on your radio or listen on our podcast channel anytime.
URL:https://www.talonrange.com/event/talon-outdoors-show-2018-04-14-2018-12-29-2019-04-06/
ATTACH;FMTTYPE=image/jpeg:https://www.talonrange.com/wp-content/uploads/2017/07/TALON-OUTDOORS-LOGO-FINAL-FULL-COLOR.jpg
END:VEVENT
BEGIN:VEVENT
DTSTART;TZID=UTC:20190404T190000
DTEND;TZID=UTC:20190404T203000
DTSTAMP:20260423T063159
CREATED:20180407T220633Z
LAST-MODIFIED:20180407T220633Z
UID:2033-1554404400-1554409800@www.talonrange.com
SUMMARY:Bowling Pin Match
DESCRIPTION:Every Thursday night at 7:00 P.M.\, weather and attendance permitting\, we host a Bowling Pin Shoot for our members and guests. \nOur weekly match consists of shooting five bowling pins off of one of our steel tables in each heat against another shooter. It is a double elimination bracket and most shooters tend to favor 45ACP or 10mm handguns to have the energy necessary to remove the pins quickly from the table. \nFeel free to call us before you plan to attend at 850-597-7550 and we will make sure to answer any questions or concerns you may have. \n 
URL:https://www.talonrange.com/event/bowling-pin-match-14-2019-04-04/
LOCATION:Talon Range\, 550 Commerce Blvd\, Midway\, FL\, 32343\, United States
CATEGORIES:Competitions
END:VEVENT
BEGIN:VEVENT
DTSTART;TZID=UTC:20190330T100000
DTEND;TZID=UTC:20190330T110000
DTSTAMP:20260423T063159
CREATED:20170629T182541Z
LAST-MODIFIED:20170629T182541Z
UID:1984-1553940000-1553943600@www.talonrange.com
SUMMARY:Talon Outdoors Show
DESCRIPTION:Talon Range presents the Talon Outdoors Show on WFLA 100.7 FM from 10 a.m. till 11 a.m. Listen on your radio or listen on our podcast channel anytime.
URL:https://www.talonrange.com/event/talon-outdoors-show-2018-04-14-2018-12-29-2019-03-30/
ATTACH;FMTTYPE=image/jpeg:https://www.talonrange.com/wp-content/uploads/2017/07/TALON-OUTDOORS-LOGO-FINAL-FULL-COLOR.jpg
END:VEVENT
BEGIN:VEVENT
DTSTART;TZID=UTC:20190328T190000
DTEND;TZID=UTC:20190328T203000
DTSTAMP:20260423T063159
CREATED:20180407T220633Z
LAST-MODIFIED:20180407T220633Z
UID:2032-1553799600-1553805000@www.talonrange.com
SUMMARY:Bowling Pin Match
DESCRIPTION:Every Thursday night at 7:00 P.M.\, weather and attendance permitting\, we host a Bowling Pin Shoot for our members and guests. \nOur weekly match consists of shooting five bowling pins off of one of our steel tables in each heat against another shooter. It is a double elimination bracket and most shooters tend to favor 45ACP or 10mm handguns to have the energy necessary to remove the pins quickly from the table. \nFeel free to call us before you plan to attend at 850-597-7550 and we will make sure to answer any questions or concerns you may have. \n 
URL:https://www.talonrange.com/event/bowling-pin-match-14-2019-03-28/
LOCATION:Talon Range\, 550 Commerce Blvd\, Midway\, FL\, 32343\, United States
CATEGORIES:Competitions
END:VEVENT
BEGIN:VEVENT
DTSTART;TZID=UTC:20190323T100000
DTEND;TZID=UTC:20190323T110000
DTSTAMP:20260423T063159
CREATED:20170629T182541Z
LAST-MODIFIED:20170629T182541Z
UID:1983-1553335200-1553338800@www.talonrange.com
SUMMARY:Talon Outdoors Show
DESCRIPTION:Talon Range presents the Talon Outdoors Show on WFLA 100.7 FM from 10 a.m. till 11 a.m. Listen on your radio or listen on our podcast channel anytime.
URL:https://www.talonrange.com/event/talon-outdoors-show-2018-04-14-2018-12-29-2019-03-23/
ATTACH;FMTTYPE=image/jpeg:https://www.talonrange.com/wp-content/uploads/2017/07/TALON-OUTDOORS-LOGO-FINAL-FULL-COLOR.jpg
END:VEVENT
BEGIN:VEVENT
DTSTART;TZID=UTC:20190323T083000
DTEND;TZID=UTC:20190323T123000
DTSTAMP:20260423T063159
CREATED:20171121T005553Z
LAST-MODIFIED:20181124T224751Z
UID:2175-1553329800-1553344200@www.talonrange.com
SUMMARY:IDPA Match
DESCRIPTION:The International Defensive Pistol Association (IDPA) is the governing body of a shooting sport that simulates self-defense scenarios and real life encounters.  One of the unique facets of this sport is that it is geared toward the new or average shooter\, yet is fun\, challenging and rewarding for the experienced shooter.
URL:https://www.talonrange.com/event/idpa-match-3-2019-03-23/
CATEGORIES:Competitions
ATTACH;FMTTYPE=image/png:https://www.talonrange.com/wp-content/uploads/2017/11/IDPA.png
END:VEVENT
BEGIN:VEVENT
DTSTART;TZID=UTC:20190321T190000
DTEND;TZID=UTC:20190321T203000
DTSTAMP:20260423T063159
CREATED:20180407T220633Z
LAST-MODIFIED:20180407T220633Z
UID:2031-1553194800-1553200200@www.talonrange.com
SUMMARY:Bowling Pin Match
DESCRIPTION:Every Thursday night at 7:00 P.M.\, weather and attendance permitting\, we host a Bowling Pin Shoot for our members and guests. \nOur weekly match consists of shooting five bowling pins off of one of our steel tables in each heat against another shooter. It is a double elimination bracket and most shooters tend to favor 45ACP or 10mm handguns to have the energy necessary to remove the pins quickly from the table. \nFeel free to call us before you plan to attend at 850-597-7550 and we will make sure to answer any questions or concerns you may have. \n 
URL:https://www.talonrange.com/event/bowling-pin-match-14-2019-03-21/
LOCATION:Talon Range\, 550 Commerce Blvd\, Midway\, FL\, 32343\, United States
CATEGORIES:Competitions
END:VEVENT
BEGIN:VEVENT
DTSTART;TZID=UTC:20190316T100000
DTEND;TZID=UTC:20190316T110000
DTSTAMP:20260423T063159
CREATED:20170629T182541Z
LAST-MODIFIED:20170629T182541Z
UID:1982-1552730400-1552734000@www.talonrange.com
SUMMARY:Talon Outdoors Show
DESCRIPTION:Talon Range presents the Talon Outdoors Show on WFLA 100.7 FM from 10 a.m. till 11 a.m. Listen on your radio or listen on our podcast channel anytime.
URL:https://www.talonrange.com/event/talon-outdoors-show-2018-04-14-2018-12-29-2019-03-16/
ATTACH;FMTTYPE=image/jpeg:https://www.talonrange.com/wp-content/uploads/2017/07/TALON-OUTDOORS-LOGO-FINAL-FULL-COLOR.jpg
END:VEVENT
BEGIN:VEVENT
DTSTART;TZID=UTC:20190314T190000
DTEND;TZID=UTC:20190314T203000
DTSTAMP:20260423T063159
CREATED:20180407T220633Z
LAST-MODIFIED:20180407T220633Z
UID:2030-1552590000-1552595400@www.talonrange.com
SUMMARY:Bowling Pin Match
DESCRIPTION:Every Thursday night at 7:00 P.M.\, weather and attendance permitting\, we host a Bowling Pin Shoot for our members and guests. \nOur weekly match consists of shooting five bowling pins off of one of our steel tables in each heat against another shooter. It is a double elimination bracket and most shooters tend to favor 45ACP or 10mm handguns to have the energy necessary to remove the pins quickly from the table. \nFeel free to call us before you plan to attend at 850-597-7550 and we will make sure to answer any questions or concerns you may have. \n 
URL:https://www.talonrange.com/event/bowling-pin-match-14-2019-03-14/
LOCATION:Talon Range\, 550 Commerce Blvd\, Midway\, FL\, 32343\, United States
CATEGORIES:Competitions
END:VEVENT
BEGIN:VEVENT
DTSTART;TZID=UTC:20190309T100000
DTEND;TZID=UTC:20190309T110000
DTSTAMP:20260423T063159
CREATED:20170629T182541Z
LAST-MODIFIED:20170629T182541Z
UID:1981-1552125600-1552129200@www.talonrange.com
SUMMARY:Talon Outdoors Show
DESCRIPTION:Talon Range presents the Talon Outdoors Show on WFLA 100.7 FM from 10 a.m. till 11 a.m. Listen on your radio or listen on our podcast channel anytime.
URL:https://www.talonrange.com/event/talon-outdoors-show-2018-04-14-2018-12-29-2019-03-09/
ATTACH;FMTTYPE=image/jpeg:https://www.talonrange.com/wp-content/uploads/2017/07/TALON-OUTDOORS-LOGO-FINAL-FULL-COLOR.jpg
END:VEVENT
BEGIN:VEVENT
DTSTART;TZID=UTC:20190307T190000
DTEND;TZID=UTC:20190307T203000
DTSTAMP:20260423T063159
CREATED:20180407T220633Z
LAST-MODIFIED:20180407T220633Z
UID:2029-1551985200-1551990600@www.talonrange.com
SUMMARY:Bowling Pin Match
DESCRIPTION:Every Thursday night at 7:00 P.M.\, weather and attendance permitting\, we host a Bowling Pin Shoot for our members and guests. \nOur weekly match consists of shooting five bowling pins off of one of our steel tables in each heat against another shooter. It is a double elimination bracket and most shooters tend to favor 45ACP or 10mm handguns to have the energy necessary to remove the pins quickly from the table. \nFeel free to call us before you plan to attend at 850-597-7550 and we will make sure to answer any questions or concerns you may have. \n 
URL:https://www.talonrange.com/event/bowling-pin-match-14-2019-03-07/
LOCATION:Talon Range\, 550 Commerce Blvd\, Midway\, FL\, 32343\, United States
CATEGORIES:Competitions
END:VEVENT
BEGIN:VEVENT
DTSTART;TZID=UTC:20190302T100000
DTEND;TZID=UTC:20190302T110000
DTSTAMP:20260423T063159
CREATED:20170629T182541Z
LAST-MODIFIED:20170629T182541Z
UID:1980-1551520800-1551524400@www.talonrange.com
SUMMARY:Talon Outdoors Show
DESCRIPTION:Talon Range presents the Talon Outdoors Show on WFLA 100.7 FM from 10 a.m. till 11 a.m. Listen on your radio or listen on our podcast channel anytime.
URL:https://www.talonrange.com/event/talon-outdoors-show-2018-04-14-2018-12-29-2019-03-02/
ATTACH;FMTTYPE=image/jpeg:https://www.talonrange.com/wp-content/uploads/2017/07/TALON-OUTDOORS-LOGO-FINAL-FULL-COLOR.jpg
END:VEVENT
BEGIN:VEVENT
DTSTART;TZID=UTC:20190228T190000
DTEND;TZID=UTC:20190228T203000
DTSTAMP:20260423T063159
CREATED:20180407T220633Z
LAST-MODIFIED:20180407T220633Z
UID:2028-1551380400-1551385800@www.talonrange.com
SUMMARY:Bowling Pin Match
DESCRIPTION:Every Thursday night at 7:00 P.M.\, weather and attendance permitting\, we host a Bowling Pin Shoot for our members and guests. \nOur weekly match consists of shooting five bowling pins off of one of our steel tables in each heat against another shooter. It is a double elimination bracket and most shooters tend to favor 45ACP or 10mm handguns to have the energy necessary to remove the pins quickly from the table. \nFeel free to call us before you plan to attend at 850-597-7550 and we will make sure to answer any questions or concerns you may have. \n 
URL:https://www.talonrange.com/event/bowling-pin-match-14-2019-02-28/
LOCATION:Talon Range\, 550 Commerce Blvd\, Midway\, FL\, 32343\, United States
CATEGORIES:Competitions
END:VEVENT
END:VCALENDAR