BEGIN:VCALENDAR
VERSION:2.0
PRODID:-//Talon Range &amp; Training - ECPv6.15.20//NONSGML v1.0//EN
CALSCALE:GREGORIAN
METHOD:PUBLISH
X-WR-CALNAME:Talon Range &amp; Training
X-ORIGINAL-URL:https://www.talonrange.com
X-WR-CALDESC:Events for Talon Range &amp; Training
REFRESH-INTERVAL;VALUE=DURATION:PT1H
X-Robots-Tag:noindex
X-PUBLISHED-TTL:PT1H
BEGIN:VTIMEZONE
TZID:UTC
BEGIN:STANDARD
TZOFFSETFROM:+0000
TZOFFSETTO:+0000
TZNAME:UTC
DTSTART:20180101T000000
END:STANDARD
END:VTIMEZONE
BEGIN:VEVENT
DTSTART;TZID=UTC:20191024T190000
DTEND;TZID=UTC:20191024T203000
DTSTAMP:20260423T055658
CREATED:20180407T220633Z
LAST-MODIFIED:20180407T220633Z
UID:2062-1571943600-1571949000@www.talonrange.com
SUMMARY:Bowling Pin Match
DESCRIPTION:Every Thursday night at 7:00 P.M.\, weather and attendance permitting\, we host a Bowling Pin Shoot for our members and guests. \nOur weekly match consists of shooting five bowling pins off of one of our steel tables in each heat against another shooter. It is a double elimination bracket and most shooters tend to favor 45ACP or 10mm handguns to have the energy necessary to remove the pins quickly from the table. \nFeel free to call us before you plan to attend at 850-597-7550 and we will make sure to answer any questions or concerns you may have. \n 
URL:https://www.talonrange.com/event/bowling-pin-match-14-2019-10-24/
LOCATION:Talon Range\, 550 Commerce Blvd\, Midway\, FL\, 32343\, United States
CATEGORIES:Competitions
END:VEVENT
BEGIN:VEVENT
DTSTART;TZID=UTC:20191017T190000
DTEND;TZID=UTC:20191017T203000
DTSTAMP:20260423T055658
CREATED:20180407T220633Z
LAST-MODIFIED:20180407T220633Z
UID:2061-1571338800-1571344200@www.talonrange.com
SUMMARY:Bowling Pin Match
DESCRIPTION:Every Thursday night at 7:00 P.M.\, weather and attendance permitting\, we host a Bowling Pin Shoot for our members and guests. \nOur weekly match consists of shooting five bowling pins off of one of our steel tables in each heat against another shooter. It is a double elimination bracket and most shooters tend to favor 45ACP or 10mm handguns to have the energy necessary to remove the pins quickly from the table. \nFeel free to call us before you plan to attend at 850-597-7550 and we will make sure to answer any questions or concerns you may have. \n 
URL:https://www.talonrange.com/event/bowling-pin-match-14-2019-10-17/
LOCATION:Talon Range\, 550 Commerce Blvd\, Midway\, FL\, 32343\, United States
CATEGORIES:Competitions
END:VEVENT
BEGIN:VEVENT
DTSTART;TZID=UTC:20191010T190000
DTEND;TZID=UTC:20191010T203000
DTSTAMP:20260423T055658
CREATED:20180407T220633Z
LAST-MODIFIED:20180407T220633Z
UID:2060-1570734000-1570739400@www.talonrange.com
SUMMARY:Bowling Pin Match
DESCRIPTION:Every Thursday night at 7:00 P.M.\, weather and attendance permitting\, we host a Bowling Pin Shoot for our members and guests. \nOur weekly match consists of shooting five bowling pins off of one of our steel tables in each heat against another shooter. It is a double elimination bracket and most shooters tend to favor 45ACP or 10mm handguns to have the energy necessary to remove the pins quickly from the table. \nFeel free to call us before you plan to attend at 850-597-7550 and we will make sure to answer any questions or concerns you may have. \n 
URL:https://www.talonrange.com/event/bowling-pin-match-14-2019-10-10/
LOCATION:Talon Range\, 550 Commerce Blvd\, Midway\, FL\, 32343\, United States
CATEGORIES:Competitions
END:VEVENT
BEGIN:VEVENT
DTSTART;TZID=UTC:20191005T080000
DTEND;TZID=UTC:20191005T120000
DTSTAMP:20260423T055658
CREATED:20170814T224300Z
LAST-MODIFIED:20190812T180104Z
UID:1898-1570262400-1570276800@www.talonrange.com
SUMMARY:Basic II
DESCRIPTION:This class covers more advanced subjects such as combat reloads\, drawing and shooting and positional shooting. This is a good second course for a shooter at any skill level. \nThese classes tend to be smaller and offer plenty of instruction from one of our lead trainers. We do not provide ammunition for this class but you can purchase it from the Pro Shop. This is a four-hour course.
URL:https://www.talonrange.com/event/basic-ii-2-2018-05-12/
LOCATION:FL
CATEGORIES:Class
ATTACH;FMTTYPE=image/jpeg:https://www.talonrange.com/wp-content/uploads/2017/08/basic2.jpg
END:VEVENT
BEGIN:VEVENT
DTSTART;TZID=UTC:20191003T190000
DTEND;TZID=UTC:20191003T203000
DTSTAMP:20260423T055658
CREATED:20180407T220633Z
LAST-MODIFIED:20180407T220633Z
UID:2059-1570129200-1570134600@www.talonrange.com
SUMMARY:Bowling Pin Match
DESCRIPTION:Every Thursday night at 7:00 P.M.\, weather and attendance permitting\, we host a Bowling Pin Shoot for our members and guests. \nOur weekly match consists of shooting five bowling pins off of one of our steel tables in each heat against another shooter. It is a double elimination bracket and most shooters tend to favor 45ACP or 10mm handguns to have the energy necessary to remove the pins quickly from the table. \nFeel free to call us before you plan to attend at 850-597-7550 and we will make sure to answer any questions or concerns you may have. \n 
URL:https://www.talonrange.com/event/bowling-pin-match-14-2019-10-03/
LOCATION:Talon Range\, 550 Commerce Blvd\, Midway\, FL\, 32343\, United States
CATEGORIES:Competitions
END:VEVENT
BEGIN:VEVENT
DTSTART;TZID=UTC:20190928T083000
DTEND;TZID=UTC:20190928T123000
DTSTAMP:20260423T055658
CREATED:20171121T005553Z
LAST-MODIFIED:20181124T224752Z
UID:2181-1569659400-1569673800@www.talonrange.com
SUMMARY:IDPA Match
DESCRIPTION:The International Defensive Pistol Association (IDPA) is the governing body of a shooting sport that simulates self-defense scenarios and real life encounters.  One of the unique facets of this sport is that it is geared toward the new or average shooter\, yet is fun\, challenging and rewarding for the experienced shooter.
URL:https://www.talonrange.com/event/idpa-match-3-2019-09-28/
LOCATION:FL
CATEGORIES:Competitions
ATTACH;FMTTYPE=image/png:https://www.talonrange.com/wp-content/uploads/2017/11/IDPA.png
END:VEVENT
BEGIN:VEVENT
DTSTART;TZID=UTC:20190928T080000
DTEND;TZID=UTC:20190929T170000
DTSTAMP:20260423T055658
CREATED:20190823T190308Z
LAST-MODIFIED:20190823T190308Z
UID:2547-1569657600-1569776400@www.talonrange.com
SUMMARY:Retro Wave Three Gun Competition
DESCRIPTION:The Retro Three Gun Match will be any 80’s childhood dream come true. For more information about what brought this style of competition to life visit our friends at The Truth About Guns here. For rules on the match just click here.
URL:https://www.talonrange.com/event/retro-wave-three-gun-competition/
LOCATION:Talon Range\, 550 Commerce Blvd\, Midway\, FL\, 32343\, United States
CATEGORIES:Competitions
ATTACH;FMTTYPE=image/jpeg:https://www.talonrange.com/wp-content/uploads/2019/08/Retro-Wave-Shooting-717x513.jpg
END:VEVENT
BEGIN:VEVENT
DTSTART;TZID=UTC:20190926T190000
DTEND;TZID=UTC:20190926T203000
DTSTAMP:20260423T055658
CREATED:20180407T220633Z
LAST-MODIFIED:20180407T220633Z
UID:2058-1569524400-1569529800@www.talonrange.com
SUMMARY:Bowling Pin Match
DESCRIPTION:Every Thursday night at 7:00 P.M.\, weather and attendance permitting\, we host a Bowling Pin Shoot for our members and guests. \nOur weekly match consists of shooting five bowling pins off of one of our steel tables in each heat against another shooter. It is a double elimination bracket and most shooters tend to favor 45ACP or 10mm handguns to have the energy necessary to remove the pins quickly from the table. \nFeel free to call us before you plan to attend at 850-597-7550 and we will make sure to answer any questions or concerns you may have. \n 
URL:https://www.talonrange.com/event/bowling-pin-match-14-2019-09-26/
LOCATION:Talon Range\, 550 Commerce Blvd\, Midway\, FL\, 32343\, United States
CATEGORIES:Competitions
END:VEVENT
BEGIN:VEVENT
DTSTART;TZID=UTC:20190919T190000
DTEND;TZID=UTC:20190919T203000
DTSTAMP:20260423T055658
CREATED:20180407T220633Z
LAST-MODIFIED:20180407T220633Z
UID:2057-1568919600-1568925000@www.talonrange.com
SUMMARY:Bowling Pin Match
DESCRIPTION:Every Thursday night at 7:00 P.M.\, weather and attendance permitting\, we host a Bowling Pin Shoot for our members and guests. \nOur weekly match consists of shooting five bowling pins off of one of our steel tables in each heat against another shooter. It is a double elimination bracket and most shooters tend to favor 45ACP or 10mm handguns to have the energy necessary to remove the pins quickly from the table. \nFeel free to call us before you plan to attend at 850-597-7550 and we will make sure to answer any questions or concerns you may have. \n 
URL:https://www.talonrange.com/event/bowling-pin-match-14-2019-09-19/
LOCATION:Talon Range\, 550 Commerce Blvd\, Midway\, FL\, 32343\, United States
CATEGORIES:Competitions
END:VEVENT
BEGIN:VEVENT
DTSTART;TZID=UTC:20190912T190000
DTEND;TZID=UTC:20190912T203000
DTSTAMP:20260423T055658
CREATED:20180407T220633Z
LAST-MODIFIED:20180407T220633Z
UID:2056-1568314800-1568320200@www.talonrange.com
SUMMARY:Bowling Pin Match
DESCRIPTION:Every Thursday night at 7:00 P.M.\, weather and attendance permitting\, we host a Bowling Pin Shoot for our members and guests. \nOur weekly match consists of shooting five bowling pins off of one of our steel tables in each heat against another shooter. It is a double elimination bracket and most shooters tend to favor 45ACP or 10mm handguns to have the energy necessary to remove the pins quickly from the table. \nFeel free to call us before you plan to attend at 850-597-7550 and we will make sure to answer any questions or concerns you may have. \n 
URL:https://www.talonrange.com/event/bowling-pin-match-14-2019-09-12/
LOCATION:Talon Range\, 550 Commerce Blvd\, Midway\, FL\, 32343\, United States
CATEGORIES:Competitions
END:VEVENT
BEGIN:VEVENT
DTSTART;TZID=UTC:20190905T190000
DTEND;TZID=UTC:20190905T203000
DTSTAMP:20260423T055658
CREATED:20180407T220633Z
LAST-MODIFIED:20180407T220633Z
UID:2055-1567710000-1567715400@www.talonrange.com
SUMMARY:Bowling Pin Match
DESCRIPTION:Every Thursday night at 7:00 P.M.\, weather and attendance permitting\, we host a Bowling Pin Shoot for our members and guests. \nOur weekly match consists of shooting five bowling pins off of one of our steel tables in each heat against another shooter. It is a double elimination bracket and most shooters tend to favor 45ACP or 10mm handguns to have the energy necessary to remove the pins quickly from the table. \nFeel free to call us before you plan to attend at 850-597-7550 and we will make sure to answer any questions or concerns you may have. \n 
URL:https://www.talonrange.com/event/bowling-pin-match-14-2019-09-05/
LOCATION:Talon Range\, 550 Commerce Blvd\, Midway\, FL\, 32343\, United States
CATEGORIES:Competitions
END:VEVENT
BEGIN:VEVENT
DTSTART;TZID=UTC:20190829T190000
DTEND;TZID=UTC:20190829T203000
DTSTAMP:20260423T055658
CREATED:20180407T220633Z
LAST-MODIFIED:20180407T220633Z
UID:2054-1567105200-1567110600@www.talonrange.com
SUMMARY:Bowling Pin Match
DESCRIPTION:Every Thursday night at 7:00 P.M.\, weather and attendance permitting\, we host a Bowling Pin Shoot for our members and guests. \nOur weekly match consists of shooting five bowling pins off of one of our steel tables in each heat against another shooter. It is a double elimination bracket and most shooters tend to favor 45ACP or 10mm handguns to have the energy necessary to remove the pins quickly from the table. \nFeel free to call us before you plan to attend at 850-597-7550 and we will make sure to answer any questions or concerns you may have. \n 
URL:https://www.talonrange.com/event/bowling-pin-match-14-2019-08-29/
LOCATION:Talon Range\, 550 Commerce Blvd\, Midway\, FL\, 32343\, United States
CATEGORIES:Competitions
END:VEVENT
BEGIN:VEVENT
DTSTART;TZID=UTC:20190824T083000
DTEND;TZID=UTC:20190824T123000
DTSTAMP:20260423T055658
CREATED:20171121T005553Z
LAST-MODIFIED:20181124T224752Z
UID:2180-1566635400-1566649800@www.talonrange.com
SUMMARY:IDPA Match
DESCRIPTION:The International Defensive Pistol Association (IDPA) is the governing body of a shooting sport that simulates self-defense scenarios and real life encounters.  One of the unique facets of this sport is that it is geared toward the new or average shooter\, yet is fun\, challenging and rewarding for the experienced shooter.
URL:https://www.talonrange.com/event/idpa-match-3-2019-08-24/
LOCATION:FL
CATEGORIES:Competitions
ATTACH;FMTTYPE=image/png:https://www.talonrange.com/wp-content/uploads/2017/11/IDPA.png
END:VEVENT
BEGIN:VEVENT
DTSTART;TZID=UTC:20190822T190000
DTEND;TZID=UTC:20190822T203000
DTSTAMP:20260423T055658
CREATED:20180407T220633Z
LAST-MODIFIED:20180407T220633Z
UID:2053-1566500400-1566505800@www.talonrange.com
SUMMARY:Bowling Pin Match
DESCRIPTION:Every Thursday night at 7:00 P.M.\, weather and attendance permitting\, we host a Bowling Pin Shoot for our members and guests. \nOur weekly match consists of shooting five bowling pins off of one of our steel tables in each heat against another shooter. It is a double elimination bracket and most shooters tend to favor 45ACP or 10mm handguns to have the energy necessary to remove the pins quickly from the table. \nFeel free to call us before you plan to attend at 850-597-7550 and we will make sure to answer any questions or concerns you may have. \n 
URL:https://www.talonrange.com/event/bowling-pin-match-14-2019-08-22/
LOCATION:Talon Range\, 550 Commerce Blvd\, Midway\, FL\, 32343\, United States
CATEGORIES:Competitions
END:VEVENT
BEGIN:VEVENT
DTSTART;TZID=UTC:20190815T190000
DTEND;TZID=UTC:20190815T203000
DTSTAMP:20260423T055658
CREATED:20180407T220633Z
LAST-MODIFIED:20180407T220633Z
UID:2052-1565895600-1565901000@www.talonrange.com
SUMMARY:Bowling Pin Match
DESCRIPTION:Every Thursday night at 7:00 P.M.\, weather and attendance permitting\, we host a Bowling Pin Shoot for our members and guests. \nOur weekly match consists of shooting five bowling pins off of one of our steel tables in each heat against another shooter. It is a double elimination bracket and most shooters tend to favor 45ACP or 10mm handguns to have the energy necessary to remove the pins quickly from the table. \nFeel free to call us before you plan to attend at 850-597-7550 and we will make sure to answer any questions or concerns you may have. \n 
URL:https://www.talonrange.com/event/bowling-pin-match-14-2019-08-15/
LOCATION:Talon Range\, 550 Commerce Blvd\, Midway\, FL\, 32343\, United States
CATEGORIES:Competitions
END:VEVENT
BEGIN:VEVENT
DTSTART;TZID=UTC:20190808T190000
DTEND;TZID=UTC:20190808T203000
DTSTAMP:20260423T055658
CREATED:20180407T220633Z
LAST-MODIFIED:20180407T220633Z
UID:2051-1565290800-1565296200@www.talonrange.com
SUMMARY:Bowling Pin Match
DESCRIPTION:Every Thursday night at 7:00 P.M.\, weather and attendance permitting\, we host a Bowling Pin Shoot for our members and guests. \nOur weekly match consists of shooting five bowling pins off of one of our steel tables in each heat against another shooter. It is a double elimination bracket and most shooters tend to favor 45ACP or 10mm handguns to have the energy necessary to remove the pins quickly from the table. \nFeel free to call us before you plan to attend at 850-597-7550 and we will make sure to answer any questions or concerns you may have. \n 
URL:https://www.talonrange.com/event/bowling-pin-match-14-2019-08-08/
LOCATION:Talon Range\, 550 Commerce Blvd\, Midway\, FL\, 32343\, United States
CATEGORIES:Competitions
END:VEVENT
BEGIN:VEVENT
DTSTART;TZID=UTC:20190801T190000
DTEND;TZID=UTC:20190801T203000
DTSTAMP:20260423T055658
CREATED:20180407T220633Z
LAST-MODIFIED:20180407T220633Z
UID:2050-1564686000-1564691400@www.talonrange.com
SUMMARY:Bowling Pin Match
DESCRIPTION:Every Thursday night at 7:00 P.M.\, weather and attendance permitting\, we host a Bowling Pin Shoot for our members and guests. \nOur weekly match consists of shooting five bowling pins off of one of our steel tables in each heat against another shooter. It is a double elimination bracket and most shooters tend to favor 45ACP or 10mm handguns to have the energy necessary to remove the pins quickly from the table. \nFeel free to call us before you plan to attend at 850-597-7550 and we will make sure to answer any questions or concerns you may have. \n 
URL:https://www.talonrange.com/event/bowling-pin-match-14-2019-08-01/
LOCATION:Talon Range\, 550 Commerce Blvd\, Midway\, FL\, 32343\, United States
CATEGORIES:Competitions
END:VEVENT
BEGIN:VEVENT
DTSTART;TZID=UTC:20190727T083000
DTEND;TZID=UTC:20190727T123000
DTSTAMP:20260423T055658
CREATED:20171121T005553Z
LAST-MODIFIED:20181124T224751Z
UID:2179-1564216200-1564230600@www.talonrange.com
SUMMARY:IDPA Match
DESCRIPTION:The International Defensive Pistol Association (IDPA) is the governing body of a shooting sport that simulates self-defense scenarios and real life encounters.  One of the unique facets of this sport is that it is geared toward the new or average shooter\, yet is fun\, challenging and rewarding for the experienced shooter.
URL:https://www.talonrange.com/event/idpa-match-3-2019-07-27/
LOCATION:FL
CATEGORIES:Competitions
ATTACH;FMTTYPE=image/png:https://www.talonrange.com/wp-content/uploads/2017/11/IDPA.png
END:VEVENT
BEGIN:VEVENT
DTSTART;TZID=UTC:20190725T190000
DTEND;TZID=UTC:20190725T203000
DTSTAMP:20260423T055658
CREATED:20180407T220633Z
LAST-MODIFIED:20180407T220633Z
UID:2049-1564081200-1564086600@www.talonrange.com
SUMMARY:Bowling Pin Match
DESCRIPTION:Every Thursday night at 7:00 P.M.\, weather and attendance permitting\, we host a Bowling Pin Shoot for our members and guests. \nOur weekly match consists of shooting five bowling pins off of one of our steel tables in each heat against another shooter. It is a double elimination bracket and most shooters tend to favor 45ACP or 10mm handguns to have the energy necessary to remove the pins quickly from the table. \nFeel free to call us before you plan to attend at 850-597-7550 and we will make sure to answer any questions or concerns you may have. \n 
URL:https://www.talonrange.com/event/bowling-pin-match-14-2019-07-25/
LOCATION:Talon Range\, 550 Commerce Blvd\, Midway\, FL\, 32343\, United States
CATEGORIES:Competitions
END:VEVENT
BEGIN:VEVENT
DTSTART;TZID=UTC:20190718T190000
DTEND;TZID=UTC:20190718T203000
DTSTAMP:20260423T055658
CREATED:20180407T220633Z
LAST-MODIFIED:20180407T220633Z
UID:2048-1563476400-1563481800@www.talonrange.com
SUMMARY:Bowling Pin Match
DESCRIPTION:Every Thursday night at 7:00 P.M.\, weather and attendance permitting\, we host a Bowling Pin Shoot for our members and guests. \nOur weekly match consists of shooting five bowling pins off of one of our steel tables in each heat against another shooter. It is a double elimination bracket and most shooters tend to favor 45ACP or 10mm handguns to have the energy necessary to remove the pins quickly from the table. \nFeel free to call us before you plan to attend at 850-597-7550 and we will make sure to answer any questions or concerns you may have. \n 
URL:https://www.talonrange.com/event/bowling-pin-match-14-2019-07-18/
LOCATION:Talon Range\, 550 Commerce Blvd\, Midway\, FL\, 32343\, United States
CATEGORIES:Competitions
END:VEVENT
BEGIN:VEVENT
DTSTART;TZID=UTC:20190711T190000
DTEND;TZID=UTC:20190711T203000
DTSTAMP:20260423T055658
CREATED:20180407T220633Z
LAST-MODIFIED:20180407T220633Z
UID:2047-1562871600-1562877000@www.talonrange.com
SUMMARY:Bowling Pin Match
DESCRIPTION:Every Thursday night at 7:00 P.M.\, weather and attendance permitting\, we host a Bowling Pin Shoot for our members and guests. \nOur weekly match consists of shooting five bowling pins off of one of our steel tables in each heat against another shooter. It is a double elimination bracket and most shooters tend to favor 45ACP or 10mm handguns to have the energy necessary to remove the pins quickly from the table. \nFeel free to call us before you plan to attend at 850-597-7550 and we will make sure to answer any questions or concerns you may have. \n 
URL:https://www.talonrange.com/event/bowling-pin-match-14-2019-07-11/
LOCATION:Talon Range\, 550 Commerce Blvd\, Midway\, FL\, 32343\, United States
CATEGORIES:Competitions
END:VEVENT
BEGIN:VEVENT
DTSTART;TZID=UTC:20190704T190000
DTEND;TZID=UTC:20190704T203000
DTSTAMP:20260423T055658
CREATED:20180407T220633Z
LAST-MODIFIED:20180407T220633Z
UID:2046-1562266800-1562272200@www.talonrange.com
SUMMARY:Bowling Pin Match
DESCRIPTION:Every Thursday night at 7:00 P.M.\, weather and attendance permitting\, we host a Bowling Pin Shoot for our members and guests. \nOur weekly match consists of shooting five bowling pins off of one of our steel tables in each heat against another shooter. It is a double elimination bracket and most shooters tend to favor 45ACP or 10mm handguns to have the energy necessary to remove the pins quickly from the table. \nFeel free to call us before you plan to attend at 850-597-7550 and we will make sure to answer any questions or concerns you may have. \n 
URL:https://www.talonrange.com/event/bowling-pin-match-14-2019-07-04/
LOCATION:Talon Range\, 550 Commerce Blvd\, Midway\, FL\, 32343\, United States
CATEGORIES:Competitions
END:VEVENT
BEGIN:VEVENT
DTSTART;TZID=UTC:20190627T190000
DTEND;TZID=UTC:20190627T203000
DTSTAMP:20260423T055658
CREATED:20180407T220633Z
LAST-MODIFIED:20180407T220633Z
UID:2045-1561662000-1561667400@www.talonrange.com
SUMMARY:Bowling Pin Match
DESCRIPTION:Every Thursday night at 7:00 P.M.\, weather and attendance permitting\, we host a Bowling Pin Shoot for our members and guests. \nOur weekly match consists of shooting five bowling pins off of one of our steel tables in each heat against another shooter. It is a double elimination bracket and most shooters tend to favor 45ACP or 10mm handguns to have the energy necessary to remove the pins quickly from the table. \nFeel free to call us before you plan to attend at 850-597-7550 and we will make sure to answer any questions or concerns you may have. \n 
URL:https://www.talonrange.com/event/bowling-pin-match-14-2019-06-27/
LOCATION:Talon Range\, 550 Commerce Blvd\, Midway\, FL\, 32343\, United States
CATEGORIES:Competitions
END:VEVENT
BEGIN:VEVENT
DTSTART;TZID=UTC:20190622T100000
DTEND;TZID=UTC:20190622T110000
DTSTAMP:20260423T055658
CREATED:20170629T182541Z
LAST-MODIFIED:20170629T182541Z
UID:1996-1561197600-1561201200@www.talonrange.com
SUMMARY:Talon Outdoors Show
DESCRIPTION:Talon Range presents the Talon Outdoors Show on WFLA 100.7 FM from 10 a.m. till 11 a.m. Listen on your radio or listen on our podcast channel anytime.
URL:https://www.talonrange.com/event/talon-outdoors-show-2018-04-14-2018-12-29-2019-06-22/
LOCATION:FL
ATTACH;FMTTYPE=image/jpeg:https://www.talonrange.com/wp-content/uploads/2017/07/TALON-OUTDOORS-LOGO-FINAL-FULL-COLOR.jpg
END:VEVENT
BEGIN:VEVENT
DTSTART;TZID=UTC:20190622T083000
DTEND;TZID=UTC:20190622T123000
DTSTAMP:20260423T055658
CREATED:20171121T005553Z
LAST-MODIFIED:20181124T224751Z
UID:2178-1561192200-1561206600@www.talonrange.com
SUMMARY:IDPA Match
DESCRIPTION:The International Defensive Pistol Association (IDPA) is the governing body of a shooting sport that simulates self-defense scenarios and real life encounters.  One of the unique facets of this sport is that it is geared toward the new or average shooter\, yet is fun\, challenging and rewarding for the experienced shooter.
URL:https://www.talonrange.com/event/idpa-match-3-2019-06-22/
LOCATION:FL
CATEGORIES:Competitions
ATTACH;FMTTYPE=image/png:https://www.talonrange.com/wp-content/uploads/2017/11/IDPA.png
END:VEVENT
BEGIN:VEVENT
DTSTART;TZID=UTC:20190620T190000
DTEND;TZID=UTC:20190620T203000
DTSTAMP:20260423T055658
CREATED:20180407T220633Z
LAST-MODIFIED:20180407T220633Z
UID:2044-1561057200-1561062600@www.talonrange.com
SUMMARY:Bowling Pin Match
DESCRIPTION:Every Thursday night at 7:00 P.M.\, weather and attendance permitting\, we host a Bowling Pin Shoot for our members and guests. \nOur weekly match consists of shooting five bowling pins off of one of our steel tables in each heat against another shooter. It is a double elimination bracket and most shooters tend to favor 45ACP or 10mm handguns to have the energy necessary to remove the pins quickly from the table. \nFeel free to call us before you plan to attend at 850-597-7550 and we will make sure to answer any questions or concerns you may have. \n 
URL:https://www.talonrange.com/event/bowling-pin-match-14-2019-06-20/
LOCATION:Talon Range\, 550 Commerce Blvd\, Midway\, FL\, 32343\, United States
CATEGORIES:Competitions
END:VEVENT
BEGIN:VEVENT
DTSTART;TZID=UTC:20190615T100000
DTEND;TZID=UTC:20190615T110000
DTSTAMP:20260423T055658
CREATED:20170629T182541Z
LAST-MODIFIED:20170629T182541Z
UID:1995-1560592800-1560596400@www.talonrange.com
SUMMARY:Talon Outdoors Show
DESCRIPTION:Talon Range presents the Talon Outdoors Show on WFLA 100.7 FM from 10 a.m. till 11 a.m. Listen on your radio or listen on our podcast channel anytime.
URL:https://www.talonrange.com/event/talon-outdoors-show-2018-04-14-2018-12-29-2019-06-15/
LOCATION:FL
ATTACH;FMTTYPE=image/jpeg:https://www.talonrange.com/wp-content/uploads/2017/07/TALON-OUTDOORS-LOGO-FINAL-FULL-COLOR.jpg
END:VEVENT
BEGIN:VEVENT
DTSTART;TZID=UTC:20190613T190000
DTEND;TZID=UTC:20190613T203000
DTSTAMP:20260423T055658
CREATED:20180407T220633Z
LAST-MODIFIED:20180407T220633Z
UID:2043-1560452400-1560457800@www.talonrange.com
SUMMARY:Bowling Pin Match
DESCRIPTION:Every Thursday night at 7:00 P.M.\, weather and attendance permitting\, we host a Bowling Pin Shoot for our members and guests. \nOur weekly match consists of shooting five bowling pins off of one of our steel tables in each heat against another shooter. It is a double elimination bracket and most shooters tend to favor 45ACP or 10mm handguns to have the energy necessary to remove the pins quickly from the table. \nFeel free to call us before you plan to attend at 850-597-7550 and we will make sure to answer any questions or concerns you may have. \n 
URL:https://www.talonrange.com/event/bowling-pin-match-14-2019-06-13/
LOCATION:Talon Range\, 550 Commerce Blvd\, Midway\, FL\, 32343\, United States
CATEGORIES:Competitions
END:VEVENT
BEGIN:VEVENT
DTSTART;TZID=UTC:20190608T100000
DTEND;TZID=UTC:20190608T110000
DTSTAMP:20260423T055658
CREATED:20170629T182541Z
LAST-MODIFIED:20170629T182541Z
UID:1994-1559988000-1559991600@www.talonrange.com
SUMMARY:Talon Outdoors Show
DESCRIPTION:Talon Range presents the Talon Outdoors Show on WFLA 100.7 FM from 10 a.m. till 11 a.m. Listen on your radio or listen on our podcast channel anytime.
URL:https://www.talonrange.com/event/talon-outdoors-show-2018-04-14-2018-12-29-2019-06-08/
LOCATION:FL
ATTACH;FMTTYPE=image/jpeg:https://www.talonrange.com/wp-content/uploads/2017/07/TALON-OUTDOORS-LOGO-FINAL-FULL-COLOR.jpg
END:VEVENT
BEGIN:VEVENT
DTSTART;TZID=UTC:20190606T190000
DTEND;TZID=UTC:20190606T203000
DTSTAMP:20260423T055658
CREATED:20180407T220633Z
LAST-MODIFIED:20180407T220633Z
UID:2042-1559847600-1559853000@www.talonrange.com
SUMMARY:Bowling Pin Match
DESCRIPTION:Every Thursday night at 7:00 P.M.\, weather and attendance permitting\, we host a Bowling Pin Shoot for our members and guests. \nOur weekly match consists of shooting five bowling pins off of one of our steel tables in each heat against another shooter. It is a double elimination bracket and most shooters tend to favor 45ACP or 10mm handguns to have the energy necessary to remove the pins quickly from the table. \nFeel free to call us before you plan to attend at 850-597-7550 and we will make sure to answer any questions or concerns you may have. \n 
URL:https://www.talonrange.com/event/bowling-pin-match-14-2019-06-06/
LOCATION:Talon Range\, 550 Commerce Blvd\, Midway\, FL\, 32343\, United States
CATEGORIES:Competitions
END:VEVENT
END:VCALENDAR