BEGIN:VCALENDAR
VERSION:2.0
PRODID:-//Talon Range &amp; Training - ECPv6.15.20//NONSGML v1.0//EN
CALSCALE:GREGORIAN
METHOD:PUBLISH
X-WR-CALNAME:Talon Range &amp; Training
X-ORIGINAL-URL:https://www.talonrange.com
X-WR-CALDESC:Events for Talon Range &amp; Training
REFRESH-INTERVAL;VALUE=DURATION:PT1H
X-Robots-Tag:noindex
X-PUBLISHED-TTL:PT1H
BEGIN:VTIMEZONE
TZID:UTC
BEGIN:STANDARD
TZOFFSETFROM:+0000
TZOFFSETTO:+0000
TZNAME:UTC
DTSTART:20190101T000000
END:STANDARD
END:VTIMEZONE
BEGIN:VEVENT
DTSTART;TZID=UTC:20200725T100000
DTEND;TZID=UTC:20200725T110000
DTSTAMP:20260422T175207
CREATED:20170629T182541Z
LAST-MODIFIED:20191214T020319Z
UID:1393-1595671200-1595674800@www.talonrange.com
SUMMARY:Talon Outdoors Show
DESCRIPTION:Talon Range presents the Talon Outdoors Show on WFLA 100.7 FM from 10 a.m. till 11 a.m. Listen on your radio or listen on our podcast channel anytime.
URL:https://www.talonrange.com/event/talon-outdoors-show-2018-04-14-2018-07-07/
LOCATION:FL
ATTACH;FMTTYPE=image/jpeg:https://www.talonrange.com/wp-content/uploads/2017/07/TALON-OUTDOORS-LOGO-FINAL-FULL-COLOR.jpg
END:VEVENT
BEGIN:VEVENT
DTSTART;TZID=UTC:20200718T100000
DTEND;TZID=UTC:20200718T110000
DTSTAMP:20260422T175207
CREATED:20170629T182541Z
LAST-MODIFIED:20191214T020253Z
UID:1392-1595066400-1595070000@www.talonrange.com
SUMMARY:Talon Outdoors Show
DESCRIPTION:Talon Range presents the Talon Outdoors Show on WFLA 100.7 FM from 10 a.m. till 11 a.m. Listen on your radio or listen on our podcast channel anytime.
URL:https://www.talonrange.com/event/talon-outdoors-show-2018-04-14-2018-06-30/
LOCATION:FL
ATTACH;FMTTYPE=image/jpeg:https://www.talonrange.com/wp-content/uploads/2017/07/TALON-OUTDOORS-LOGO-FINAL-FULL-COLOR.jpg
END:VEVENT
BEGIN:VEVENT
DTSTART;TZID=UTC:20200711T100000
DTEND;TZID=UTC:20200711T110000
DTSTAMP:20260422T175207
CREATED:20170629T182541Z
LAST-MODIFIED:20191214T020224Z
UID:1391-1594461600-1594465200@www.talonrange.com
SUMMARY:Talon Outdoors Show
DESCRIPTION:Talon Range presents the Talon Outdoors Show on WFLA 100.7 FM from 10 a.m. till 11 a.m. Listen on your radio or listen on our podcast channel anytime.
URL:https://www.talonrange.com/event/talon-outdoors-show-2018-04-14-2018-06-23/
LOCATION:FL
ATTACH;FMTTYPE=image/jpeg:https://www.talonrange.com/wp-content/uploads/2017/07/TALON-OUTDOORS-LOGO-FINAL-FULL-COLOR.jpg
END:VEVENT
BEGIN:VEVENT
DTSTART;TZID=UTC:20200704T100000
DTEND;TZID=UTC:20200704T110000
DTSTAMP:20260422T175207
CREATED:20170629T182541Z
LAST-MODIFIED:20191214T020150Z
UID:1390-1593856800-1593860400@www.talonrange.com
SUMMARY:Talon Outdoors Show
DESCRIPTION:Talon Range presents the Talon Outdoors Show on WFLA 100.7 FM from 10 a.m. till 11 a.m. Listen on your radio or listen on our podcast channel anytime.
URL:https://www.talonrange.com/event/talon-outdoors-show-2018-04-14-2018-06-16/
LOCATION:FL
ATTACH;FMTTYPE=image/jpeg:https://www.talonrange.com/wp-content/uploads/2017/07/TALON-OUTDOORS-LOGO-FINAL-FULL-COLOR.jpg
END:VEVENT
BEGIN:VEVENT
DTSTART;TZID=UTC:20200627T100000
DTEND;TZID=UTC:20200627T110000
DTSTAMP:20260422T175207
CREATED:20170629T182541Z
LAST-MODIFIED:20191214T015853Z
UID:1997-1593252000-1593255600@www.talonrange.com
SUMMARY:Talon Outdoors Show
DESCRIPTION:Talon Range presents the Talon Outdoors Show on WFLA 100.7 FM from 10 a.m. till 11 a.m. Listen on your radio or listen on our podcast channel anytime.
URL:https://www.talonrange.com/event/talon-outdoors-show-2018-04-14-2018-12-29-2019-06-29/
LOCATION:FL
ATTACH;FMTTYPE=image/jpeg:https://www.talonrange.com/wp-content/uploads/2017/07/TALON-OUTDOORS-LOGO-FINAL-FULL-COLOR.jpg
END:VEVENT
BEGIN:VEVENT
DTSTART;TZID=UTC:20200620T100000
DTEND;TZID=UTC:20200620T110000
DTSTAMP:20260422T175207
CREATED:20170629T182541Z
LAST-MODIFIED:20191214T014711Z
UID:1999-1592647200-1592650800@www.talonrange.com
SUMMARY:Talon Outdoors Show
DESCRIPTION:Talon Range presents the Talon Outdoors Show on WFLA 100.7 FM from 10 a.m. till 11 a.m. Listen on your radio or listen on our podcast channel anytime.
URL:https://www.talonrange.com/event/talon-outdoors-show-2018-04-14-2018-12-29-2019-07-13/
LOCATION:FL
ATTACH;FMTTYPE=image/jpeg:https://www.talonrange.com/wp-content/uploads/2017/07/TALON-OUTDOORS-LOGO-FINAL-FULL-COLOR.jpg
END:VEVENT
BEGIN:VEVENT
DTSTART;TZID=UTC:20200620T080000
DTEND;TZID=UTC:20200621T170000
DTSTAMP:20260422T175207
CREATED:20200212T001307Z
LAST-MODIFIED:20200212T001356Z
UID:2665-1592640000-1592758800@www.talonrange.com
SUMMARY:Combat Pistol with Don Edwards
DESCRIPTION:This course is for the individual who wants to learn to fight with their pistol.  Whether you are a citizen who exercises his right to carry concealed or a big city SWAT guy\, you will benefit from and enjoy these 2 intense days of pistol shooting.  You will learn to make effective hits on target under many conditions.  And\, as with all our courses\, leave prepared with the skills and confidence to prevail against the odds and return home safely. For more information or to register for this class visit Green Line Tactical at greenlinetactical.com
URL:https://www.talonrange.com/event/combat-pistol-with-don-edwards/
LOCATION:Talon Range\, 550 Commerce Blvd\, Midway\, FL\, 32343\, United States
CATEGORIES:Class
END:VEVENT
BEGIN:VEVENT
DTSTART;TZID=UTC:20200613T100000
DTEND;TZID=UTC:20200613T110000
DTSTAMP:20260422T175207
CREATED:20170629T182541Z
LAST-MODIFIED:20191214T015759Z
UID:1998-1592042400-1592046000@www.talonrange.com
SUMMARY:Talon Outdoors Show
DESCRIPTION:Talon Range presents the Talon Outdoors Show on WFLA 100.7 FM from 10 a.m. till 11 a.m. Listen on your radio or listen on our podcast channel anytime.
URL:https://www.talonrange.com/event/talon-outdoors-show-2018-04-14-2018-12-29-2019-07-06/
LOCATION:FL
ATTACH;FMTTYPE=image/jpeg:https://www.talonrange.com/wp-content/uploads/2017/07/TALON-OUTDOORS-LOGO-FINAL-FULL-COLOR.jpg
END:VEVENT
BEGIN:VEVENT
DTSTART;TZID=UTC:20200613T080000
DTEND;TZID=UTC:20200613T120000
DTSTAMP:20260422T175207
CREATED:20200107T045508Z
LAST-MODIFIED:20240104T193910Z
UID:2655-1592035200-1592049600@www.talonrange.com
SUMMARY:Reality Based Training (Force on Force)
DESCRIPTION:The Reality Based Training Course is a dynamic and immersive program designed to enhance participants’ tactical skills\, decision-making abilities\, and situational awareness in real-world scenarios. This course goes beyond traditional firearms training by incorporating realistic\, scenario-based simulations that replicate high-stress situations. Participants will engage in force-on-force exercises using non-lethal training ammunition\, providing a safe yet realistic environment for skill development. \nKey Learning Objectives: \n\nApplied Tactical Decision-Making:\n\nDevelop critical thinking skills for rapid decision-making in dynamic environments.\nEnhance situational awareness through scenario-based exercises.\n\n\nFirearms Handling and Marksmanship:\n\nRefine fundamental marksmanship skills under stress.\nPractice effective weapon manipulation techniques for close-quarters engagements.\n\n\nTeam Dynamics:\n\nFoster effective communication and coordination within a team.\nDevelop strategies for cohesive team responses to dynamic threats.\n\n\nScenario-Based Simulations:\n\nEngage in realistic force-on-force scenarios to apply learned skills in practical situations.\nReceive immediate feedback and debriefings for continuous improvement.\n\n\nStress Inoculation:\n\nExperience controlled stress exposure to improve performance under pressure.\nDevelop resilience and maintain focus during high-stress encounters.\n\n\nLegal and Ethical Considerations:\n\nUnderstand the legal implications of using force in self-defense.\nNavigate ethical dilemmas associated with the use of firearms in real-world scenarios.\n\n\nEquipment and Gear Selection:\n\nEvaluate and optimize personal gear for effective use in force-on-force scenarios.\nLearn about the latest advancements in training equipment and technology.\n\n\nAfter-Action Review (AAR):\n\nParticipate in comprehensive AAR sessions to analyze and learn from each scenario.\nReceive personalized feedback from instructors to enhance individual performance.\n\n\n\nCourse Format: The Firearms Force-on-Force Training Course is structured as a combination of classroom sessions\, live-fire drills\, and realistic force-on-force simulations. The course will culminate in a final scenario that integrates all learned skills and tactics. \nTarget Audience: This course is suitable for law enforcement professionals\, security personnel\, military personnel\, and responsible armed citizens who seek to enhance their tactical proficiency in realistic settings. \nPrerequisites: Participants must have a solid understanding of firearm safety\, basic marksmanship skills\, and a fundamental knowledge of firearm handling. This course is not suitable for beginners; participants should have completed a basic firearms safety course before enrolling. \nNote: This course emphasizes safety at all times\, and participants will be provided with protective gear for force-on-force exercises. Training ammunition will be utilized to ensure a safe and controlled learning environment. \n 
URL:https://www.talonrange.com/event/reality-based-training-force-on-force/
LOCATION:FL
CATEGORIES:Class,Range Events
END:VEVENT
BEGIN:VEVENT
DTSTART;TZID=UTC:20200612T080000
DTEND;TZID=UTC:20200614T170000
DTSTAMP:20260422T175207
CREATED:20180829T003548Z
LAST-MODIFIED:20191203T025510Z
UID:2270-1591948800-1592154000@www.talonrange.com
SUMMARY:Talon Defender Enhanced Training
DESCRIPTION:The Talon Defender Series is the most comprehensive pistol specific course that Talon offers. Consisting of three separate three day courses that will give the student 72 hours of informative and challenging instruction. Each class will build on the class before it and will end with a proficiency test. \nTalon Defender – Enhanced – $500.00 \n\nUniversal Laws of Self Defense\nProtector Mindset and Situational Awareness\nExtensive Work On Handgun Malfunction\nExtensive Work On Transitions\nIntroduction to Movement\nConcealed Carry Threat Engagement\nDealing with Aftermath\nReality Based Training
URL:https://www.talonrange.com/event/talon-defender-enhanced-training-2019-08-09/
LOCATION:550 Commerce Blvd\, Midway\, FL\, 32343\, United States
CATEGORIES:Class,Range Events
ATTACH;FMTTYPE=image/jpeg:https://www.talonrange.com/wp-content/uploads/2018/08/8945-Dave.jpg
END:VEVENT
BEGIN:VEVENT
DTSTART;TZID=UTC:20200606T100000
DTEND;TZID=UTC:20200606T110000
DTSTAMP:20260422T175207
CREATED:20170629T182541Z
LAST-MODIFIED:20191214T012800Z
UID:2000-1591437600-1591441200@www.talonrange.com
SUMMARY:Talon Outdoors Show
DESCRIPTION:Talon Range presents the Talon Outdoors Show on WFLA 100.7 FM from 10 a.m. till 11 a.m. Listen on your radio or listen on our podcast channel anytime.
URL:https://www.talonrange.com/event/talon-outdoors-show-2018-04-14-2018-12-29-2019-07-20/
LOCATION:FL
ATTACH;FMTTYPE=image/jpeg:https://www.talonrange.com/wp-content/uploads/2017/07/TALON-OUTDOORS-LOGO-FINAL-FULL-COLOR.jpg
END:VEVENT
BEGIN:VEVENT
DTSTART;TZID=UTC:20200530T100000
DTEND;TZID=UTC:20200530T110000
DTSTAMP:20260422T175207
CREATED:20170629T182541Z
LAST-MODIFIED:20191214T012635Z
UID:2001-1590832800-1590836400@www.talonrange.com
SUMMARY:Talon Outdoors Show
DESCRIPTION:Talon Range presents the Talon Outdoors Show on WFLA 100.7 FM from 10 a.m. till 11 a.m. Listen on your radio or listen on our podcast channel anytime.
URL:https://www.talonrange.com/event/talon-outdoors-show-2018-04-14-2018-12-29-2019-07-27/
LOCATION:FL
ATTACH;FMTTYPE=image/jpeg:https://www.talonrange.com/wp-content/uploads/2017/07/TALON-OUTDOORS-LOGO-FINAL-FULL-COLOR.jpg
END:VEVENT
BEGIN:VEVENT
DTSTART;TZID=UTC:20200523T100000
DTEND;TZID=UTC:20200523T110000
DTSTAMP:20260422T175207
CREATED:20170629T182541Z
LAST-MODIFIED:20191214T012511Z
UID:2002-1590228000-1590231600@www.talonrange.com
SUMMARY:Talon Outdoors Show
DESCRIPTION:Talon Range presents the Talon Outdoors Show on WFLA 100.7 FM from 10 a.m. till 11 a.m. Listen on your radio or listen on our podcast channel anytime.
URL:https://www.talonrange.com/event/talon-outdoors-show-2018-04-14-2018-12-29-2019-08-03/
LOCATION:FL
ATTACH;FMTTYPE=image/jpeg:https://www.talonrange.com/wp-content/uploads/2017/07/TALON-OUTDOORS-LOGO-FINAL-FULL-COLOR.jpg
END:VEVENT
BEGIN:VEVENT
DTSTART;TZID=UTC:20200516T100000
DTEND;TZID=UTC:20200516T110000
DTSTAMP:20260422T175207
CREATED:20170629T182541Z
LAST-MODIFIED:20191214T012352Z
UID:2003-1589623200-1589626800@www.talonrange.com
SUMMARY:Talon Outdoors Show
DESCRIPTION:Talon Range presents the Talon Outdoors Show on WFLA 100.7 FM from 10 a.m. till 11 a.m. Listen on your radio or listen on our podcast channel anytime.
URL:https://www.talonrange.com/event/talon-outdoors-show-2018-04-14-2018-12-29-2019-08-10/
LOCATION:FL
ATTACH;FMTTYPE=image/jpeg:https://www.talonrange.com/wp-content/uploads/2017/07/TALON-OUTDOORS-LOGO-FINAL-FULL-COLOR.jpg
END:VEVENT
BEGIN:VEVENT
DTSTART;TZID=UTC:20200509T100000
DTEND;TZID=UTC:20200509T110000
DTSTAMP:20260422T175207
CREATED:20170629T182541Z
LAST-MODIFIED:20191214T012226Z
UID:2004-1589018400-1589022000@www.talonrange.com
SUMMARY:Talon Outdoors Show
DESCRIPTION:Talon Range presents the Talon Outdoors Show on WFLA 100.7 FM from 10 a.m. till 11 a.m. Listen on your radio or listen on our podcast channel anytime.
URL:https://www.talonrange.com/event/talon-outdoors-show-2018-04-14-2018-12-29-2019-08-17/
LOCATION:FL
ATTACH;FMTTYPE=image/jpeg:https://www.talonrange.com/wp-content/uploads/2017/07/TALON-OUTDOORS-LOGO-FINAL-FULL-COLOR.jpg
END:VEVENT
BEGIN:VEVENT
DTSTART;TZID=UTC:20200502T100000
DTEND;TZID=UTC:20200502T110000
DTSTAMP:20260422T175207
CREATED:20170629T182541Z
LAST-MODIFIED:20191214T012114Z
UID:2005-1588413600-1588417200@www.talonrange.com
SUMMARY:Talon Outdoors Show
DESCRIPTION:Talon Range presents the Talon Outdoors Show on WFLA 100.7 FM from 10 a.m. till 11 a.m. Listen on your radio or listen on our podcast channel anytime.
URL:https://www.talonrange.com/event/talon-outdoors-show-2018-04-14-2018-12-29-2019-08-24/
LOCATION:FL
ATTACH;FMTTYPE=image/jpeg:https://www.talonrange.com/wp-content/uploads/2017/07/TALON-OUTDOORS-LOGO-FINAL-FULL-COLOR.jpg
END:VEVENT
BEGIN:VEVENT
DTSTART;TZID=UTC:20200425T100000
DTEND;TZID=UTC:20200425T110000
DTSTAMP:20260422T175207
CREATED:20170629T182541Z
LAST-MODIFIED:20191214T012022Z
UID:2006-1587808800-1587812400@www.talonrange.com
SUMMARY:Talon Outdoors Show
DESCRIPTION:Talon Range presents the Talon Outdoors Show on WFLA 100.7 FM from 10 a.m. till 11 a.m. Listen on your radio or listen on our podcast channel anytime.
URL:https://www.talonrange.com/event/talon-outdoors-show-2018-04-14-2018-12-29-2019-08-31/
LOCATION:FL
ATTACH;FMTTYPE=image/jpeg:https://www.talonrange.com/wp-content/uploads/2017/07/TALON-OUTDOORS-LOGO-FINAL-FULL-COLOR.jpg
END:VEVENT
BEGIN:VEVENT
DTSTART;TZID=UTC:20200418T100000
DTEND;TZID=UTC:20200418T110000
DTSTAMP:20260422T175207
CREATED:20170629T182541Z
LAST-MODIFIED:20191214T011950Z
UID:2007-1587204000-1587207600@www.talonrange.com
SUMMARY:Talon Outdoors Show
DESCRIPTION:Talon Range presents the Talon Outdoors Show on WFLA 100.7 FM from 10 a.m. till 11 a.m. Listen on your radio or listen on our podcast channel anytime.
URL:https://www.talonrange.com/event/talon-outdoors-show-2018-04-14-2018-12-29-2019-09-07/
LOCATION:FL
ATTACH;FMTTYPE=image/jpeg:https://www.talonrange.com/wp-content/uploads/2017/07/TALON-OUTDOORS-LOGO-FINAL-FULL-COLOR.jpg
END:VEVENT
BEGIN:VEVENT
DTSTART;TZID=UTC:20200411T100000
DTEND;TZID=UTC:20200411T110000
DTSTAMP:20260422T175207
CREATED:20170629T182541Z
LAST-MODIFIED:20191214T011857Z
UID:2008-1586599200-1586602800@www.talonrange.com
SUMMARY:Talon Outdoors Show
DESCRIPTION:Talon Range presents the Talon Outdoors Show on WFLA 100.7 FM from 10 a.m. till 11 a.m. Listen on your radio or listen on our podcast channel anytime.
URL:https://www.talonrange.com/event/talon-outdoors-show-2018-04-14-2018-12-29-2019-09-14/
LOCATION:FL
ATTACH;FMTTYPE=image/jpeg:https://www.talonrange.com/wp-content/uploads/2017/07/TALON-OUTDOORS-LOGO-FINAL-FULL-COLOR.jpg
END:VEVENT
BEGIN:VEVENT
DTSTART;TZID=UTC:20200404T100000
DTEND;TZID=UTC:20200404T110000
DTSTAMP:20260422T175207
CREATED:20170629T182541Z
LAST-MODIFIED:20191214T011810Z
UID:2009-1585994400-1585998000@www.talonrange.com
SUMMARY:Talon Outdoors Show
DESCRIPTION:Talon Range presents the Talon Outdoors Show on WFLA 100.7 FM from 10 a.m. till 11 a.m. Listen on your radio or listen on our podcast channel anytime.
URL:https://www.talonrange.com/event/talon-outdoors-show-2018-04-14-2018-12-29-2019-09-21/
LOCATION:FL
ATTACH;FMTTYPE=image/jpeg:https://www.talonrange.com/wp-content/uploads/2017/07/TALON-OUTDOORS-LOGO-FINAL-FULL-COLOR.jpg
END:VEVENT
BEGIN:VEVENT
DTSTART;TZID=UTC:20200328T100000
DTEND;TZID=UTC:20200328T110000
DTSTAMP:20260422T175207
CREATED:20170629T182541Z
LAST-MODIFIED:20191214T011714Z
UID:2010-1585389600-1585393200@www.talonrange.com
SUMMARY:Talon Outdoors Show
DESCRIPTION:Talon Range presents the Talon Outdoors Show on WFLA 100.7 FM from 10 a.m. till 11 a.m. Listen on your radio or listen on our podcast channel anytime.
URL:https://www.talonrange.com/event/talon-outdoors-show-2018-04-14-2018-12-29-2019-09-28/
LOCATION:FL
ATTACH;FMTTYPE=image/jpeg:https://www.talonrange.com/wp-content/uploads/2017/07/TALON-OUTDOORS-LOGO-FINAL-FULL-COLOR.jpg
END:VEVENT
BEGIN:VEVENT
DTSTART;TZID=UTC:20200328T083000
DTEND;TZID=UTC:20200328T123000
DTSTAMP:20260422T175207
CREATED:20171120T225533Z
LAST-MODIFIED:20191213T231428Z
UID:768-1585384200-1585398600@www.talonrange.com
SUMMARY:Basic II
DESCRIPTION:This class covers more advanced subjects such as combat reloads\, drawing and shooting and positional shooting. This is a good second course for a shooter at any skill level. \nThese classes tend to be smaller and offer plenty of instruction from one of our lead trainers. We do not provide ammunition for this class but you can purchase it from the Pro Shop at cost. This is a four-hour course.
URL:https://www.talonrange.com/event/basic-ii-3/
LOCATION:FL
CATEGORIES:Class
END:VEVENT
BEGIN:VEVENT
DTSTART;TZID=UTC:20200321T100000
DTEND;TZID=UTC:20200321T110000
DTSTAMP:20260422T175207
CREATED:20170629T182541Z
LAST-MODIFIED:20191214T011051Z
UID:2011-1584784800-1584788400@www.talonrange.com
SUMMARY:Talon Outdoors Show
DESCRIPTION:Talon Range presents the Talon Outdoors Show on WFLA 100.7 FM from 10 a.m. till 11 a.m. Listen on your radio or listen on our podcast channel anytime.
URL:https://www.talonrange.com/event/talon-outdoors-show-2018-04-14-2018-12-29-2019-10-05/
LOCATION:FL
ATTACH;FMTTYPE=image/jpeg:https://www.talonrange.com/wp-content/uploads/2017/07/TALON-OUTDOORS-LOGO-FINAL-FULL-COLOR.jpg
END:VEVENT
BEGIN:VEVENT
DTSTART;TZID=UTC:20200314T100000
DTEND;TZID=UTC:20200314T110000
DTSTAMP:20260422T175207
CREATED:20170817T232840Z
LAST-MODIFIED:20191214T005010Z
UID:654-1584180000-1584183600@www.talonrange.com
SUMMARY:Talon Outdoors Show
DESCRIPTION:Talon Range presents the Talon Outdoors Show on WFLA 100.7 FM from 10 a.m. till 11 a.m. Listen on your radio or listen on our podcast channel anytime .
URL:https://www.talonrange.com/event/talon-outdoors-show-8/
LOCATION:Talon Range\, 550 Commerce Blvd\, Midway\, FL\, 32343\, United States
ATTACH;FMTTYPE=image/jpeg:https://www.talonrange.com/wp-content/uploads/2017/07/TALON-OUTDOORS-LOGO-FINAL-FULL-COLOR.jpg
END:VEVENT
BEGIN:VEVENT
DTSTART;TZID=UTC:20200307T100000
DTEND;TZID=UTC:20200307T110000
DTSTAMP:20260422T175207
CREATED:20171005T221931Z
LAST-MODIFIED:20191214T004757Z
UID:707-1583575200-1583578800@www.talonrange.com
SUMMARY:Talon Outdoors Show
DESCRIPTION:Talon Range presents the Talon Outdoors Show on WFLA 100.7 FM from 10 a.m. till 11 a.m. Listen on your radio or listen on our podcast channel anytime .
URL:https://www.talonrange.com/event/talon-outdoors-show-9/
LOCATION:FL
ATTACH;FMTTYPE=image/jpeg:https://www.talonrange.com/wp-content/uploads/2017/07/TALON-OUTDOORS-LOGO-FINAL-FULL-COLOR.jpg
END:VEVENT
BEGIN:VEVENT
DTSTART;TZID=UTC:20200229T100000
DTEND;TZID=UTC:20200229T110000
DTSTAMP:20260422T175207
CREATED:20170629T182541Z
LAST-MODIFIED:20191214T004408Z
UID:2013-1582970400-1582974000@www.talonrange.com
SUMMARY:Talon Outdoors Show
DESCRIPTION:Talon Range presents the Talon Outdoors Show on WFLA 100.7 FM from 10 a.m. till 11 a.m. Listen on your radio or listen on our podcast channel anytime.
URL:https://www.talonrange.com/event/talon-outdoors-show-2018-04-14-2018-12-29-2019-10-19/
LOCATION:FL
ATTACH;FMTTYPE=image/jpeg:https://www.talonrange.com/wp-content/uploads/2017/07/TALON-OUTDOORS-LOGO-FINAL-FULL-COLOR.jpg
END:VEVENT
BEGIN:VEVENT
DTSTART;TZID=UTC:20200222T100000
DTEND;TZID=UTC:20200222T110000
DTSTAMP:20260422T175207
CREATED:20171014T140046Z
LAST-MODIFIED:20191214T004704Z
UID:652-1582365600-1582369200@www.talonrange.com
SUMMARY:Talon Outdoors Show
DESCRIPTION:Talon Range presents the Talon Outdoors Show on WFLA 100.7 FM from 10 a.m. till 11 a.m. Listen on your radio or listen on our podcast channel anytime .
URL:https://www.talonrange.com/event/talon-outdoors-show-5/
LOCATION:FL
ATTACH;FMTTYPE=image/jpeg:https://www.talonrange.com/wp-content/uploads/2017/07/TALON-OUTDOORS-LOGO-FINAL-FULL-COLOR.jpg
END:VEVENT
BEGIN:VEVENT
DTSTART;TZID=UTC:20200215T100000
DTEND;TZID=UTC:20200215T110000
DTSTAMP:20260422T175207
CREATED:20170629T182541Z
LAST-MODIFIED:20191214T004228Z
UID:2012-1581760800-1581764400@www.talonrange.com
SUMMARY:Talon Outdoors Show
DESCRIPTION:Talon Range presents the Talon Outdoors Show on WFLA 100.7 FM from 10 a.m. till 11 a.m. Listen on your radio or listen on our podcast channel anytime.
URL:https://www.talonrange.com/event/talon-outdoors-show-2018-04-14-2018-12-29-2019-10-12/
LOCATION:FL
ATTACH;FMTTYPE=image/jpeg:https://www.talonrange.com/wp-content/uploads/2017/07/TALON-OUTDOORS-LOGO-FINAL-FULL-COLOR.jpg
END:VEVENT
BEGIN:VEVENT
DTSTART;TZID=UTC:20200208T100000
DTEND;TZID=UTC:20200208T110000
DTSTAMP:20260422T175207
CREATED:20170629T182541Z
LAST-MODIFIED:20191214T004045Z
UID:2014-1581156000-1581159600@www.talonrange.com
SUMMARY:Talon Outdoors Show
DESCRIPTION:Talon Range presents the Talon Outdoors Show on WFLA 100.7 FM from 10 a.m. till 11 a.m. Listen on your radio or listen on our podcast channel anytime.
URL:https://www.talonrange.com/event/talon-outdoors-show-2018-04-14-2018-12-29-2019-10-26/
LOCATION:FL
ATTACH;FMTTYPE=image/jpeg:https://www.talonrange.com/wp-content/uploads/2017/07/TALON-OUTDOORS-LOGO-FINAL-FULL-COLOR.jpg
END:VEVENT
BEGIN:VEVENT
DTSTART;TZID=UTC:20200201T100000
DTEND;TZID=UTC:20200201T110000
DTSTAMP:20260422T175207
CREATED:20170629T182541Z
LAST-MODIFIED:20191214T003511Z
UID:2015-1580551200-1580554800@www.talonrange.com
SUMMARY:Talon Outdoors Show
DESCRIPTION:Talon Range presents the Talon Outdoors Show on WFLA 100.7 FM from 10 a.m. till 11 a.m. Listen on your radio or listen on our podcast channel anytime.
URL:https://www.talonrange.com/event/talon-outdoors-show-2018-04-14-2018-12-29-2019-11-02/
LOCATION:FL
ATTACH;FMTTYPE=image/jpeg:https://www.talonrange.com/wp-content/uploads/2017/07/TALON-OUTDOORS-LOGO-FINAL-FULL-COLOR.jpg
END:VEVENT
END:VCALENDAR