BEGIN:VCALENDAR
VERSION:2.0
PRODID:-//Talon Range &amp; Training - ECPv6.15.20//NONSGML v1.0//EN
CALSCALE:GREGORIAN
METHOD:PUBLISH
X-ORIGINAL-URL:https://www.talonrange.com
X-WR-CALDESC:Events for Talon Range &amp; Training
REFRESH-INTERVAL;VALUE=DURATION:PT1H
X-Robots-Tag:noindex
X-PUBLISHED-TTL:PT1H
BEGIN:VTIMEZONE
TZID:America/New_York
BEGIN:DAYLIGHT
TZOFFSETFROM:-0500
TZOFFSETTO:-0400
TZNAME:EDT
DTSTART:20240310T070000
END:DAYLIGHT
BEGIN:STANDARD
TZOFFSETFROM:-0400
TZOFFSETTO:-0500
TZNAME:EST
DTSTART:20241103T060000
END:STANDARD
BEGIN:DAYLIGHT
TZOFFSETFROM:-0500
TZOFFSETTO:-0400
TZNAME:EDT
DTSTART:20250309T070000
END:DAYLIGHT
BEGIN:STANDARD
TZOFFSETFROM:-0400
TZOFFSETTO:-0500
TZNAME:EST
DTSTART:20251102T060000
END:STANDARD
BEGIN:DAYLIGHT
TZOFFSETFROM:-0500
TZOFFSETTO:-0400
TZNAME:EDT
DTSTART:20260308T070000
END:DAYLIGHT
BEGIN:STANDARD
TZOFFSETFROM:-0400
TZOFFSETTO:-0500
TZNAME:EST
DTSTART:20261101T060000
END:STANDARD
END:VTIMEZONE
BEGIN:VEVENT
DTSTART;TZID=America/New_York:20250510T080000
DTEND;TZID=America/New_York:20250510T170000
DTSTAMP:20260419T111825
CREATED:20230622T153951Z
LAST-MODIFIED:20241211T210856Z
UID:3251-1746864000-1746896400@www.talonrange.com
SUMMARY:Red Dot Hand Gun
DESCRIPTION:Join Talon Training Lead Instructors John Rasmussen and Avery Tubbs for a 1-day class introducing you to the handgun mounted red dot sight. In this class we’ll cover: \n-Red dot sight components and equipment selection\n-Proper zeroing\n-Red dot sight theory and why it is (or can be) a superior sighting method\n-How to properly train with and use a red dot sight for recreational\, competitive and self\ndefense use\, and much more \nClass requirements: \nWhile this is an introductory class on red dots\, it is not a class for beginner\nshooters. Shooters should already be proficient and safe with a handgun. This is an intermediate class designed to make you faster\, more accurate and more proficient with a handgun. \nThis class will require a safe handgun with a red dot sight (9mm or larger is preferred\, but a rimfire handgun is acceptable)\, 500 rounds of ammunition\, 3 magazines\, a holster that covers the trigger\, a magazine pouch\, eye and ear protection.
URL:https://www.talonrange.com/event/red-dot-hand-gun/
LOCATION:Talon Range\, 550 Commerce Blvd\, Midway\, FL\, 32343\, United States
CATEGORIES:Class
ATTACH;FMTTYPE=image/jpeg:https://www.talonrange.com/wp-content/uploads/2023/06/3UD6zp.jpg
END:VEVENT
END:VCALENDAR