BEGIN:VCALENDAR
VERSION:2.0
PRODID:-//Talon Range &amp; Training - ECPv6.15.20//NONSGML v1.0//EN
CALSCALE:GREGORIAN
METHOD:PUBLISH
X-ORIGINAL-URL:https://www.talonrange.com
X-WR-CALDESC:Events for Talon Range &amp; Training
REFRESH-INTERVAL;VALUE=DURATION:PT1H
X-Robots-Tag:noindex
X-PUBLISHED-TTL:PT1H
BEGIN:VTIMEZONE
TZID:UTC
BEGIN:STANDARD
TZOFFSETFROM:+0000
TZOFFSETTO:+0000
TZNAME:UTC
DTSTART:20220101T000000
END:STANDARD
END:VTIMEZONE
BEGIN:VTIMEZONE
TZID:America/New_York
BEGIN:DAYLIGHT
TZOFFSETFROM:-0500
TZOFFSETTO:-0400
TZNAME:EDT
DTSTART:20220313T070000
END:DAYLIGHT
BEGIN:STANDARD
TZOFFSETFROM:-0400
TZOFFSETTO:-0500
TZNAME:EST
DTSTART:20221106T060000
END:STANDARD
BEGIN:DAYLIGHT
TZOFFSETFROM:-0500
TZOFFSETTO:-0400
TZNAME:EDT
DTSTART:20230312T070000
END:DAYLIGHT
BEGIN:STANDARD
TZOFFSETFROM:-0400
TZOFFSETTO:-0500
TZNAME:EST
DTSTART:20231105T060000
END:STANDARD
BEGIN:DAYLIGHT
TZOFFSETFROM:-0500
TZOFFSETTO:-0400
TZNAME:EDT
DTSTART:20240310T070000
END:DAYLIGHT
BEGIN:STANDARD
TZOFFSETFROM:-0400
TZOFFSETTO:-0500
TZNAME:EST
DTSTART:20241103T060000
END:STANDARD
END:VTIMEZONE
BEGIN:VEVENT
DTSTART;TZID=UTC:20231216T080000
DTEND;TZID=UTC:20231217T170000
DTSTAMP:20260424T141723
CREATED:20201219T015339Z
LAST-MODIFIED:20221221T164026Z
UID:2879-1702713600-1702832400@www.talonrange.com
SUMMARY:Talon Defender Professional (450) Recertifications
DESCRIPTION:The Defender Recertification Course is designed for students who have completed the Talon Defender Series of classes and would like to maintain follow on training. During this two day class students will be given updates on laws and statutes that may have changed\, lessons learned by the training staff as well as any updates to prehospital medical care. \nTalon Defender – Professional Recertification \n\nAdvanced Review\nRefresher on Malfunctions and Transitions\nThreat Engagement with Team Concepts\nAdditional work on movement drills including surreptitious movement\nLow Light Threat Engagement\nTrauma Care Proficiency\nSelf Aid/ Buddy Aid\nFamily Protection TechniquesRequired Gear\n\nAt least 500 rounds of handgun ammunition per class\nAt least 3 magazines (4-5 mags/speed loaders if low capacity handgun.)\nAt least one Concealable handgun with Concealable method of carry\nA Handheld Light\nWet/Cold  weather gear depending on the season\nBlack Permanent Marker\nNote Taking Gear\nHearing and Eye Protection\n\n\n\n 
URL:https://www.talonrange.com/event/talon-defender-professional-450-recertifications/
LOCATION:Talon Range\, 550 Commerce Blvd\, Midway\, FL\, 32343\, United States
CATEGORIES:Class
END:VEVENT
BEGIN:VEVENT
DTSTART;TZID=America/New_York:20231216T090000
DTEND;TZID=America/New_York:20231216T160000
DTSTAMP:20260424T141723
CREATED:20221130T220040Z
LAST-MODIFIED:20231114T210752Z
UID:3120-1702717200-1702742400@www.talonrange.com
SUMMARY:(Dothan) Intro to Handgun/Defensive Pistol
DESCRIPTION:This is an introduction to the new shooter designed to familiarize the student with the use of a handgun\, carry methods\, and legal issues regarding self defense.  This course includes scenario based education\, safely handling a pistol\, selection of ammunition\, basic operation\, live fire on a range\, and much more. The price includes lunch and a Talon Range T-shirt.  This is an all day class hosted at the Talon Range of Dothan and taught by trained law enforcement professionals.  This course includes handgun use\, ammunition for our student guns and a chance to shoot our rental guns at the end of the course.
URL:https://www.talonrange.com/event/dothan-intro-to-handgun-defensive-pistol-4/
LOCATION:Talon Range of Dothan\, 372 Co Rd 560\, Midland City\, AL\, 36350\, United States
CATEGORIES:Class
ATTACH;FMTTYPE=image/jpeg:https://www.talonrange.com/wp-content/uploads/2022/11/rangeinstructor.jpg
END:VEVENT
END:VCALENDAR